BEGIN:VCALENDAR
VERSION:2.0
PRODID:-//Ateneo Mercantil de Valencia - ECPv6.0.4//NONSGML v1.0//EN
CALSCALE:GREGORIAN
METHOD:PUBLISH
X-WR-CALNAME:Ateneo Mercantil de Valencia
X-ORIGINAL-URL:https://historico.ateneovalencia.es
X-WR-CALDESC:Eventos para Ateneo Mercantil de Valencia
REFRESH-INTERVAL;VALUE=DURATION:PT1H
X-Robots-Tag:noindex
X-PUBLISHED-TTL:PT1H
BEGIN:VTIMEZONE
TZID:Europe/Madrid
BEGIN:DAYLIGHT
TZOFFSETFROM:+0100
TZOFFSETTO:+0200
TZNAME:CEST
DTSTART:20200329T010000
END:DAYLIGHT
BEGIN:STANDARD
TZOFFSETFROM:+0200
TZOFFSETTO:+0100
TZNAME:CET
DTSTART:20201025T010000
END:STANDARD
END:VTIMEZONE
BEGIN:VEVENT
DTSTART;TZID=Europe/Madrid:20200109T190000
DTEND;TZID=Europe/Madrid:20200109T213000
DTSTAMP:20260423T060716
CREATED:20190916T144426Z
LAST-MODIFIED:20190916T144426Z
UID:50939-1578596400-1578605400@historico.ateneovalencia.es
SUMMARY:Historia de la Ideas Políticas: 'Benjamin Constant y la libertad política’
DESCRIPTION:El segundo Seminario de Historia de las Ideas Políticas ya es una realidad. En la cuarta de las sesiones se hablará de 'Benjamin Constant y la libertad política’ y contará como relator al Prof. Dr. Antonio Lastra y como ponente al Dr. Gillermo Gómez-Ferrer Lozano. La sesión será el próximo 9 de enero a las 19 horas en el Ateneo Mercantil de Valencia. \nEn 1819 se dio uno de los más apasionados discursos en defensa de la libertad política. Lo pronunció Benjamin Constant de Rebecque en el Ateneo de París con el título "De la libertad de los antiguos comparada con la de los modernos". Aquel discurso pronunciado pretendía llamar la atención sobre el concepto de libertad\, una palabra usada desde las revoluciones inglesas (s. XVII) y que se consagró en la Revolución Francesa. \nCartel:
URL:https://historico.ateneovalencia.es/evento/historia-de-la-ideas-politicas-benjamin-constant-y-la-libertad-politica/
LOCATION:Sala de Juntas - Ateneo Mercantil de Valencia\, Plaza del Ayuntamiento 18\, Valencia\, Valencia\, 46002\, España
CATEGORIES:Historia de las Ideas Políticas
ATTACH;FMTTYPE=image/jpeg:https://historico.ateneovalencia.es/wp-content/uploads/2019/09/20200109-Ideas-Politicas-Benjamin-Constant.jpg
END:VEVENT
END:VCALENDAR