BEGIN:VCALENDAR
VERSION:2.0
PRODID:-//Ateneo Mercantil de Valencia - ECPv6.0.4//NONSGML v1.0//EN
CALSCALE:GREGORIAN
METHOD:PUBLISH
X-ORIGINAL-URL:https://historico.ateneovalencia.es
X-WR-CALDESC:Eventos para Ateneo Mercantil de Valencia
REFRESH-INTERVAL;VALUE=DURATION:PT1H
X-Robots-Tag:noindex
X-PUBLISHED-TTL:PT1H
BEGIN:VTIMEZONE
TZID:Europe/Madrid
BEGIN:DAYLIGHT
TZOFFSETFROM:+0100
TZOFFSETTO:+0200
TZNAME:CEST
DTSTART:20190331T010000
END:DAYLIGHT
BEGIN:STANDARD
TZOFFSETFROM:+0200
TZOFFSETTO:+0100
TZNAME:CET
DTSTART:20191027T010000
END:STANDARD
END:VTIMEZONE
BEGIN:VEVENT
DTSTART;TZID=Europe/Madrid:20190124T190000
DTEND;TZID=Europe/Madrid:20190124T210000
DTSTAMP:20260423T235538
CREATED:20180727T092847Z
LAST-MODIFIED:20190123T124835Z
UID:37567-1548356400-1548363600@historico.ateneovalencia.es
SUMMARY:Historia de las Ideas Políticas: "Escritura constitucional y desobediencia civil"
DESCRIPTION:Sede: Universidad Católica de Valencia \n“Escritura constitucional y desobediencia civil”\nLectura guiada: "Discurso de Gettysburg" de Abraham Lincoln y "Desobediencia civil" de Henry David Thoreau \nPonencia a cargo del profesor Dr. Antonio Lastra \nRelator: Profesor Dr. José Alfredo Peris \nMatrícula para todo el Seminario (Inscripción en la UCV)\n— Con certificación académica (20 horas lectivas equivalentes a 2 créditos ECTS) | 80 €  - 60 € para socios del Ateneo. \n— Sin certificación académica | 50 € - 30 € para socios del Ateneo.
URL:https://historico.ateneovalencia.es/evento/ideas-politicas-escritura-constitucional-y-desobediencia-civil/
LOCATION:Universidad Católica de Valencia\, Jorge Juan\, 18\, Valencia\, Valencia\, 46001\, España
CATEGORIES:Historia de las Ideas Políticas
ATTACH;FMTTYPE=image/jpeg:https://historico.ateneovalencia.es/wp-content/uploads/2018/07/20190124-Historia-Ideas-Politicas-Escritura-Constitucional-y-Desobediencia-Civil.jpg
END:VEVENT
END:VCALENDAR