BEGIN:VCALENDAR
VERSION:2.0
PRODID:-//Ateneo Mercantil de Valencia - ECPv6.0.4//NONSGML v1.0//EN
CALSCALE:GREGORIAN
METHOD:PUBLISH
X-WR-CALNAME:Ateneo Mercantil de Valencia
X-ORIGINAL-URL:https://historico.ateneovalencia.es
X-WR-CALDESC:Eventos para Ateneo Mercantil de Valencia
REFRESH-INTERVAL;VALUE=DURATION:PT1H
X-Robots-Tag:noindex
X-PUBLISHED-TTL:PT1H
BEGIN:VTIMEZONE
TZID:Europe/Madrid
BEGIN:DAYLIGHT
TZOFFSETFROM:+0100
TZOFFSETTO:+0200
TZNAME:CEST
DTSTART:20180325T010000
END:DAYLIGHT
BEGIN:STANDARD
TZOFFSETFROM:+0200
TZOFFSETTO:+0100
TZNAME:CET
DTSTART:20181028T010000
END:STANDARD
END:VTIMEZONE
BEGIN:VEVENT
DTSTART;TZID=Europe/Madrid:20181122T190000
DTEND;TZID=Europe/Madrid:20181122T210000
DTSTAMP:20260424T083121
CREATED:20180727T080256Z
LAST-MODIFIED:20180727T111554Z
UID:37556-1542913200-1542920400@historico.ateneovalencia.es
SUMMARY:Historia de las Ideas Políticas: "La vía romana"
DESCRIPTION:Sede: Ateneo Mercantil de Valencia \n“La vía romana”\nLectura guiada: "República" de Cicerón (Libro VI\, Somnium Scipionis) \nPonencia a cargo del profesor Dr. Antonio Lastra \nRelatora: Profesora Dra. Sara Martínez Mares \nMatrícula para todo el Seminario (Inscripción en la UCV)\n— Con certificación académica (20 horas lectivas equivalentes a 2 créditos ECTS) | 80 €  - 60 € para socios del Ateneo. \n— Sin certificación académica | 50 € - 30 € para socios del Ateneo.
URL:https://historico.ateneovalencia.es/evento/historia-de-las-ideas-politicas-la-via-romana/
LOCATION:Sala de Juntas - Ateneo Mercantil de Valencia\, Plaza del Ayuntamiento 18\, Valencia\, Valencia\, 46002\, España
CATEGORIES:Historia de las Ideas Políticas
ATTACH;FMTTYPE=image/jpeg:https://historico.ateneovalencia.es/wp-content/uploads/2018/07/20181122-Ideas-Politicas-La-via-romana-La-Republica-Ciceron.jpg
END:VEVENT
END:VCALENDAR