BEGIN:VCALENDAR
VERSION:2.0
PRODID:-//Ateneo Mercantil de Valencia - ECPv6.0.4//NONSGML v1.0//EN
CALSCALE:GREGORIAN
METHOD:PUBLISH
X-ORIGINAL-URL:https://historico.ateneovalencia.es
X-WR-CALDESC:Eventos para Ateneo Mercantil de Valencia
REFRESH-INTERVAL;VALUE=DURATION:PT1H
X-Robots-Tag:noindex
X-PUBLISHED-TTL:PT1H
BEGIN:VTIMEZONE
TZID:Europe/Madrid
BEGIN:DAYLIGHT
TZOFFSETFROM:+0100
TZOFFSETTO:+0200
TZNAME:CEST
DTSTART:20180325T010000
END:DAYLIGHT
BEGIN:STANDARD
TZOFFSETFROM:+0200
TZOFFSETTO:+0100
TZNAME:CET
DTSTART:20181028T010000
END:STANDARD
END:VTIMEZONE
BEGIN:VEVENT
DTSTART;TZID=Europe/Madrid:20181115T190000
DTEND;TZID=Europe/Madrid:20181115T210000
DTSTAMP:20260424T083220
CREATED:20180727T075600Z
LAST-MODIFIED:20181107T082411Z
UID:37548-1542308400-1542315600@historico.ateneovalencia.es
SUMMARY:Historia de las Ideas Políticas: “No esperes la República de Platón”
DESCRIPTION:Sede: Universidad Católica de Valencia \n“No esperes la República de Platón”\nLectura guiada de la "República" de Platón \nPonencia a cargo del profesor Dr. Antonio Lastra \nRelator: El profesor Dr. Ginés Marco \nMatrícula para todo el Seminario (Inscripción en la UCV)\n— Con certificación académica (20 horas lectivas equivalentes a 2 créditos ECTS) | 80 €  - 60 € para socios del Ateneo. \n— Sin certificación académica | 50 € - 30 € para socios del Ateneo.
URL:https://historico.ateneovalencia.es/evento/historia-de-las-ideas-politicas-no-esperes-la-republica-de-platon/
LOCATION:Universidad Católica de Valencia\, Jorge Juan\, 18\, Valencia\, Valencia\, 46001\, España
CATEGORIES:Historia de las Ideas Políticas
ATTACH;FMTTYPE=image/jpeg:https://historico.ateneovalencia.es/wp-content/uploads/2018/07/20181108-Ideas-Politicas-Republica-de-Platon.jpg
END:VEVENT
END:VCALENDAR