BEGIN:VCALENDAR
VERSION:2.0
PRODID:-//Ateneo Mercantil de Valencia - ECPv6.0.4//NONSGML v1.0//EN
CALSCALE:GREGORIAN
METHOD:PUBLISH
X-WR-CALNAME:Ateneo Mercantil de Valencia
X-ORIGINAL-URL:https://historico.ateneovalencia.es
X-WR-CALDESC:Eventos para Ateneo Mercantil de Valencia
REFRESH-INTERVAL;VALUE=DURATION:PT1H
X-Robots-Tag:noindex
X-PUBLISHED-TTL:PT1H
BEGIN:VTIMEZONE
TZID:Europe/Madrid
BEGIN:DAYLIGHT
TZOFFSETFROM:+0100
TZOFFSETTO:+0200
TZNAME:CEST
DTSTART:20190331T010000
END:DAYLIGHT
BEGIN:STANDARD
TZOFFSETFROM:+0200
TZOFFSETTO:+0100
TZNAME:CET
DTSTART:20191027T010000
END:STANDARD
END:VTIMEZONE
BEGIN:VEVENT
DTSTART;TZID=Europe/Madrid:20191212T190000
DTEND;TZID=Europe/Madrid:20191212T213000
DTSTAMP:20260423T055724
CREATED:20190916T143440Z
LAST-MODIFIED:20190916T143510Z
UID:50935-1576177200-1576186200@historico.ateneovalencia.es
SUMMARY:Historia de la Ideas Políticas: 'El último Shakespeare: Enrique VIII y Tomás Moro'
DESCRIPTION:El segundo Seminario de Historia de las Ideas Políticas ya es una realidad. En la tercera de las sesiones se hablará de 'El último Shakespeare: Enrique VIII y Tomás Moro' y contará como relator y ponente al  Prof. Dr. Antonio Lastra. La sesión será el próximo 12 de diciembre a las 19 horas en la sede de la Universidad Católica de Valencia. \nLa vida del que fuera político\, teólogo y Lord Canciller\, Tomás Moro\, querido por el pueblo e íntimo amigo del Rey. Pero\, hombre de principios\, los que le costaron la cabeza por negarse a aprobar el divorcio regio. Su situación empezó a complicarse cuando el rey Enrique VIII quiso anular su matrimonio con Catalina de Aragón . El monarca supuso que el papa iba a dar su consentimiento sin mayores problemas. La responsabilidad individual de los seres humanos frente al poder. \nCartel:
URL:https://historico.ateneovalencia.es/evento/historia-de-la-ideas-politicas-el-ultimo-shakespeare-enrique-viii-y-tomas-moro/
LOCATION:Universidad Católica de Valencia\, Jorge Juan\, 18\, Valencia\, Valencia\, 46001\, España
CATEGORIES:Historia de las Ideas Políticas
ATTACH;FMTTYPE=image/jpeg:https://historico.ateneovalencia.es/wp-content/uploads/2019/09/20191212-Ideas-Politicas-Shakespeare.jpg
END:VEVENT
END:VCALENDAR