BEGIN:VCALENDAR
VERSION:2.0
PRODID:-//Ateneo Mercantil de Valencia - ECPv6.0.4//NONSGML v1.0//EN
CALSCALE:GREGORIAN
METHOD:PUBLISH
X-ORIGINAL-URL:https://historico.ateneovalencia.es
X-WR-CALDESC:Eventos para Ateneo Mercantil de Valencia
REFRESH-INTERVAL;VALUE=DURATION:PT1H
X-Robots-Tag:noindex
X-PUBLISHED-TTL:PT1H
BEGIN:VTIMEZONE
TZID:Europe/Madrid
BEGIN:DAYLIGHT
TZOFFSETFROM:+0100
TZOFFSETTO:+0200
TZNAME:CEST
DTSTART:20190331T010000
END:DAYLIGHT
BEGIN:STANDARD
TZOFFSETFROM:+0200
TZOFFSETTO:+0100
TZNAME:CET
DTSTART:20191027T010000
END:STANDARD
END:VTIMEZONE
BEGIN:VEVENT
DTSTART;TZID=Europe/Madrid:20191107T190000
DTEND;TZID=Europe/Madrid:20191107T210000
DTSTAMP:20260423T060723
CREATED:20190916T130159Z
LAST-MODIFIED:20190916T130219Z
UID:50926-1573153200-1573160400@historico.ateneovalencia.es
SUMMARY:Historia de las Ideas Políticas: ‘La Constitución de los Antoninos’
DESCRIPTION:El segundo Seminario de Historia de las Ideas Políticas ya es una realidad. En la primera de las sesiones se hablará de ‘La Constitución de los Antoninos’ y contará como relator al Prof. Dr. Antonio Lastra y como ponente al Prof. Dr. Ginés Marco Perles. La sesión será el próximo 7 de noviembre a las 19 horas en la sede de la Universidad Católica de Valencia. \nLa Constitución (edicto) Antoniniana es del año 212\, se debe al emperador Antonino Caracalla. Este texto jurídico permitió una importante reforma en el ámbito fiscal del imperio para incrementar los ingresos fiscales y así poder sufragar las costosas campañas militares contra los germanos y contra los partos. Además\, otorgó acceso a las magistraturas\, a participar del culto romano\, a acrecentar el número de legionarios. \nCartel:
URL:https://historico.ateneovalencia.es/evento/historia-de-las-ideas-politicas-la-constitucion-de-los-antoninos/
LOCATION:Universidad Católica de Valencia\, Jorge Juan\, 18\, Valencia\, Valencia\, 46001\, España
CATEGORIES:Historia de las Ideas Políticas
ATTACH;FMTTYPE=image/jpeg:https://historico.ateneovalencia.es/wp-content/uploads/2019/09/20190711-Ideas-Politicas-Const-Antoniana.jpg
END:VEVENT
BEGIN:VEVENT
DTSTART;TZID=Europe/Madrid:20191121T190000
DTEND;TZID=Europe/Madrid:20191121T210000
DTSTAMP:20260423T060723
CREATED:20190916T130810Z
LAST-MODIFIED:20190916T130810Z
UID:50932-1574362800-1574370000@historico.ateneovalencia.es
SUMMARY:Historia de las Ideas Políticas: ‘La Constitución de Justiniano’
DESCRIPTION:El segundo Seminario de Historia de las Ideas Políticas ya es una realidad. En la segunda de las sesiones se hablará de ‘La Constitución de Justiniano’ y contará como relator al  Prof. Dr. Antonio Lastra y como ponente al Prof. Dr. Federico Martínez Roda. La sesión será el próximo 21 de noviembre a las 19 horas en el Ateneo Mercantil de Valencia. \nEl Constitución o Código de Justiniano es una recopilación de constituciones imperiales promulgada por el gran emperador Justiniano\, en una primera versión\, en el 529\, y en una segunda\, el año 534. El Código de justificiliano fue preparado por una comisión de juristas\, presidida por Triboniano\, comenzando sus labores en febrero de 528. Con la promulgación de este código se dejaron sin efecto los anteriores. Es el más importante del mundo romano sobre todo hacia el siglo XV\, donde alcanza su máximo esplendor\, este deber sirvió para realizar muchos códigos civiles actuales entre ellos el francés o el español. \nCartel:
URL:https://historico.ateneovalencia.es/evento/historia-de-las-ideas-politicas-la-constitucion-de-justiniano/
LOCATION:Sala de Juntas - Ateneo Mercantil de Valencia\, Plaza del Ayuntamiento 18\, Valencia\, Valencia\, 46002\, España
CATEGORIES:Historia de las Ideas Políticas
ATTACH;FMTTYPE=image/jpeg:https://historico.ateneovalencia.es/wp-content/uploads/2019/09/20191126-Ideas-Politicas-Const-Justiniano.jpg
END:VEVENT
END:VCALENDAR