BEGIN:VCALENDAR
VERSION:2.0
PRODID:-//Ateneo Mercantil de Valencia - ECPv6.0.4//NONSGML v1.0//EN
CALSCALE:GREGORIAN
METHOD:PUBLISH
X-ORIGINAL-URL:https://historico.ateneovalencia.es
X-WR-CALDESC:Eventos para Ateneo Mercantil de Valencia
REFRESH-INTERVAL;VALUE=DURATION:PT1H
X-Robots-Tag:noindex
X-PUBLISHED-TTL:PT1H
BEGIN:VTIMEZONE
TZID:Europe/Madrid
BEGIN:DAYLIGHT
TZOFFSETFROM:+0100
TZOFFSETTO:+0200
TZNAME:CEST
DTSTART:20190331T010000
END:DAYLIGHT
BEGIN:STANDARD
TZOFFSETFROM:+0200
TZOFFSETTO:+0100
TZNAME:CET
DTSTART:20191027T010000
END:STANDARD
END:VTIMEZONE
BEGIN:VEVENT
DTSTART;TZID=Europe/Madrid:20190207T190000
DTEND;TZID=Europe/Madrid:20190207T210000
DTSTAMP:20260423T134545
CREATED:20180727T094050Z
LAST-MODIFIED:20180727T111744Z
UID:37570-1549566000-1549573200@historico.ateneovalencia.es
SUMMARY:Historia de las Ideas Políticas: "El momento de la naturaleza humana"
DESCRIPTION:Sede: Ateneo Mercantil de Valencia \n“El momento de la naturaleza humana”\nLectura guiada: "Tras la virtud" de Alasdair MacIntyre (Cap. 17) \nPonencia a cargo del profesor Dr. Antonio Lastra \nRelator: Profesor Dr. Ginés Marco \nMatrícula para todo el Seminario (Inscripción en la UCV)\n— Con certificación académica (20 horas lectivas equivalentes a 2 créditos ECTS) | 80 €  - 60 € para socios del Ateneo. \n— Sin certificación académica | 50 € - 30 € para socios del Ateneo.
URL:https://historico.ateneovalencia.es/evento/historia-de-las-ideas-politicas-el-momento-de-la-naturaleza-humana/
LOCATION:Sala de Juntas - Ateneo Mercantil de Valencia\, Plaza del Ayuntamiento 18\, Valencia\, Valencia\, 46002\, España
CATEGORIES:Historia de las Ideas Políticas
ATTACH;FMTTYPE=image/jpeg:https://historico.ateneovalencia.es/wp-content/uploads/2018/07/20190207-Historia-Ideas-Politicas-La-Naturaleza-Humana.jpg
END:VEVENT
BEGIN:VEVENT
DTSTART;TZID=Europe/Madrid:20190219T190000
DTEND;TZID=Europe/Madrid:20190219T210000
DTSTAMP:20260423T134545
CREATED:20180727T095437Z
LAST-MODIFIED:20190215T082831Z
UID:37574-1550602800-1550610000@historico.ateneovalencia.es
SUMMARY:Historia de las Ideas Políticas: "La modernidad como discurso filosófico"
DESCRIPTION:Sede: Universidad Católica de Valencia \n“La modernidad como discurso filosófico”\nLectura guiada: "El discurso filosófico de la modernidad" de Jürgen Habermas (Cap. 1) \nPonencia a cargo del profesor Dr. Antonio Lastra \nRelator: Profesor Dr. José Vicente Bonet \nMatrícula para todo el Seminario (Inscripción en la UCV)\n— Con certificación académica (20 horas lectivas equivalentes a 2 créditos ECTS) | 80 €  - 60 € para socios del Ateneo. \n— Sin certificación académica | 50 € - 30 € para socios del Ateneo.
URL:https://historico.ateneovalencia.es/evento/historia-de-las-ideas-politicas-la-modernidad-como-discurso-filosofico/
LOCATION:Universidad Católica de Valencia\, Jorge Juan\, 18\, Valencia\, Valencia\, 46001\, España
CATEGORIES:Historia de las Ideas Políticas
ATTACH;FMTTYPE=image/jpeg:https://historico.ateneovalencia.es/wp-content/uploads/2018/07/20190219-Historia-Ideas-Politicas-Modernidad-Discurso-Filosofico.jpg
END:VEVENT
END:VCALENDAR