BEGIN:VCALENDAR
VERSION:2.0
PRODID:-//Ateneo Mercantil de Valencia - ECPv6.0.4//NONSGML v1.0//EN
CALSCALE:GREGORIAN
METHOD:PUBLISH
X-WR-CALNAME:Ateneo Mercantil de Valencia
X-ORIGINAL-URL:https://historico.ateneovalencia.es
X-WR-CALDESC:Eventos para Ateneo Mercantil de Valencia
REFRESH-INTERVAL;VALUE=DURATION:PT1H
X-Robots-Tag:noindex
X-PUBLISHED-TTL:PT1H
BEGIN:VTIMEZONE
TZID:Europe/Madrid
BEGIN:DAYLIGHT
TZOFFSETFROM:+0100
TZOFFSETTO:+0200
TZNAME:CEST
DTSTART:20180325T010000
END:DAYLIGHT
BEGIN:STANDARD
TZOFFSETFROM:+0200
TZOFFSETTO:+0100
TZNAME:CET
DTSTART:20181028T010000
END:STANDARD
END:VTIMEZONE
BEGIN:VEVENT
DTSTART;TZID=Europe/Madrid:20181218T190000
DTEND;TZID=Europe/Madrid:20181218T210000
DTSTAMP:20260423T235419
CREATED:20180727T090153Z
LAST-MODIFIED:20181107T082453Z
UID:37561-1545159600-1545166800@historico.ateneovalencia.es
SUMMARY:Historia de las Ideas Políticas: "Los climas de la filosofía medieval"
DESCRIPTION:Sede: Universidad Católica de Valencia \n“Los climas de la filosofía medieval”\nLectura guiada: "La ciudad de Dios" de San Agustín (Libro VI) \nPonencia a cargo del profesor Dr. Antonio Lastra \nRelator: Profesor Dr. Eduardo Ortiz \nMatrícula para todo el Seminario (Inscripción en la UCV)\n— Con certificación académica (20 horas lectivas equivalentes a 2 créditos ECTS) | 80 €  - 60 € para socios del Ateneo. \n— Sin certificación académica | 50 € - 30 € para socios del Ateneo.
URL:https://historico.ateneovalencia.es/evento/historia-de-las-ideas-politicas-los-climas-de-la-filosofia-medieval/
LOCATION:Universidad Católica de Valencia\, Jorge Juan\, 18\, Valencia\, Valencia\, 46001\, España
CATEGORIES:Historia de las Ideas Políticas
ATTACH;FMTTYPE=image/jpeg:https://historico.ateneovalencia.es/wp-content/uploads/2018/07/20181220-Historia-Ideas-Politicas-Filosofia-Medieval.jpg
END:VEVENT
END:VCALENDAR