BEGIN:VCALENDAR
VERSION:2.0
PRODID:-//Ateneo Mercantil de Valencia - ECPv6.0.4//NONSGML v1.0//EN
CALSCALE:GREGORIAN
METHOD:PUBLISH
X-ORIGINAL-URL:https://historico.ateneovalencia.es
X-WR-CALDESC:Eventos para Ateneo Mercantil de Valencia
REFRESH-INTERVAL;VALUE=DURATION:PT1H
X-Robots-Tag:noindex
X-PUBLISHED-TTL:PT1H
BEGIN:VTIMEZONE
TZID:Europe/Madrid
BEGIN:DAYLIGHT
TZOFFSETFROM:+0100
TZOFFSETTO:+0200
TZNAME:CEST
DTSTART:20200329T010000
END:DAYLIGHT
BEGIN:STANDARD
TZOFFSETFROM:+0200
TZOFFSETTO:+0100
TZNAME:CET
DTSTART:20201025T010000
END:STANDARD
END:VTIMEZONE
BEGIN:VEVENT
DTSTART;TZID=Europe/Madrid:20200212T190000
DTEND;TZID=Europe/Madrid:20200212T210000
DTSTAMP:20260423T110005
CREATED:20190912T110915Z
LAST-MODIFIED:20190912T110915Z
UID:50768-1581534000-1581541200@historico.ateneovalencia.es
SUMMARY:Marx y la Literatura Universal
DESCRIPTION:El segundo Seminario de Grandes Libros desgranará en la tercera de las sesiones del curso otro de los autores fundamentales de la literatura universal\, Marx y la Literatura Universal. De nuevo una sesión que será gratuita y que reunirá en el Ateneo Mercantil el próximo miércoles 12 de febrero a las 19 horas a los cada vez más entusiastas seguidores de la Escuela de Filosofía de nuestra casa. El ponente será el profesor y doctor D. José Félix Baselga. Un seminario que tiene como principales organizadores la Escuela de Filosofía del Ateneo\, La Torre del Virrey. Intituto de Estudios Culturales Avanzados y Cefire Humanistic i Social. \nLa sesión tratará de explicar la relación de Marx con la literatura: el autor disfrutó de la literatura clásica\, de la Edad Media hasta la de Goethe y los escritos de Dante\, Cervantes o Shakespeare\, entre otros\, por mencionar sólo algunos de sus favoritos. Además\, en ocasiones empleó la literatura para analizar la vida histórico-política o cuando reniega de la literatura cuando sus análisis materialistas renunciaron a lo que es el propio trabajo literario. \nInscripciones para el Seminario en Secretaría del Ateneo Mercantil (quinta planta). Precio reducido: 10 euros (todo el curso) para socios del Ateneo Mercantil y estudiantes. 15 euros para el público general.\nCartel:
URL:https://historico.ateneovalencia.es/evento/marx-y-la-literatura-universal/
LOCATION:Sala de Juntas - Ateneo Mercantil de Valencia\, Plaza del Ayuntamiento 18\, Valencia\, Valencia\, 46002\, España
CATEGORIES:Grandes Libros
ATTACH;FMTTYPE=image/jpeg:https://historico.ateneovalencia.es/wp-content/uploads/2019/09/20200212-Grandes-Libros-Marx.jpg
END:VEVENT
END:VCALENDAR