BEGIN:VCALENDAR
VERSION:2.0
PRODID:-//Ateneo Mercantil de Valencia - ECPv6.0.4//NONSGML v1.0//EN
CALSCALE:GREGORIAN
METHOD:PUBLISH
X-ORIGINAL-URL:https://historico.ateneovalencia.es
X-WR-CALDESC:Eventos para Ateneo Mercantil de Valencia
REFRESH-INTERVAL;VALUE=DURATION:PT1H
X-Robots-Tag:noindex
X-PUBLISHED-TTL:PT1H
BEGIN:VTIMEZONE
TZID:Europe/Madrid
BEGIN:DAYLIGHT
TZOFFSETFROM:+0100
TZOFFSETTO:+0200
TZNAME:CEST
DTSTART:20200329T010000
END:DAYLIGHT
BEGIN:STANDARD
TZOFFSETFROM:+0200
TZOFFSETTO:+0100
TZNAME:CET
DTSTART:20201025T010000
END:STANDARD
END:VTIMEZONE
BEGIN:VEVENT
DTSTART;TZID=Europe/Madrid:20200115T190000
DTEND;TZID=Europe/Madrid:20200115T210000
DTSTAMP:20260423T032639
CREATED:20190910T171400Z
LAST-MODIFIED:20190912T111901Z
UID:50564-1579114800-1579122000@historico.ateneovalencia.es
SUMMARY:Grandes Libros y Literatura Universal
DESCRIPTION:Arranca un nuevo Seminario de Grandes Libros\, un segundo curso en el que se desgranarán libros de la literatura universal y que consta de cuatro sesiones gratuitas. La primera de las reuniones será el próximo miércoles 15 de enero a las 19 horas en el Ateneo Mercantil y llega bajo el título "Grandes Libros y Literatura Universal" y cuyo ponente será el Profesor y Doctor D. Antonio Lastra. Un seminario que tiene como principales organizadores la Escuela de Filosofía del Ateneo\, La Torre del Virrey. Intituto de Estudios Culturales Avanzados y Cefire Humanistic i Social. \nInscripciones para el Seminario en Secretaría del Ateneo Mercantil (quinta planta). Precio reducido: 10 euros (todo el curso) para socios del Ateneo Mercantil y estudiantes. 15 euros para el público general.\nCartel:
URL:https://historico.ateneovalencia.es/evento/grandes-libros-y-literatura-universal/
LOCATION:Sala de Juntas - Ateneo Mercantil de Valencia\, Plaza del Ayuntamiento 18\, Valencia\, Valencia\, 46002\, España
CATEGORIES:Grandes Libros
ATTACH;FMTTYPE=image/jpeg:https://historico.ateneovalencia.es/wp-content/uploads/2019/09/20200115-Grandes-Libros-y-Literatura-Universal.jpg
END:VEVENT
BEGIN:VEVENT
DTSTART;TZID=Europe/Madrid:20200129T190000
DTEND;TZID=Europe/Madrid:20200129T210000
DTSTAMP:20260423T032639
CREATED:20190912T105411Z
LAST-MODIFIED:20190912T105411Z
UID:50706-1580324400-1580331600@historico.ateneovalencia.es
SUMMARY:Odisea de Homero
DESCRIPTION:El segundo Seminario de Grandes Libros desgranará en la segunda de las sesiones del curso otro de los fundamentales libros de la literatura universal\, la Odisea de Homero. De nuevo una sesión que será gratuita y que reunirá en el Ateneo Mercantil el próximo miércoles 29 de enero a las 19 horas a los cada vez más entusiastas seguidores de la Escuela de Filosofía de nuestra casa. El ponente será D. Juan Manuel Macías. Un seminario que tiene como principales organizadores la Escuela de Filosofía del Ateneo\, La Torre del Virrey. Intituto de Estudios Culturales Avanzados y Cefire Humanistic i Social. \nJunto con la 'Ilíada'\, la 'Odisea' constituye una de las piedras angulares de la cultura occidental. El relato que hace Homero de las aventuras de Odiseo en su camino de regreso desde Troya hasta su patria\, Ítaca\, ha sido desde siempre una mina inagotable de motivos e imágenes para escritores y artistas. \nInscripciones para el Seminario en Secretaría del Ateneo Mercantil (quinta planta). Precio reducido: 10 euros (todo el curso) para socios del Ateneo Mercantil y estudiantes. 15 euros para el público general.\nCartel:\n \n 
URL:https://historico.ateneovalencia.es/evento/odisea-de-homero/
LOCATION:Sala de Juntas - Ateneo Mercantil de Valencia\, Plaza del Ayuntamiento 18\, Valencia\, Valencia\, 46002\, España
CATEGORIES:Grandes Libros
ATTACH;FMTTYPE=image/jpeg:https://historico.ateneovalencia.es/wp-content/uploads/2019/09/20200129-Grandes-Libros-La-Odisea-Homero.jpg
END:VEVENT
END:VCALENDAR