BEGIN:VCALENDAR
VERSION:2.0
PRODID:-//Ateneo Mercantil de Valencia - ECPv6.0.4//NONSGML v1.0//EN
CALSCALE:GREGORIAN
METHOD:PUBLISH
X-WR-CALNAME:Ateneo Mercantil de Valencia
X-ORIGINAL-URL:https://historico.ateneovalencia.es
X-WR-CALDESC:Eventos para Ateneo Mercantil de Valencia
REFRESH-INTERVAL;VALUE=DURATION:PT1H
X-Robots-Tag:noindex
X-PUBLISHED-TTL:PT1H
BEGIN:VTIMEZONE
TZID:Europe/Madrid
BEGIN:DAYLIGHT
TZOFFSETFROM:+0100
TZOFFSETTO:+0200
TZNAME:CEST
DTSTART:20190331T010000
END:DAYLIGHT
BEGIN:STANDARD
TZOFFSETFROM:+0200
TZOFFSETTO:+0100
TZNAME:CET
DTSTART:20191027T010000
END:STANDARD
END:VTIMEZONE
BEGIN:VEVENT
DTSTART;TZID=Europe/Madrid:20190326T180000
DTEND;TZID=Europe/Madrid:20190326T200000
DTSTAMP:20260423T195150
CREATED:20190109T121354Z
LAST-MODIFIED:20190109T122849Z
UID:41348-1553623200-1553630400@historico.ateneovalencia.es
SUMMARY:Seminario Grandes Libros: ‘La Divina Comedia’ de Dante
DESCRIPTION:El próximo martes 26 de marzo de 2019 llega la tercera de las sesiones del Seminario de Filosofía Grandes Libros que organiza la Escuela de Filosofía del Ateneo Mercantil en colaboración con la UCV y el IECO (Univ. de Valencia). La tercera de las clases será ‘La Divina Comedia’ de Dante y que impartirá el doctor en Filosofofía\, director de la Escuela de Filosofía del Ateneo Mercantil y La Torre del Virrey\, Prof. Dr. Antonio Lastra. Será en la sede de IECO (Facultad de Económicas). \nConsulta el Programa de esta Tercera Clase\nEl precio de 60 euros engloba todo el curso que lo componen las seis clases.
URL:https://historico.ateneovalencia.es/evento/seminario-grandes-libros-la-divina-comedia-de-dante/
LOCATION:Facultad de Economía Universidad Valencia (Sala Manuel Vela\, 4º piso)\, Av. Tarongers s/n.\, Valencia\, Valencia\, 46022\, España
CATEGORIES:Grandes Libros
ATTACH;FMTTYPE=image/jpeg:https://historico.ateneovalencia.es/wp-content/uploads/2019/01/20190326-Filosofia-Grandes-Libros-La-Divina-Comedia.jpg
END:VEVENT
END:VCALENDAR