BEGIN:VCALENDAR
VERSION:2.0
PRODID:-//Ateneo Mercantil de Valencia - ECPv6.0.4//NONSGML v1.0//EN
CALSCALE:GREGORIAN
METHOD:PUBLISH
X-WR-CALNAME:Ateneo Mercantil de Valencia
X-ORIGINAL-URL:https://historico.ateneovalencia.es
X-WR-CALDESC:Eventos para Ateneo Mercantil de Valencia
REFRESH-INTERVAL;VALUE=DURATION:PT1H
X-Robots-Tag:noindex
X-PUBLISHED-TTL:PT1H
BEGIN:VTIMEZONE
TZID:Europe/Madrid
BEGIN:DAYLIGHT
TZOFFSETFROM:+0100
TZOFFSETTO:+0200
TZNAME:CEST
DTSTART:20250330T010000
END:DAYLIGHT
BEGIN:STANDARD
TZOFFSETFROM:+0200
TZOFFSETTO:+0100
TZNAME:CET
DTSTART:20251026T010000
END:STANDARD
END:VTIMEZONE
BEGIN:VEVENT
DTSTART;TZID=Europe/Madrid:20250227T190000
DTEND;TZID=Europe/Madrid:20250227T203000
DTSTAMP:20260423T020933
CREATED:20250221T140547Z
LAST-MODIFIED:20250221T140601Z
UID:83207-1740682800-1740688200@historico.ateneovalencia.es
SUMMARY:"100 objeciones contra la repoblación lingüística de Valencia"
DESCRIPTION:A través de 100 objeciones\, el profesor Ballester ofrecerá un análisis crítico y detallado de los argumentos que sustentan esta idea\, cuestionando su base histórica\, filológica y sociolingüística. Se examinarán aspectos como la continuidad de la lengua en el territorio\, las fuentes documentales medievales\, la evolución del valenciano como lengua propia y su relación con otras lenguas romances. \nEn esta conferencia\, el Prof. Dr. Xaverio Ballester Gómez abordará el controvertido tema de la "repoblación lingüística" en la Comunidad Valenciana\, una teoría que sostiene que la presencia del valenciano en la región se debe en gran parte a la repoblación tras la conquista de Jaime I. \nEl acto está organizado con el respaldo de la Real Academia de Cultura Valenciana (RACV) y Lo Rat Penat\, instituciones comprometidas con la defensa y estudio de la identidad lingüística y cultural valenciana. \n📅 Fecha: Jueves\, 27 de febrero de 2025🕖 Hora: 19:00 h📍 Lugar: Salón Sorolla\, Ateneo Mercantil de Valencia (Plaza del Ayuntamiento\, 18\, Valencia)🎙 Conferenciante: Prof. Dr. Xaverio Ballester Gómez (Catedrático de Filología Latina\, Universidad de Valencia y Académico de Número de la RACV)📢 Entrada libre hasta completar aforo. \nCartel:
URL:https://historico.ateneovalencia.es/evento/100-objeciones-contra-la-repoblacion-linguistica-de-valencia/
LOCATION:Salón Sorolla - Ateneo Mercantil de Valencia\, Plaza del Ayuntamiento 18\, Valencia\, Valencia\, 46002\, España
CATEGORIES:Fundación A.M. C.V.
ATTACH;FMTTYPE=image/jpeg:https://historico.ateneovalencia.es/wp-content/uploads/2025/02/20250227-Repoblacion-Linguistica-Valencia.jpg
END:VEVENT
END:VCALENDAR