BEGIN:VCALENDAR
VERSION:2.0
PRODID:-//Ateneo Mercantil de Valencia - ECPv6.0.4//NONSGML v1.0//EN
CALSCALE:GREGORIAN
METHOD:PUBLISH
X-ORIGINAL-URL:https://historico.ateneovalencia.es
X-WR-CALDESC:Eventos para Ateneo Mercantil de Valencia
REFRESH-INTERVAL;VALUE=DURATION:PT1H
X-Robots-Tag:noindex
X-PUBLISHED-TTL:PT1H
BEGIN:VTIMEZONE
TZID:Europe/Madrid
BEGIN:DAYLIGHT
TZOFFSETFROM:+0100
TZOFFSETTO:+0200
TZNAME:CEST
DTSTART:20250330T010000
END:DAYLIGHT
BEGIN:STANDARD
TZOFFSETFROM:+0200
TZOFFSETTO:+0100
TZNAME:CET
DTSTART:20251026T010000
END:STANDARD
END:VTIMEZONE
BEGIN:VEVENT
DTSTART;TZID=Europe/Madrid:20250219T180000
DTEND;TZID=Europe/Madrid:20250219T190000
DTSTAMP:20260421T192415
CREATED:20250211T121319Z
LAST-MODIFIED:20250211T121321Z
UID:83074-1739988000-1739991600@historico.ateneovalencia.es
SUMMARY:Escuela de Salud: "Reumatología: Una historia de lucha contra la inflamación"
DESCRIPTION:El Ateneo Mercantil de Valencia\, en colaboración con la Fundación Ribera Salud\, te invita a una nueva sesión de la Escuela de Salud\, donde exploraremos el papel clave de la Reumatología en la prevención\, diagnóstico y tratamiento de las enfermedades reumáticas. \n📅 Fecha: Miércoles\, 19 de febrero de 2025\n🕕 Hora: 18:00 h\n📍 Lugar: Salón Sorolla\, Ateneo Mercantil de Valencia\n💡 Entrada libre hasta completar aforo \n🥐☕ ¡Y además\, solo por asistir\, podrás disfrutar de una deliciosa merienda con chocolatà y coca en llanda! \nEn esta ponencia\, el Dr. Jorge Fragío\, reumatólogo del Hospital Ribera-IMSKE\, nos guiará a través de la historia y los avances en el tratamiento de las enfermedades músculo-esqueléticas y autoinmunes sistémicas. También conoceremos los últimos progresos en inmunología\, genética y farmacología\, así como la aplicación de técnicas innovadoras como la ecografía articular y vascular. \nEl Dr. Fragío cuenta con una sólida trayectoria en la investigación de la fisiopatología de las enfermedades reumáticas y en la implementación de la Medicina de Precisión en su práctica clínica. \n📢 No te pierdas esta oportunidad de aprender\, compartir y disfrutar de una tarde interesante y amena en el Ateneo Mercantil de Valencia. ¡Te esperamos! \nCartel:
URL:https://historico.ateneovalencia.es/evento/escuela-de-salud-reumatologia-una-historia-de-lucha-contra-la-inflamacion/
LOCATION:Salón Sorolla - Ateneo Mercantil de Valencia\, Plaza del Ayuntamiento 18\, Valencia\, Valencia\, 46002\, España
CATEGORIES:Escuela de Salud
ATTACH;FMTTYPE=image/jpeg:https://historico.ateneovalencia.es/wp-content/uploads/2025/02/20250219-Escuela-de-Salud-Reumatologia.jpg
END:VEVENT
BEGIN:VEVENT
DTSTART;TZID=Europe/Madrid:20250219T180000
DTEND;TZID=Europe/Madrid:20250219T193000
DTSTAMP:20260421T192415
CREATED:20250204T120113Z
LAST-MODIFIED:20250213T111044Z
UID:83024-1739988000-1739993400@historico.ateneovalencia.es
SUMMARY:Escuela de Salud: La enfermedad mental y los cambios socioculturales de la postmodernidad
DESCRIPTION:El Ateneo Mercantil de Valencia\, junto con la Fundación del Ateneo Mercantil de la CV y Agea Valencia\, tiene el placer de invitarles a una nueva conferencia de la Escuela de Salud del Ateneo. Una conferencia que llega bajo el título: "La enfermedad mental y los cambios socioculturales de la postmodernidad". El ponente será el Dr. Ramón Palmer Vicedo\, Doctor en Psiquiatría y Jefe Clínico del Hospital Provincial de Castellón y el presentador y moderador será el Dr. Alberto Grima Serrano\, Doctor en Cardiología y escritor. El Director Científico de la Escuela de Salud es el Prof. Dr. Carlos Camps Herrero. \nDetalles del evento:\n\n📅 Fecha: Miércoles 19 de febrero de 2025\n⏰ Hora: 18:00 horas\n📍 Lugar: Hall Colonial\, 6ª planta del Ateneo Mercantil de Valencia (Plaza del Ayuntamiento\, 18\, Valencia)\n🎟️ Entrada: Libre y gratuita\n\nSobre la conferencia:\nValencia fue la sede del primer hospital psiquiátrico del mundo\, promovido por el mercedario padre Jofré a principios del siglo XV. No solo es una ciudad pionera en este campo\, sino que también ha sido modélica en el tratamiento psiquiátrico dentro del mundo hispánico. \nEn esta sesión\, el Dr. Palmer analizará cómo los cambios socioculturales de las últimas décadas han influido en el preocupante aumento de enfermedades mentales\, incluyendo el incremento del índice de suicidios juveniles. Durante el romanticismo y el nihilismo\, se observó una “epidemia” de esquizofrenias y depresiones; en la postmodernidad\, los trastornos como el TEA (Trastorno del Espectro Autista) y el TDA-H (Trastorno por Déficit de Atención con o sin Hiperactividad) han ido en aumento. \nLa conferencia abordará también la relación entre estos cambios y su impacto filosófico-antropológico en la psique humana. \n¡No te pierdas esta oportunidad para comprender mejor el vínculo entre sociedad y salud mental! \nCartel:
URL:https://historico.ateneovalencia.es/evento/escuela-de-salud-la-enfermedad-mental-y-los-cambios-socioculturales-de-la-postmodernidad/
LOCATION:Hall Restaurante - Ateneo Mercantil de Valencia\, Plaza del Ayuntamiento\, 18\, Valencia\, España\, Valencia\, Valencia\, 46002\, España
CATEGORIES:Escuela de Salud
ATTACH;FMTTYPE=image/jpeg:https://historico.ateneovalencia.es/wp-content/uploads/2025/02/20250219-Escuela-de-Salud-Enfermedad-Mental.jpg
END:VEVENT
END:VCALENDAR