BEGIN:VCALENDAR
VERSION:2.0
PRODID:-//Ateneo Mercantil de Valencia - ECPv6.0.4//NONSGML v1.0//EN
CALSCALE:GREGORIAN
METHOD:PUBLISH
X-WR-CALNAME:Ateneo Mercantil de Valencia
X-ORIGINAL-URL:https://historico.ateneovalencia.es
X-WR-CALDESC:Eventos para Ateneo Mercantil de Valencia
REFRESH-INTERVAL;VALUE=DURATION:PT1H
X-Robots-Tag:noindex
X-PUBLISHED-TTL:PT1H
BEGIN:VTIMEZONE
TZID:Europe/Madrid
BEGIN:DAYLIGHT
TZOFFSETFROM:+0100
TZOFFSETTO:+0200
TZNAME:CEST
DTSTART:20250330T010000
END:DAYLIGHT
BEGIN:STANDARD
TZOFFSETFROM:+0200
TZOFFSETTO:+0100
TZNAME:CET
DTSTART:20251026T010000
END:STANDARD
END:VTIMEZONE
BEGIN:VEVENT
DTSTART;TZID=Europe/Madrid:20250115T180000
DTEND;TZID=Europe/Madrid:20250115T193000
DTSTAMP:20260421T210942
CREATED:20250109T112617Z
LAST-MODIFIED:20250109T123148Z
UID:82691-1736964000-1736969400@historico.ateneovalencia.es
SUMMARY:Escuela de Filosofía del Ateneo: Agustín de Hipona. Hacia una moral de la interioridad
DESCRIPTION:La Escuela de Filosofía del Ateneo Mercantil junto a la Asociación Grupo de Estudios de Actualidad de Valencia (AGEA) tiene el honor de presentar una nueva conferencia a cargo del Prof. Dr. Ginés Marco Perles\, quien nos acercará a la figura de uno de los grandes pensadores de la historia: San Agustín de Hipona. \n📅 Fecha: Miércoles\, 15 de enero de 2025\n🕕 Hora: 18:00 horas\n📍 Lugar: Salón Sorolla\, Ateneo Mercantil \nEntrada libre y gratuita hasta completar aforo. \n\nSobre la conferencia\nEl cristianismo supuso una revolución ética\, cultural y espiritual en Occidente\, transformando la visión del ser humano y del mundo. San Agustín\, como filósofo cristiano\, ofrece una perspectiva profundamente innovadora: la búsqueda de la verdad como un camino interior y el amor como la piedra angular de la ética. \nLa conferencia explorará cómo Agustín combina las tradiciones filosóficas antiguas con la espiritualidad cristiana\, transformando la ética en un proceso personal de autoconocimiento\, amor y plenitud. Desde sus críticas al maniqueísmo hasta la síntesis de platonismo y cristianismo\, descubriremos cómo su pensamiento sigue siendo actual y profundamente humano. \n\nFragmento destacado de la filosofía de San Agustín\n"Tarde te amé\, Hermosura tan antigua y tan nueva\, ¡tarde te amé! Y Tú estabas dentro de mí\, y yo afuera\, y así por fuera te buscaba; y\, deforme como era\, me lanzaba sobre estas cosas hermosas que Tú creaste. Tú estabas conmigo\, mas yo no estaba contigo. Reteníanme lejos de Ti aquellas cosas que\, si no estuvieran en Ti\, no existirían. Me llamaste y clamaste\, y quebrantaste mi sordera; brillaste y resplandeciste\, y curaste mi ceguera; exhalaste tu perfume\, y lo aspiré\, y ahora te anhelo; gusté de Ti\, y ahora siento hambre y sed de Ti; me tocaste\, y desee con ansia la paz que procede de Ti". \n(Confesiones\, Libro X) \n\nUn encuentro para reflexionar\nNo te pierdas esta oportunidad única de profundizar en las enseñanzas de San Agustín\, una figura que nos invita a preguntarnos: ¿Quién soy?\, ¿De dónde vengo?\, ¿Qué me llevará a la plenitud? \nCartel:
URL:https://historico.ateneovalencia.es/evento/escuela-de-filosofia-del-ateneo-agustin-de-hipona-hacia-una-moral-de-la-interioridad/
LOCATION:Salón Sorolla - Ateneo Mercantil de Valencia\, Plaza del Ayuntamiento 18\, Valencia\, Valencia\, 46002\, España
CATEGORIES:Escuela de Filosofía
ATTACH;FMTTYPE=image/jpeg:https://historico.ateneovalencia.es/wp-content/uploads/2025/01/20250115-Escuela-de-Filosofia-Agustin-de-Hipona.jpg
END:VEVENT
END:VCALENDAR