BEGIN:VCALENDAR
VERSION:2.0
PRODID:-//Ateneo Mercantil de Valencia - ECPv6.0.4//NONSGML v1.0//EN
CALSCALE:GREGORIAN
METHOD:PUBLISH
X-WR-CALNAME:Ateneo Mercantil de Valencia
X-ORIGINAL-URL:https://historico.ateneovalencia.es
X-WR-CALDESC:Eventos para Ateneo Mercantil de Valencia
REFRESH-INTERVAL;VALUE=DURATION:PT1H
X-Robots-Tag:noindex
X-PUBLISHED-TTL:PT1H
BEGIN:VTIMEZONE
TZID:Europe/Madrid
BEGIN:DAYLIGHT
TZOFFSETFROM:+0100
TZOFFSETTO:+0200
TZNAME:CEST
DTSTART:20240331T010000
END:DAYLIGHT
BEGIN:STANDARD
TZOFFSETFROM:+0200
TZOFFSETTO:+0100
TZNAME:CET
DTSTART:20241027T010000
END:STANDARD
END:VTIMEZONE
BEGIN:VEVENT
DTSTART;TZID=Europe/Madrid:20240613T180000
DTEND;TZID=Europe/Madrid:20240613T190000
DTSTAMP:20260421T125311
CREATED:20240531T100735Z
LAST-MODIFIED:20240611T082321Z
UID:78185-1718301600-1718305200@historico.ateneovalencia.es
SUMMARY:"Varices\, más allá de la estética" por el Dr. Bader Al-Raies Bolaños
DESCRIPTION:Las varices son una manifestación de la insuficiencia venosa crónica\, donde las venas superficiales no pueden devolver la sangre al corazón. La insuficiencia venosa varia desde pequeñas arañitas estéticas hasta varices tronculares. Evaluar y clasificar las varices según su tamaño es fundamental para determinar el tratamiento de varices más adecuado. \nEl Doctor Bader Al-Raies\, cirujano vascular en el Hospital Ribera IMSKE\, será el encargado de dar la conferencia el próximo jueves 13 de junio de 2024 a las 18 horas en el Salón Sorolla del Ateneo Mercantil de Valencia. Mientras que el moderador y presentador del acto será Alejandro Aznar\, responsable de Comunicación en el Hospital Ribera IMSKE. \nVen y disfruta de una merienda con nosotros\, ya que te invitaremos a merendar degustando: Horchata\, Fartons y Coca de llanda.\nLas varices se clasifican en función a su tamaño: telangiectasias (arañas vasculares)\, las varices reticulares y las varices tronculares. Desde el punto de vista puramente médico los síntomas que tiene el paciente son cambios en la coloración de la piel\, o si se presentan edemas\, lo que determinará a la hora de tomar la decisión de una intervención. \nTítulo: "Varices\, más allá de la estética" \nConferenciante: Dr. Bader Al-Raies Bolaños \nDía: Jueves 13 de junio de 2024 \nHora: 18 horas \nLugar: Salón Sorolla \nEntrada libre y gratuita hasta completar aforo. \nCartel:
URL:https://historico.ateneovalencia.es/evento/varices-mas-alla-de-la-estetica-por-el-dr-bader-al-raies-bolanos/
LOCATION:Salón Sorolla - Ateneo Mercantil de Valencia\, Plaza del Ayuntamiento 18\, Valencia\, Valencia\, 46002\, España
CATEGORIES:Escuela de Salud
ATTACH;FMTTYPE=image/jpeg:https://historico.ateneovalencia.es/wp-content/uploads/2024/05/20240613-Varices-Ribera-IMSKE.jpg
END:VEVENT
END:VCALENDAR