BEGIN:VCALENDAR
VERSION:2.0
PRODID:-//Ateneo Mercantil de Valencia - ECPv6.0.4//NONSGML v1.0//EN
CALSCALE:GREGORIAN
METHOD:PUBLISH
X-ORIGINAL-URL:https://historico.ateneovalencia.es
X-WR-CALDESC:Eventos para Ateneo Mercantil de Valencia
REFRESH-INTERVAL;VALUE=DURATION:PT1H
X-Robots-Tag:noindex
X-PUBLISHED-TTL:PT1H
BEGIN:VTIMEZONE
TZID:Europe/Madrid
BEGIN:DAYLIGHT
TZOFFSETFROM:+0100
TZOFFSETTO:+0200
TZNAME:CEST
DTSTART:20240331T010000
END:DAYLIGHT
BEGIN:STANDARD
TZOFFSETFROM:+0200
TZOFFSETTO:+0100
TZNAME:CET
DTSTART:20241027T010000
END:STANDARD
END:VTIMEZONE
BEGIN:VEVENT
DTSTART;TZID=Europe/Madrid:20240430T193000
DTEND;TZID=Europe/Madrid:20240430T203000
DTSTAMP:20260421T205925
CREATED:20240214T125101Z
LAST-MODIFIED:20240417T110557Z
UID:76808-1714505400-1714509000@historico.ateneovalencia.es
SUMMARY:Ciclo de Aristóteles - Sesión 8: "El principio del movimiento\, clave de bóveda de la metafísica de Aristóteles"
DESCRIPTION:La Escuela de Filosofía del Ateneo trae la octava sesión del 'Seminario Aristóteles\, padre de la Filosofía Occidental' que organiza la Fundación del Ateneo Mercantil de la CV en colaboración con la Asociación Grupo de Estudios de Actualidad de Valencia\, Agea Valencia. La sesión llega bajo el título "El principio del movimiento\, clave de bóveda de la metafísica de Aristóteles" y el ponente es el Director del Master Universitario en Marketing Político y Comunicación Institucional  de la UCV\, el Prof. Dr. Ginés Marco Perles. \nEnlace para el Online: https://youtu.be/mT4aZBzPRfE\nTexto introductorio para el inicio de la sesión: \n"Vemos que las cosas se mueven\, o por naturaleza\, o por coerción\, o por la inteligencia\, o por alguna otra causa. Además\, ¿de qué tipo es el movimiento primero? Esto importa sobremanera". Aristóteles\, Metafísica\, Libro XII\, 6\, 1071b 35. Madrid: Gredos\, p. 484. Cfr. Aristóteles\, Protréptico\, XI\, fr. 11. Madrid: Gredos\, p. 172. \nTítulo: "El principio del movimiento\, clave de bóveda de la metafísica de Aristóteles" \nConferenciante: Prof. Dr. Ginés Marco Perles \nDía: Martes\, 30 de abril de 2024 \nHora: 19.30 horas \nLugar: Teatro Ateneo (3ª planta) \nEntrada libre y gratuita hasta completar aforo \nCartel:
URL:https://historico.ateneovalencia.es/evento/ciclo-de-aristoteles-sesion-8-el-principio-del-movimiento-clave-de-boveda-de-la-metafisica-de-aristoteles/
LOCATION:Salón Sorolla - Ateneo Mercantil de Valencia\, Plaza del Ayuntamiento 18\, Valencia\, Valencia\, 46002\, España
CATEGORIES:Escuela de Filosofía
ATTACH;FMTTYPE=image/jpeg:https://historico.ateneovalencia.es/wp-content/uploads/2024/02/20240227-Escuela-Filosofia-Aristoteles-8.jpg
END:VEVENT
END:VCALENDAR