BEGIN:VCALENDAR
VERSION:2.0
PRODID:-//Ateneo Mercantil de Valencia - ECPv6.0.4//NONSGML v1.0//EN
CALSCALE:GREGORIAN
METHOD:PUBLISH
X-WR-CALNAME:Ateneo Mercantil de Valencia
X-ORIGINAL-URL:https://historico.ateneovalencia.es
X-WR-CALDESC:Eventos para Ateneo Mercantil de Valencia
REFRESH-INTERVAL;VALUE=DURATION:PT1H
X-Robots-Tag:noindex
X-PUBLISHED-TTL:PT1H
BEGIN:VTIMEZONE
TZID:Europe/Madrid
BEGIN:DAYLIGHT
TZOFFSETFROM:+0100
TZOFFSETTO:+0200
TZNAME:CEST
DTSTART:20240331T010000
END:DAYLIGHT
BEGIN:STANDARD
TZOFFSETFROM:+0200
TZOFFSETTO:+0100
TZNAME:CET
DTSTART:20241027T010000
END:STANDARD
END:VTIMEZONE
BEGIN:VEVENT
DTSTART;TZID=Europe/Madrid:20240222T190000
DTEND;TZID=Europe/Madrid:20240222T203000
DTSTAMP:20260421T154412
CREATED:20240212T121930Z
LAST-MODIFIED:20240212T121930Z
UID:76777-1708628400-1708633800@historico.ateneovalencia.es
SUMMARY:Escuela de Salud del Ateneo: Mesa Redonda-coloquio "Enfermedades raras"
DESCRIPTION:La Fundación del Ateneo Mercantil de la CV en colaboración con AGEA Valencia\, Grupo de Estudios de Actualidad. Comunidad Valenciana\, presentan un nuevo evento de la Escuela de Salud del Ateneo el próximo jueves 22 de febrero a las 19 horas en el Salón Sorolla (5º piso del Ateneo Mercantil). En esta ocasión se realizará una mesa redonda-coloquio sobre las "Enfermedades raras". Contaremos con un gran elenco de ponentes\, especialistas en sus materias\, que acercarán la problemática de las enfermedades raras desde varios puntos de vista\, lo que nos ayudará a tener una visión global y contextualizará a las enfermedades poco frecuentes o raras. \nMesa Redonda:\n\nSra. Dª. Bárbara Congost Mirón. Economista\, fundadora de ASEMI. En la actualidad ocupa el puesto de Directora General de las Personas con Discapacidad de la Consellería de Servicios Sociales\, Igualdad y Vivienda.\n\n\n\nDr. Julián Nevado Blanco. Responsable del Área de Genómica y nefropatías hereditarias del Hospital Universitario La Paz (Madrid). Doctor en Biología. Investigador CIBERER.\n\n"Las enfermedades raras son un problema de salud pública que afecta a más de 3 millones de personas en España. Uno de los principales problemas con los que nos encontramos\, al ser enfermedades poco frecuentes\, es el tiempo de diagnóstico: hay que evitar la angustia y el ir de una lado para otro de los padres\, sin saber a qué atenerse hasta que son diagnosticados". \n\nIsmael Ejarque Doménech. Doctor. Especialista en medicina de familia. Genetista y analista clínico.\n\n"Desde mi punto de vista\, el que no exista especialidad sanitaria de Genética impide la libre circulación de trabajadores genetistas en la UE\, pues las titulaciones no son reconocidas al no existir en el propio país". \n\nAlejandro Mendoza Plaza. Ingeniero Industrial. Iniciador de la plataforma “Políticos de Confianza”.\n\n"Desde la perspectiva de afectado indirecto\, por una enfermedad rara\, he observado y sufrido el efecto de las barreras a la investigación que mencionan investigadores; así como problemas del día a día de los sanitarios y los propios afectados y sus familiares. Me parece que las soluciones han de pasar por legislaciones del más alto nivel\, que sean llevadas a cabo por un nuevo paradigma de legisladores que comprendan las necesidades a largo plazo del colectivo de afectados por las EERR\, y que algunos hemos empezado a denominar –y realizar una plataforma al respecto- 'políticos de confianza'\, más cercanos a los ciudadanos". \nTítulo: Mesa Redonda-coloquio "Enfermedades raras" \nConferenciantes: Sra. Dª. Bárbara Congost Mirón; Dr. Julián Nevado Blanco; Dr. Ismael Ejarque Doménech; D. Alejandro Mendoza Plaza.\n \nDía: Jueves\, 22 de febrero de 2024 \nHora: 19 horas \nLugar: Salón Sorolla \nEntrada libre y gratuita hasta completar aforo \nCartel:\n \n 
URL:https://historico.ateneovalencia.es/evento/escuela-de-salud-del-ateneo-mesa-redonda-coloquio-enfermedades-raras/
LOCATION:Salón Sorolla - Ateneo Mercantil de Valencia\, Plaza del Ayuntamiento 18\, Valencia\, Valencia\, 46002\, España
CATEGORIES:Escuela de Salud
ATTACH;FMTTYPE=image/jpeg:https://historico.ateneovalencia.es/wp-content/uploads/2024/02/20240222-Escuela-Salud-Enfermedades-Raras.jpg
END:VEVENT
END:VCALENDAR