BEGIN:VCALENDAR
VERSION:2.0
PRODID:-//Ateneo Mercantil de Valencia - ECPv6.0.4//NONSGML v1.0//EN
CALSCALE:GREGORIAN
METHOD:PUBLISH
X-ORIGINAL-URL:https://historico.ateneovalencia.es
X-WR-CALDESC:Eventos para Ateneo Mercantil de Valencia
REFRESH-INTERVAL;VALUE=DURATION:PT1H
X-Robots-Tag:noindex
X-PUBLISHED-TTL:PT1H
BEGIN:VTIMEZONE
TZID:Europe/Madrid
BEGIN:DAYLIGHT
TZOFFSETFROM:+0100
TZOFFSETTO:+0200
TZNAME:CEST
DTSTART:20240331T010000
END:DAYLIGHT
BEGIN:STANDARD
TZOFFSETFROM:+0200
TZOFFSETTO:+0100
TZNAME:CET
DTSTART:20241027T010000
END:STANDARD
END:VTIMEZONE
BEGIN:VEVENT
DTSTART;TZID=Europe/Madrid:20240215T190000
DTEND;TZID=Europe/Madrid:20240215T203000
DTSTAMP:20260421T203733
CREATED:20240116T122359Z
LAST-MODIFIED:20240214T084123Z
UID:76312-1708023600-1708029000@historico.ateneovalencia.es
SUMMARY:Maestros Artesanos: El papel del ninot en la falla
DESCRIPTION:La Fundación del Ateneo Mercantil de la CV organiza una nueva conferencia que se enmarca en el Ciclo Maestros Artesanos Valencianos y que llega bajo el título "El papel del ninot en la falla" cuyo ponente será el artista fallero Pepe Puche Hernández. Una conferencia que coincidirá en el tiempo con la Exposición 'Ninots de Paper' que la familia Puche montará del 9 al 18 de febrero en la Sala de Exposiciones del Ateneo. \nTítulo: El papel del ninot en la falla \nConferenciante: Pepe Puche Hernández \nDía: Jueves 15 de febrero de 2024 \nHora: 19 horas \nEntrada libre y gratuita hasta completar aforo \nCartel: 
URL:https://historico.ateneovalencia.es/evento/maestros-artesanos-el-papel-del-ninot-en-la-falla/
LOCATION:Salón Sorolla - Ateneo Mercantil de Valencia\, Plaza del Ayuntamiento 18\, Valencia\, Valencia\, 46002\, España
CATEGORIES:Ciclo Maestro Artesanos Valencianos
ATTACH;FMTTYPE=image/jpeg:https://historico.ateneovalencia.es/wp-content/uploads/2024/01/20240215-Conferencia-Ninot-Fallas.jpg
END:VEVENT
END:VCALENDAR