BEGIN:VCALENDAR
VERSION:2.0
PRODID:-//Ateneo Mercantil de Valencia - ECPv6.0.4//NONSGML v1.0//EN
CALSCALE:GREGORIAN
METHOD:PUBLISH
X-WR-CALNAME:Ateneo Mercantil de Valencia
X-ORIGINAL-URL:https://historico.ateneovalencia.es
X-WR-CALDESC:Eventos para Ateneo Mercantil de Valencia
REFRESH-INTERVAL;VALUE=DURATION:PT1H
X-Robots-Tag:noindex
X-PUBLISHED-TTL:PT1H
BEGIN:VTIMEZONE
TZID:Europe/Madrid
BEGIN:DAYLIGHT
TZOFFSETFROM:+0100
TZOFFSETTO:+0200
TZNAME:CEST
DTSTART:20230326T010000
END:DAYLIGHT
BEGIN:STANDARD
TZOFFSETFROM:+0200
TZOFFSETTO:+0100
TZNAME:CET
DTSTART:20231029T010000
END:STANDARD
END:VTIMEZONE
BEGIN:VEVENT
DTSTART;TZID=Europe/Madrid:20231114T193000
DTEND;TZID=Europe/Madrid:20231114T210000
DTSTAMP:20260421T163223
CREATED:20231006T103419Z
LAST-MODIFIED:20231006T104546Z
UID:75614-1699990200-1699995600@historico.ateneovalencia.es
SUMMARY:Ciclo Maestros Artesanos Valencianos: La lliteratura festiva com a patrimoni inmaterial de l'humanitat
DESCRIPTION:La Fundación del Ateneo Mercantil de Valencia organiza la segunda conferencia del Ciclo Maestros Artesanos en la que se tratará la literatura festiva. Bajo el título "La lliteratura festiva com a patrimoni inmaterial de l'humanitat"\, el vicepresidente de formación de Lo Rat Penat y Académico de Número de la RACV\, Óscar Rueda Pitarque\, quien nos hablará sobre la historia de los Llibrets de Falla. \nLa literatura festiva en lengua valenciana\, propia de la fiesta fallera\, es parte indisoluble de los valores patrimoniales por los que las fallas fueron reconocidas como Patrimonio Cultural Inmaterial de la Humanidad por parte de la UNESCO. Desde 1903\, Lo Rat Penat ha convocado el tradicional Concurso de Llibrets de Falla entre las Comisiones Falleres y los poetas valencianos que potencian la literatura satírica en lengua valenciana. Óscar Rueda nos traerá la historia de los Llibrets de Falla que han sido testigos directos y las bases documentales de la propia historia de Las Fallas de Valencia. \nTítulo: La lliteratura festiva com a patrimoni inmaterial de l'humanitat \n Conferenciante: Óscar Rueda Pitarque \nDía: Martes 14 de noviembre de 2023 \nHora: 19.30 horas \nLugar: Salón Sorolla \nEntrada libre y gratuita hasta completar aforo \nBreve currículum de Óscar Rueda Pitarque:\nÓscar Rueda es ingeniero geólogo\, ingeniero de Caminos e Ingeniero Técnico de Obras Públicas por la Universitat Politècnica de Valencia. También es Especialista Universitario en Prevención de Riesgos Laborales por la Universitat de Valencia. Desarrolla su labor profesional en la empresa privada\, especializándose en el campo de la ingeniería del tránsito y la coordinación de seguridad y salud. \nÓscar también es profesor de Llengua Valenciana en Lo Rat Penat\, siendo el actual Director de los Cursos de Llengua i Cultura Valenciana y Vicepresidente de Formación de dicha entidad. Es secretario de la Associació d'Escritors en Llengua Valenciana (AELLVA)\, agregado colaborador de la Secció de Llengua i Lliteratura Valencianes de la RACV y presidente fundador de la Associació cultural Casal Bernat i Baldoví. \nEn septiembre de 2019 fue designado también Académico electo de Número de la RACV. También es presidente fundador de la entidad Foment de les Lletres Valencianes. A través de ella\, es el actual copropietario de la editorial L'Oronella\, que lleva editados más de 200 libros en lengua valenciana\, y miembro del Consell de Redacció de la revista Lletrafaller. \nEs columnista semanal en el diario Las Provincias\, participa de forma habitual en las tertulias de prosa de la AELLVA. Ha participado como colaborador en la Historia del Levante UD. Colabora en las revistas Renou\, Lletraferit y Solcant les lletres\, la revista digital de la AELLVA. Interesado por la lengua y las tradiciones valencianas\, ha impartido varias conferencias sobre la lengua\, las señas de identidad y las fallas. Mantiene también dos blogs de tematica cultural valenciana. \nCartel:\n \n 
URL:https://historico.ateneovalencia.es/evento/ciclo-maestros-artesanos-valencianos-literatura-festiva-como-patrimonio-inmaterial-de-la-humanidad/
LOCATION:Salón Sorolla - Ateneo Mercantil de Valencia\, Plaza del Ayuntamiento 18\, Valencia\, Valencia\, 46002\, España
CATEGORIES:Ciclo Maestro Artesanos Valencianos
ATTACH;FMTTYPE=image/jpeg:https://historico.ateneovalencia.es/wp-content/uploads/2023/10/20231114-Literatura-Festiva-Maestros-Artesanos.jpg
END:VEVENT
END:VCALENDAR