BEGIN:VCALENDAR
VERSION:2.0
PRODID:-//Ateneo Mercantil de Valencia - ECPv6.0.4//NONSGML v1.0//EN
CALSCALE:GREGORIAN
METHOD:PUBLISH
X-WR-CALNAME:Ateneo Mercantil de Valencia
X-ORIGINAL-URL:https://historico.ateneovalencia.es
X-WR-CALDESC:Eventos para Ateneo Mercantil de Valencia
REFRESH-INTERVAL;VALUE=DURATION:PT1H
X-Robots-Tag:noindex
X-PUBLISHED-TTL:PT1H
BEGIN:VTIMEZONE
TZID:Europe/Madrid
BEGIN:DAYLIGHT
TZOFFSETFROM:+0100
TZOFFSETTO:+0200
TZNAME:CEST
DTSTART:20230326T010000
END:DAYLIGHT
BEGIN:STANDARD
TZOFFSETFROM:+0200
TZOFFSETTO:+0100
TZNAME:CET
DTSTART:20231029T010000
END:STANDARD
END:VTIMEZONE
BEGIN:VEVENT
DTSTART;TZID=Europe/Madrid:20230621T190000
DTEND;TZID=Europe/Madrid:20230621T203000
DTSTAMP:20260422T194331
CREATED:20230509T171427Z
LAST-MODIFIED:20230519T075422Z
UID:74272-1687374000-1687379400@historico.ateneovalencia.es
SUMMARY:Escuela de Salud: "El arte de cuidar: una mirada a la enfermería del siglo XXI. Enfoque estético”
DESCRIPTION:La Fundación del Ateneo Mercantil de la CV y AGEA Valencia organizan un nuevo encuentro de la Escuela de Salud del Ateneo. Siguiendo el título de la exposición\, presentamos algunas propuestas sobre el modo de ser enfermera en la sociedad actual\, apoyándonos en el arte de la enfermería\, para proponer una nueva forma de cuidar\, desde una visión estética\, o apreciación de la belleza. \nSe describe el significado de la belleza y el por qué y para qué de su presencia junto a las personas vulnerables. Enumeramos los atributos de la estructura humana puestos en juego en la práctica estética. \nSe cierra la exposición apoyando la necesaria presencia de la meditación sobre lo que hacemos y cómo lo hacemos. \nLa conclusión se títula "el esplendor del encuentro"\, e invita a superar la brecha que nos separa de la belleza y\, olvidándola\, crear la estética o percepción de lo bello en el arte de cuidar. \nTítulo: "El arte de cuidar: una mirada a la enfermería del siglo XXI. Enfoque estético” \nConferenciante: Dra. Amparo Nogales Espert \nDía: Miércoles 21 de junio de 2023 \nHora: 19 horas \nLugar: Salón Sorolla del Ateneo Mercantil de Valencia \nEntrada libre y gratuita hasta completar aforo. \nBreve currículum Amparo Nogales:\nAmparo Nogales Espert. Enfermera. Licenciada en Geografía e Historia\, Universidad Literaria de Valencia. Doctora en Historia Moderna. Facultad de Geografía e Historia Universidad de Valencia\, 1993. Directora de la Escuela Universitaria de Enfermería La Fe de Valencia\, 1996-2000. Master Docencia en Enfermería. Universidad Europea de Barcelona. Bachelor\, 1991-92. Master\, 1992-1993. Master en Bioética Facultad de Medicina  Universidad  Complutense de Madrid. Director\, Prof. Diego Gracia. Madrid\, 2007-2009. \nDoctora en Ciencias Biomédicas. Facultad de Medicina Universidad Complutense de Madrid\, 2015. Profesora Titular de Universidad. Facultad de Ciencias de la Salud\, Universidad Rey Juan Carlos\, Madrid. (Actualmente\, Prof. Honorífica). Académica de Número de la Academia de Enfermería de la Comunidad Valenciana. \nDocencia. Últimos cursos impartido: Máster en Cuidados y atención de enfermería en poblaciones vulnerables. Facultad de Enfermería\, Universidad Autónoma de Madrid. Seminario de Humanidades\, 2021-2022. Máster de Enfermería en Cuidados Críticos. Facultad de Ciencias de la Salud\, Universidad Rey Juan Carlos\, Madrid. Seminario de Bioética y Humanidades. Febrero\, 2023. \nCartel:
URL:https://historico.ateneovalencia.es/evento/escuela-de-salud-el-arte-de-cuidar-una-mirada-a-la-enfermeria-del-siglo-xxi-enfoque-estetico/
LOCATION:Salón Sorolla - Ateneo Mercantil de Valencia\, Plaza del Ayuntamiento 18\, Valencia\, Valencia\, 46002\, España
CATEGORIES:Escuela de Salud
ATTACH;FMTTYPE=image/jpeg:https://historico.ateneovalencia.es/wp-content/uploads/2023/05/20230621-Enferemeria-Arte-de-Curar.jpg
END:VEVENT
END:VCALENDAR