BEGIN:VCALENDAR
VERSION:2.0
PRODID:-//Ateneo Mercantil de Valencia - ECPv6.0.4//NONSGML v1.0//EN
CALSCALE:GREGORIAN
METHOD:PUBLISH
X-WR-CALNAME:Ateneo Mercantil de Valencia
X-ORIGINAL-URL:https://historico.ateneovalencia.es
X-WR-CALDESC:Eventos para Ateneo Mercantil de Valencia
REFRESH-INTERVAL;VALUE=DURATION:PT1H
X-Robots-Tag:noindex
X-PUBLISHED-TTL:PT1H
BEGIN:VTIMEZONE
TZID:Europe/Madrid
BEGIN:DAYLIGHT
TZOFFSETFROM:+0100
TZOFFSETTO:+0200
TZNAME:CEST
DTSTART:20230326T010000
END:DAYLIGHT
BEGIN:STANDARD
TZOFFSETFROM:+0200
TZOFFSETTO:+0100
TZNAME:CET
DTSTART:20231029T010000
END:STANDARD
END:VTIMEZONE
BEGIN:VEVENT
DTSTART;TZID=Europe/Madrid:20230614T190000
DTEND;TZID=Europe/Madrid:20230614T210000
DTSTAMP:20260421T202641
CREATED:20230612T085858Z
LAST-MODIFIED:20230612T090002Z
UID:74476-1686769200-1686776400@historico.ateneovalencia.es
SUMMARY:Escuela de Filosofía: "El amor en el trabajo hecho servicio". Homenaje a Manuel Guillén Parra
DESCRIPTION:En la mañana del pasado Jueves Santo\, el 6 de abril\, recibíamos la noticia del fallecimiento de Manuel Guillén Parra. Nacido en Murcia hace 53 años\, además de fundador\, director y principal investigador del IECO\, era director de la Cátedra de Ética Empresarial IECO-UV. Estaba especializado en el área de liderazgo y confianza en las organizaciones.  Doctor en Ciencias Económicas y Empresariales por la Universitat de València (1998)\, y Licenciado en Administración y Dirección de Empresas por la misma universidad. Era Profesor Titular de Organización de empresas en la Universitat de València. Impartía docencia en las áreas de Fundamentos de Dirección de Empresas\, Comportamiento Humano y Ética empresarial. \nDurante ocho años\, fue el Secretario General de la rama española de la European Business Ethics Network (EBEN-España). Ha sido Visiting Scholar en IESE Business School (Barcelona\, ​​España)\, St. Thomas University (Minnesota)\, Notre Dame University (Indiana) y Bentley University (Massachusetts). Cofundador del Consorcio de Centros de la International Humanistic Management Association (IHMA)\, es miembro investigador del Abigail Adams Institute (Cambridge\, MA) y profesor visitante afiliado al Programa Human Flourishing en la Universidad de Harvard. Manuel era investigador habitual en Harvard\, donde es Representante del Programa de Becas de la Universitat de València\, y participaba activamente como asesor y colaborador de diversas organizaciones de la sociedad civil en España y Estados Unidos. \nHabía publicado recientemente el libro «Motivation in Organisations: Searching for a Meaningful Work-Life Balance» (Routledge\, 2021) y su versión en castellano «Motivación en las Organizaciones y Sentido del Trabajo» (Tirant lo Blanch\, 2021). \nLa Escuela de Filosofía del Ateneo Mercantil\, la Fundación Ateneo Mercantil de la CV y Agea Valencia han organizado un pequeño homenaje a Manuel Guillén Parra bajo el título: "El amor en el trabajo hecho servicio" y en este homenaje se celebrará una mesa redonda en la que participarán los siguientes ponentes: \n\nJoaquín  Aldás Manzano. Catedrático de Comercialización e Investigación de Mercados en la Facultat d’Economia de la Universitat de València.\nTomás González Cruz. Director de la Cátedra de Empresa Familiar de la Universitat de València.\nJoan Fontrodona Felip. Profesor Ordinario y Director del Departamento de Ética Empresarial del IESE Business School.\nAlexis J. Bañón Gomis. Doctor en Gestión Empresarial. Profesor de Organización de empresas de la UPV. Consultor en gestión de talento y personas.\nDomènec Melé Carné. Doctor en ingeniería industrial. Profesor Emérito del Departamento de Ética Empresarial y titular de la Cátedra de Ética Empresarial del IESE. \nGinés Marco Perles. Doctor en Filosofía. Decano de la Facultad de Filosofía\, Letras y Humanidades de la Universidad Católica San Vicente Mártir de Valencia.\n\n  \nTítulo: "El amor en el trabajo hecho servicio". Homenaje a Manuel Guillén Parra \nConferenciantes: Joaquín  Aldás Manzano\, Tomás González Cruz\, Joan Fontrodona Felip\, Alexis J. Bañón Gomis\, Domènec Melé Carné y Ginés Marco Perles. \nDía: Miércoles 14 de junio de 2023 \nHora: 19 horas \nLugar: Salón Sorolla del Ateneo Mercantil de Valencia \nEntrada libre y gratuita hasta completar aforo \nCartel:
URL:https://historico.ateneovalencia.es/evento/escuela-de-filosofia-el-amor-en-el-trabajo-hecho-servicio-homenaje-a-manuel-guillen-parra/
LOCATION:Salón Sorolla - Ateneo Mercantil de Valencia\, Plaza del Ayuntamiento 18\, Valencia\, Valencia\, 46002\, España
CATEGORIES:Escuela de Filosofía
ATTACH;FMTTYPE=image/jpeg:https://historico.ateneovalencia.es/wp-content/uploads/2023/06/20230614-Filosofia-Homenaje-Manuel-Guillen-Parra-1.jpg
END:VEVENT
END:VCALENDAR