BEGIN:VCALENDAR
VERSION:2.0
PRODID:-//Ateneo Mercantil de Valencia - ECPv6.0.4//NONSGML v1.0//EN
CALSCALE:GREGORIAN
METHOD:PUBLISH
X-ORIGINAL-URL:https://historico.ateneovalencia.es
X-WR-CALDESC:Eventos para Ateneo Mercantil de Valencia
REFRESH-INTERVAL;VALUE=DURATION:PT1H
X-Robots-Tag:noindex
X-PUBLISHED-TTL:PT1H
BEGIN:VTIMEZONE
TZID:Europe/Madrid
BEGIN:DAYLIGHT
TZOFFSETFROM:+0100
TZOFFSETTO:+0200
TZNAME:CEST
DTSTART:20230326T010000
END:DAYLIGHT
BEGIN:STANDARD
TZOFFSETFROM:+0200
TZOFFSETTO:+0100
TZNAME:CET
DTSTART:20231029T010000
END:STANDARD
END:VTIMEZONE
BEGIN:VEVENT
DTSTART;TZID=Europe/Madrid:20230419T190000
DTEND;TZID=Europe/Madrid:20230419T203000
DTSTAMP:20260422T222056
CREATED:20230415T163508Z
LAST-MODIFIED:20230415T163510Z
UID:73766-1681930800-1681936200@historico.ateneovalencia.es
SUMMARY:Escuela de Salud del Ateneo: ¿Se pueden prevenir los cánceres del aparato genital femenino?
DESCRIPTION:Los cánceres que afectan los órganos del aparato genital femenino son completamente independientes entre sí\, en cuanto a criterios diagnósticos\, pronóstico y tratamientos. \nEl cáncer de la capa interna del útero (endometrio) es el más frecuente en aquellos países en los que hay programas de prevención del cáncer de cuello de útero (cervix). Si no existen esos programas\, el cáncer de cervix es el más frecuente. Los métodos de diagnóstico precoz del adenocarcinoma de endometrio se aplican de manera selectiva a mujeres que presentan síntomas (sangrado irregular\, sobre todo en perimenopausia y fundamentalmente en menopausia); no son aplicables a población general. \nEn el cáncer de ovario\, el diagnóstico precoz aún no está inventado en ninguna parte del mundo; y menos la prevención. No hay síntomas específicos en los estadios iniciales. Hoy en día\, lo único que podemos hacer es diagnosticar lo antes posible. Afortunadamente es un cáncer muy poco frecuente. \nLa mayoría de los cánceres de vulva y vagina se diagnostican en estados avanzados\, a pesar de ser órganos externos y visibles; y ello es por la reticencia de las mujeres mayores en acudir a su especialista. Sus síntomas fundamentales son picor\, dolor\, tumor y manchas en la piel de la vulva\, todos ellos de larga evolución. \nEn el cáncer de cuello de útero sí que sabemos su causa: la infección persistente por determinados tipos de virus del papiloma (VPH); y por tanto\, sí que podemos hacer prevención: con las vacunas VPH a niñas y niños de 12 años; y con la práctica de la citología a partir de los 25 años\, cada 3 años hasta los 65; o con la determinación del ADN del virus el papiloma. \nTítulo: ¿Se pueden prevenir los cánceres del aparato genital femenino? \nConferenciante: Dr. Enrique García García \nDía: Miércoles 19 de abril de 2023 \nHora: 19 horas \nLugar: Salón Sorolla del Ateneo Mercantil \nEntrada libre y gratuita hasta completar aforo. \nBreve currículum del Dr. Enrique García García:\nGinecólogo. Ex jefe del Servicio de Ginecología del IVO. Ex coordinador de la Sección de Oncología de la SOGCV y miembro de Honor de la Sociedad Española de Ginecología y Obstetricia (SEGO) en 2016. \nCartel:
URL:https://historico.ateneovalencia.es/evento/escuela-de-salud-del-ateneo-se-pueden-prevenir-los-canceres-del-aparato-genital-femenino/
LOCATION:Salón Sorolla - Ateneo Mercantil de Valencia\, Plaza del Ayuntamiento 18\, Valencia\, Valencia\, 46002\, España
CATEGORIES:Escuela de Salud
ATTACH;FMTTYPE=image/jpeg:https://historico.ateneovalencia.es/wp-content/uploads/2023/04/20230419-Eescuela-Salud-Cancer-aparato-genital-femenino.jpg
END:VEVENT
END:VCALENDAR