BEGIN:VCALENDAR
VERSION:2.0
PRODID:-//Ateneo Mercantil de Valencia - ECPv6.0.4//NONSGML v1.0//EN
CALSCALE:GREGORIAN
METHOD:PUBLISH
X-ORIGINAL-URL:https://historico.ateneovalencia.es
X-WR-CALDESC:Eventos para Ateneo Mercantil de Valencia
REFRESH-INTERVAL;VALUE=DURATION:PT1H
X-Robots-Tag:noindex
X-PUBLISHED-TTL:PT1H
BEGIN:VTIMEZONE
TZID:Europe/Madrid
BEGIN:DAYLIGHT
TZOFFSETFROM:+0100
TZOFFSETTO:+0200
TZNAME:CEST
DTSTART:20220327T010000
END:DAYLIGHT
BEGIN:STANDARD
TZOFFSETFROM:+0200
TZOFFSETTO:+0100
TZNAME:CET
DTSTART:20221030T010000
END:STANDARD
END:VTIMEZONE
BEGIN:VEVENT
DTSTART;TZID=Europe/Madrid:20221123T190000
DTEND;TZID=Europe/Madrid:20221123T210000
DTSTAMP:20260423T164856
CREATED:20221111T181627Z
LAST-MODIFIED:20221112T075915Z
UID:71785-1669230000-1669237200@historico.ateneovalencia.es
SUMMARY:Escuela de Filosofía: "Ética e integridad en la actuación de los gestores públicos"
DESCRIPTION:La ética y la integridad en el sector público incide en el uso de poderes y recursos confiados al sector público de forma efectiva\, honesta y para fines públicos. Los estándares éticos relacionados adicionales que se espera que sostenga el sector público incluyen transparencia\, rendición de cuentas\, eficiencia y competencia. La integridad pública es esencial para promover el bien público y garantizar la legitimidad de las organizaciones públicas\, es decir\, es la antítesis de la corrupción.  \nSin embargo éste es un desafío complejo\, ya que implica algo más que simplemente requerir que los miembros del personal sostengan los estándares éticos personales y profesionales. Sin una cultura ética y un sistema de gestión de integridad apropiado a nivel organizacional\, los funcionarios públicos pueden enfrentarse a obstáculos que les impidan actuar con integridad a nivel individual a pesar de sus esfuerzos. \nLa Escuela de Filosofía del Ateneo cuenta con D. Ginés Marco Perles como director científico y la conferencia estará moderada por José Alfredo Pellicer Artés. \n \nTítulo: "Ética e integridad en la actuación de los gestores públicos" \nConferenciante: Dª. Violeta Pardo Pérez \nDía: Miércoles\, 23 de noviembre de 2022 \nHora: 19:00 horas  \nLugar: Sala de Ocio \nLa entrada es libre y gratuita hasta completar aforo. \nCurriculum abreviado de Violeta Pardo Pérez \nLicenciada en Derecho\, Ciencias Políticas y de la Administración y Criminología por la Universitat de València. Máster en Mediación y Gestión Eficiente de Conflictos (ICAV-CEU). Máster en Derecho y Violencia de Género por la Universitat de València. Actual doctoranda por la Universidad Católica de Valencia. Técnica de transparencia y participación ciudadana del Ayuntamiento de Valencia. \nCartel:\n \n  \n 
URL:https://historico.ateneovalencia.es/evento/escuela-de-filosofia-etica-e-integridad-en-la-actuacion-de-los-gestores-publicos/
LOCATION:Sala de Ocio - Ateneo Mercantil de Valencia\, Plaza del Ayuntamiento\, 18\, Valencia\, España\, Valencia\, Valencia\, 46002\, España
CATEGORIES:Escuela de Filosofía
ATTACH;FMTTYPE=image/jpeg:https://historico.ateneovalencia.es/wp-content/uploads/2022/11/20221123-FILOSOFIA-ETICA-GESTORES-PUBLICOS-1.jpg
END:VEVENT
END:VCALENDAR