BEGIN:VCALENDAR
VERSION:2.0
PRODID:-//Ateneo Mercantil de Valencia - ECPv6.0.4//NONSGML v1.0//EN
CALSCALE:GREGORIAN
METHOD:PUBLISH
X-ORIGINAL-URL:https://historico.ateneovalencia.es
X-WR-CALDESC:Eventos para Ateneo Mercantil de Valencia
REFRESH-INTERVAL;VALUE=DURATION:PT1H
X-Robots-Tag:noindex
X-PUBLISHED-TTL:PT1H
BEGIN:VTIMEZONE
TZID:Europe/Madrid
BEGIN:DAYLIGHT
TZOFFSETFROM:+0100
TZOFFSETTO:+0200
TZNAME:CEST
DTSTART:20220327T010000
END:DAYLIGHT
BEGIN:STANDARD
TZOFFSETFROM:+0200
TZOFFSETTO:+0100
TZNAME:CET
DTSTART:20221030T010000
END:STANDARD
END:VTIMEZONE
BEGIN:VEVENT
DTSTART;TZID=Europe/Madrid:20221115T190000
DTEND;TZID=Europe/Madrid:20221115T210000
DTSTAMP:20260423T164853
CREATED:20221014T104105Z
LAST-MODIFIED:20221107T125827Z
UID:71442-1668538800-1668546000@historico.ateneovalencia.es
SUMMARY:Escuela de Salud: "La comunicación adecuada genera bienestar y salud: La Escucha Activa"
DESCRIPTION:La metodología de la Escucha Activa: Actitudes\, Habilidades y Estructura de Intervención\, basada en el Modelo Humanista Counselling centrado en la persona\, complementa a la formación que podamos tener sobre comunicación. Abre un nuevo horizonte a las personas que han optado por conocerla y formarse en ella. Al alcance de toda persona por su sentido práctico y estructura sencilla\, fácil de asimilar. Aplicarla\, modifica el diálogo. Evaluada por personas que se han formado. Digamos sí a la Escucha Activa. \nRegresa al Ateneo Mercantil de Valencia\, la Escuela de Salud del Ateneo que organiza Agea Valencia con una conferencia sobre la escucha activa y que será impartida por Elena Ariste Mur. La conferencia llega bajo el título "La comunicación adecuada genera bienestar y salud: La Escucha Activa" y se impartirá el próximo martes 15 de noviembre a las 19 horas en el Salón Sorolla. Actuará de moderadora la Dra. Rosa María Marín Torrens. \nBreve curriculum de Elena Ariste Mur:\nElena Ariste Mur. Licenciada en Filosofía (Univ. Melbourne). Counselor clínico (Hospital Oncología Melbourne) y 10 años experiencia asistencial en el ámbito sanitario (Melbourne). Máster en Counselling (Univ. Ramón Llull\, Barcelona). Experiencia Docente en Counselling/ Escucha Activa para profesionales del ámbito sanitario y otros en España durante 16 años. \nBreve curriculum de Rosa María Marín Torrens:\nRosa María Marín Torrens. Doctora en Medicina. Especialista en Salud Pública. Máster en Salud Comunitaria (Univ. Valencia). Investigadora y Docente en temas de Salud Pública y Responsable de la gestión de Planes de Formación Posgrado para profesionales sanitarios (30 años). EVES\, Consellería de Sanitat. Generalitat Valenciana. \nCartel:
URL:https://historico.ateneovalencia.es/evento/escuela-de-salud-la-comunicacion-adecuada-genera-bienestar-y-salud-la-escucha-activa/
LOCATION:Salón Sorolla - Ateneo Mercantil de Valencia\, Plaza del Ayuntamiento 18\, Valencia\, Valencia\, 46002\, España
CATEGORIES:Escuela de Salud
ATTACH;FMTTYPE=image/jpeg:https://historico.ateneovalencia.es/wp-content/uploads/2022/10/20221116-Salud-Escucha-Activa.jpg
END:VEVENT
END:VCALENDAR