BEGIN:VCALENDAR
VERSION:2.0
PRODID:-//Ateneo Mercantil de Valencia - ECPv6.0.4//NONSGML v1.0//EN
CALSCALE:GREGORIAN
METHOD:PUBLISH
X-ORIGINAL-URL:https://historico.ateneovalencia.es
X-WR-CALDESC:Eventos para Ateneo Mercantil de Valencia
REFRESH-INTERVAL;VALUE=DURATION:PT1H
X-Robots-Tag:noindex
X-PUBLISHED-TTL:PT1H
BEGIN:VTIMEZONE
TZID:Europe/Madrid
BEGIN:DAYLIGHT
TZOFFSETFROM:+0100
TZOFFSETTO:+0200
TZNAME:CEST
DTSTART:20220327T010000
END:DAYLIGHT
BEGIN:STANDARD
TZOFFSETFROM:+0200
TZOFFSETTO:+0100
TZNAME:CET
DTSTART:20221030T010000
END:STANDARD
END:VTIMEZONE
BEGIN:VEVENT
DTSTART;TZID=Europe/Madrid:20221026T183000
DTEND;TZID=Europe/Madrid:20221026T203000
DTSTAMP:20260423T183151
CREATED:20221011T112935Z
LAST-MODIFIED:20221018T102706Z
UID:71413-1666809000-1666816200@historico.ateneovalencia.es
SUMMARY:Escuela de Filosofía del Ateneo: “Filosofía y Economía"
DESCRIPTION:La Escuela de Filosofía del Ateneo Mercantil\, junto a la Asociación Grupo de Estudios de Actualidad de Valencia\, Agea Valencia\, y el Foro EHT/CV Empresa\, Humanismo y Tecnología de la Comunidad Valenciana han organizado un nuevo encuentro filosófico en nuestra institución. El próximo miércoles 26 de octubre\, a 18:30 horas\, en el Salón Sorolla (5ª planta). \nEl acceso al acto es libre\, será presencial y online. Si quieres asistir tienes que cursar una solicitud de inscripción en el siguiente email: reservas@fehytcv.com. Indicando: "Presencial" o "Distancia". Para más información en la Asociación Foro EHT/CV en www.fehtcv.es. \nEnlace para el Online: \nPrograma\nLa economía y la empresa como cualquier actividad humana precisa de claridad y solidez en los planteamientos antropológicos que consiguen hacer felices a las personas\, condición para el éxito en las operaciones de las unidades económicas de iniciativa social privada o pública y de la economía en general. Conjugan de manera estable la libertad y la responsabilidad social con la libertad y la creatividad de las personas. A esos efectos son de alto interés las aportaciones del filósofo español Leonardo Polo Barrena. Se tratarán hallazgos\, contrastes e implicaciones en el contexto actual. \nHorario\n18.30 h. Recepción y presentación\nD. LUIS MARTÍNEZ OCHOA. Vicepresidente Foro EHT/CV. Doctor Ciencias Económicas. \n18:35 h. Mesa Redonda-coloquio "Filosofía y Economía"\nD. GINES MARCO PERLES. Decano de la Facultad de Filosofía\, Letras y Humanidades de la Universidad Católica "San Vicente Mártir" de Valencia.\nD. JESUS IGNACIO FALGUERAS SALINAS. Catedrático de Historia de la Filosofía Moderna y Contemporánea. Universidad de Málaga.\nD. IGNACIO FALGUERAS SORAUREN. Profesor Doctor de Teoría e Historia Económica. Universidad de Málaga. \n20 h. Clausura:\nD. IÑIGO PARRA CAMPOS. Presidente del Foro EHT/CV. CEO Stadler Rail Valencia. \nCurriculum abreviados ponentes:\nGINES MARCO PERLES. Profesor Doctor. Decano de la Facultad de Filosofía en la Universidad Católica de Valencia “San Vicente Mártir” (UCV). Licenciado en Filosofía y Licenciado en Derecho. Doctor en Filosofía por la Universidad de Valencia (UVEG). Es Director del recientemente reacreditado por ANECA “Máster Universitario en Marketing Político y Comunicación Institucional” de la Universidad Católica de Valencia en sus ocho años de singladura. Ha sido también decano de la Facultad de Derecho y Vicerrector de Investigación y Ordenación académica. \nJESUS IGNACIO FALGUERAS SALINAS. Catedrático Emérito de Historia de la Filosofía Moderna y Contemporánea de la Universidad de Málaga\, en la que fundó y dirigió su Sección de Filosofía\, el Departamento de Filosofía y el Grupo de Investigación sobre el Idealismo Alemán desde 1978 hasta 2010. También es fundador de la Sociedad Andaluza de Filosofía\, de la revista Thémata y del “Instituto de Estudios Filosóficos Leonardo Polo” y su revista de prepublicaciones on-line Miscelánea Poliana\, de la que fue director hasta el 2015. Es Presidente del Consejo Asesor para la edición de las Obras Completas de Leonardo Polo\, a la que ha contribuido con la Introducción general. \nIGNACIO FALGUERAS SORAUREN. Profesor del Departamento de Teoría Económica de la Universidad de Málaga. Doctor en Ciencias Económicas y Empresariales por la Universidad de Navarra. En la actualidad imparte docencia en materias del área de Fundamentos de Economía: Microeconomía\, Macroeconomía\, Economía Industrial\, Introducción a la Economía y otras. \nCartel:
URL:https://historico.ateneovalencia.es/evento/escuela-de-filosofia-del-ateneo-filosofia-y-economia/
LOCATION:Salón Sorolla - Ateneo Mercantil de Valencia\, Plaza del Ayuntamiento 18\, Valencia\, Valencia\, 46002\, España
CATEGORIES:Escuela de Filosofía
ATTACH;FMTTYPE=image/jpeg:https://historico.ateneovalencia.es/wp-content/uploads/2022/10/20221026-Escuela-Filosofia-Filosofia-Economia.jpg
END:VEVENT
END:VCALENDAR