BEGIN:VCALENDAR
VERSION:2.0
PRODID:-//Ateneo Mercantil de Valencia - ECPv6.0.4//NONSGML v1.0//EN
CALSCALE:GREGORIAN
METHOD:PUBLISH
X-WR-CALNAME:Ateneo Mercantil de Valencia
X-ORIGINAL-URL:https://historico.ateneovalencia.es
X-WR-CALDESC:Eventos para Ateneo Mercantil de Valencia
REFRESH-INTERVAL;VALUE=DURATION:PT1H
X-Robots-Tag:noindex
X-PUBLISHED-TTL:PT1H
BEGIN:VTIMEZONE
TZID:Europe/Madrid
BEGIN:DAYLIGHT
TZOFFSETFROM:+0100
TZOFFSETTO:+0200
TZNAME:CEST
DTSTART:20220327T010000
END:DAYLIGHT
BEGIN:STANDARD
TZOFFSETFROM:+0200
TZOFFSETTO:+0100
TZNAME:CET
DTSTART:20221030T010000
END:STANDARD
END:VTIMEZONE
BEGIN:VEVENT
DTSTART;TZID=Europe/Madrid:20220622T190000
DTEND;TZID=Europe/Madrid:20220622T203000
DTSTAMP:20260424T151436
CREATED:20220617T111600Z
LAST-MODIFIED:20220617T113543Z
UID:70591-1655924400-1655929800@historico.ateneovalencia.es
SUMMARY:"¿Es posible crear un virus como el de la COVID-19? Perspectivas y límites de la Biología Sintética”
DESCRIPTION:La Escuela de Salud del Ateneo Mercantil regresa a nuestra institución el próximo miércoles 22 de junio a las 19 horas en el Salón Sorolla para hablarnos sobre la actualidad de la Biología Sintética\, sobre sus avances\, pero también sobre los peligros. El Prof. Dr. José Miguel Hernández Andreu será el especialista que nos explicará con todo detalle la Biología Sintética. El presentador del evento será el biólogo\, Pedro López García. \nEnlace para seguir Online: https://us06web.zoom.us/j/85490703799\n\nA través de la Biología Sintética\, los científicos pueden modificar organismos o incluso crear otros nuevos que no existen en la Naturaleza. La promesa es ofrecer soluciones novedosas en el ámbito de las ciencias de la salud con nuevas vacunas\, nuevas terapias farmacológicas\, etc. y también en los ámbitos industrial y medioambiental\, con la producción\, por ejemplo\, de biosensores para la detección de contaminantes ambientales. \nSin embargo\, ¿qué riesgo presenta el desarrollo de esta tecnología? ¿dónde están sus límites éticos y técnicos? ¿podemos crear cualquier tipo de nuevo organismo? En esta sesión abordaremos todos estos temas y plantearemos los retos técnicos y bioéticos que surgen con esta disciplina\, algunos de ellos de gran actualidad como pueden ser el origen de virus de la COVID-19 o el desarrollo de vacunas frente a este.” \nCurriculum de José Miguel Hernández Andreu\nDoctor en Farmacia por la Universidad de Valencia. Profesor Agregado de la Facultad de Medicina y Ciencias de la Salud y Director del Departamento de Ciencias Biomédicas Básicas de la Universidad Católica de Valencia "San Vicente Mártir". \nHa sido director del Máster Universitario en "Desarrollo y Monitorización de Ensayos Clínicos" y Vicerrector de Investigación en esta misma universidad. Es experto en Biología Molecular y en la actualidad sus líneas de investigación se centran en el estudio de la biogénesis mitocondrial y el uso de mitocondrias como vectores terapéuticos y recientemente ha publicado artículos en revistas internacionales sobre los avances en Biología sintética y sus dilemas éticos. \nCartel:
URL:https://historico.ateneovalencia.es/evento/es-posible-crear-un-virus-como-el-de-la-covid-19-perspectivas-y-limites-de-la-biologia-sintetica/
LOCATION:Salón Sorolla - Ateneo Mercantil de Valencia\, Plaza del Ayuntamiento 18\, Valencia\, Valencia\, 46002\, España
CATEGORIES:Escuela de Salud
ATTACH;FMTTYPE=image/jpeg:https://historico.ateneovalencia.es/wp-content/uploads/2022/06/20220622-Escuela-Salud-Biogenetica-Sintetica.jpg
END:VEVENT
END:VCALENDAR