BEGIN:VCALENDAR
VERSION:2.0
PRODID:-//Ateneo Mercantil de Valencia - ECPv6.0.4//NONSGML v1.0//EN
CALSCALE:GREGORIAN
METHOD:PUBLISH
X-WR-CALNAME:Ateneo Mercantil de Valencia
X-ORIGINAL-URL:https://historico.ateneovalencia.es
X-WR-CALDESC:Eventos para Ateneo Mercantil de Valencia
REFRESH-INTERVAL;VALUE=DURATION:PT1H
X-Robots-Tag:noindex
X-PUBLISHED-TTL:PT1H
BEGIN:VTIMEZONE
TZID:Europe/Madrid
BEGIN:DAYLIGHT
TZOFFSETFROM:+0100
TZOFFSETTO:+0200
TZNAME:CEST
DTSTART:20220327T010000
END:DAYLIGHT
BEGIN:STANDARD
TZOFFSETFROM:+0200
TZOFFSETTO:+0100
TZNAME:CET
DTSTART:20221030T010000
END:STANDARD
END:VTIMEZONE
BEGIN:VEVENT
DTSTART;TZID=Europe/Madrid:20220525T190000
DTEND;TZID=Europe/Madrid:20220525T203000
DTSTAMP:20260424T081614
CREATED:20220421T064832Z
LAST-MODIFIED:20220516T120817Z
UID:69643-1653505200-1653510600@historico.ateneovalencia.es
SUMMARY:Escuela de Salud: "De la ‘A’ a la ‘Z’. Factores para vivir neuroprotegidos"
DESCRIPTION:Desde la Cátedra «DeCo MICOF CEU UCH» profesores e investigadores han elaborado un estudio centrado en identificar los factores de riesgo modificables en el estilo de vida para la prevención de la demencia\, relacionando cada uno con una letra del alfabeto para que resulte más fácil difundir entre la población. La doctora Lucrecia Moreno ha destacado que el estudio está pensado también como una herramienta de sensibilización y educación social frente a la demencia y otras enfermedades neurodegenerativas. \nUna conferencia que se impartirá en el Ateneo Mercantil de Valencia el próximo miércoles 25 de mayo a las 19 horas en el Salón de Actos por la Dra. Lucrecia Moreno Royo\, Doctora en Farmacia y Catedrática de Farmacología en Universidad CEU Cardenal Herrera. Por su parte\, la presentadora y moderadora será Dña. María de los Ángeles Rodríguez Castaño. Escritora y Presidente de FAECA. \nEnlace para la conferencia Online: https://us06web.zoom.us/j/81310175604\n\nCurriculum de Lucrecia Moreno: \n\nDoctora en Farmacia\, tesis doctoral premiada por la Real Academia de Medicina de Valencia con la correspondiente nominación académica (1996). Posdoctorado en Instituto de Biomedicina-CSIC de Valencia (1997-9) y actualmente Catedrática en Farmacología en la Universidad CEU Cardenal Herrera.\nCuatro sexenios de investigación. Ha dirigido 15 tesis doctorales\, 46 conferencias por invitación\, 19 proyectos de investigación\, 91 artículos\, 21 capítulos de libros\, 6 libros y 265 comunicaciones a congresos.\nLidera el grupo de investigación: Uso Racional de Medicamentos y dirige la Cátedra DeCo de investigación sobre el deterioro cognitivo.\n\nCurriculum de M. A. Rodríguez:\n\n\nIngeniero Técnico Agrícola (Universidad Politécnica de Valencia). Madre de familia numerosa\, abuela\, profesora jubilada y escritora\, presidente de la asociación FAECA (familia-escuela-calidad). \n\n\nCartel:
URL:https://historico.ateneovalencia.es/evento/escuela-de-salud-de-la-a-a-la-z-factores-para-vivir-neuroprotegidos/
LOCATION:Teatro Ateneo
CATEGORIES:Escuela de Salud
ATTACH;FMTTYPE=image/jpeg:https://historico.ateneovalencia.es/wp-content/uploads/2022/04/20220525-Escuela-de-Salud-Neuroprotectores.jpg
END:VEVENT
END:VCALENDAR