BEGIN:VCALENDAR
VERSION:2.0
PRODID:-//Ateneo Mercantil de Valencia - ECPv6.0.4//NONSGML v1.0//EN
CALSCALE:GREGORIAN
METHOD:PUBLISH
X-ORIGINAL-URL:https://historico.ateneovalencia.es
X-WR-CALDESC:Eventos para Ateneo Mercantil de Valencia
REFRESH-INTERVAL;VALUE=DURATION:PT1H
X-Robots-Tag:noindex
X-PUBLISHED-TTL:PT1H
BEGIN:VTIMEZONE
TZID:Europe/Madrid
BEGIN:DAYLIGHT
TZOFFSETFROM:+0100
TZOFFSETTO:+0200
TZNAME:CEST
DTSTART:20220327T010000
END:DAYLIGHT
BEGIN:STANDARD
TZOFFSETFROM:+0200
TZOFFSETTO:+0100
TZNAME:CET
DTSTART:20221030T010000
END:STANDARD
END:VTIMEZONE
BEGIN:VEVENT
DTSTART;TZID=Europe/Madrid:20220214T190000
DTEND;TZID=Europe/Madrid:20220214T203000
DTSTAMP:20260425T173347
CREATED:20220203T085728Z
LAST-MODIFIED:20220209T153458Z
UID:66820-1644865200-1644870600@historico.ateneovalencia.es
SUMMARY:Escuela de Filosofía: "Del silencio de Dios a la irrelevancia del hombre. Claves antropológicas y retos bioéticos de la tardomodernidad"
DESCRIPTION:La Escuela de Filosofía del Ateneo Mercantil regresa el próximo lunes 14 de febrero a las 19 horas en el Salón Sorolla con la conferencia "Del silencio de Dios a la irrelevancia del hombre. Claves antropológicas y retos bioéticos de la tardomodernidad" que nos trae el Doctor en Antropología. Profesor de Antropología Filosófica y Bioética. Miembro del Instituto de Ciencias de la Vida y del Observatorio de Bioética de la UCV\, Prof. Dr. Enrique Burguete Miguel. \nEnlace para la conferencia Online: https://us06web.zoom.us/j/89856934618\nUna conferencia en la que se tratará las dificultades del hombre contemporáneo para entenderse a sí mismo\, para conocer su telos y para ejercer su libertad. En la Gaia Ciencia\, Nietzsche profetizó un escenario sin Dios (en el que la noche es más noche y el futuro se agranda\, y hace falta encender las linternas en pleno día). Nos preguntaremos si se ha cumplido su profecía\, intentando explicar las claves de la cultura tardomoderna en nuestra experiencia cotidiana (racionalización\, emotivismo\, existencialismo y posverdad); y cómo la pérdida de los asideros que fijaban nuestra relación con el mundo (familia\, trabajo y religión) nos ha dejado ayunos de sentido y expuestos a la manipulación. \nCartel:
URL:https://historico.ateneovalencia.es/evento/escuela-de-filosofia-del-silencio-de-dios-a-la-irrelevancia-del-hombre-claves-antropologicas-y-retos-bioeticos-de-la-tardomodernidad/
LOCATION:Salón Sorolla - Ateneo Mercantil de Valencia\, Plaza del Ayuntamiento 18\, Valencia\, Valencia\, 46002\, España
CATEGORIES:Conferencias
ATTACH;FMTTYPE=image/jpeg:https://historico.ateneovalencia.es/wp-content/uploads/2022/02/20220214-Escuela-Filosofia-Tardomodernidad.jpg
END:VEVENT
END:VCALENDAR