BEGIN:VCALENDAR
VERSION:2.0
PRODID:-//Ateneo Mercantil de Valencia - ECPv6.0.4//NONSGML v1.0//EN
CALSCALE:GREGORIAN
METHOD:PUBLISH
X-ORIGINAL-URL:https://historico.ateneovalencia.es
X-WR-CALDESC:Eventos para Ateneo Mercantil de Valencia
REFRESH-INTERVAL;VALUE=DURATION:PT1H
X-Robots-Tag:noindex
X-PUBLISHED-TTL:PT1H
BEGIN:VTIMEZONE
TZID:Europe/Madrid
BEGIN:DAYLIGHT
TZOFFSETFROM:+0100
TZOFFSETTO:+0200
TZNAME:CEST
DTSTART:20210328T010000
END:DAYLIGHT
BEGIN:STANDARD
TZOFFSETFROM:+0200
TZOFFSETTO:+0100
TZNAME:CET
DTSTART:20211031T010000
END:STANDARD
END:VTIMEZONE
BEGIN:VEVENT
DTSTART;TZID=Europe/Madrid:20211117T190000
DTEND;TZID=Europe/Madrid:20211117T203000
DTSTAMP:20260425T133411
CREATED:20211113T152510Z
LAST-MODIFIED:20211113T152644Z
UID:65834-1637175600-1637181000@historico.ateneovalencia.es
SUMMARY:Escuela de Filosofía del Ateneo: "Génesis Histórica del Transhumanismo"
DESCRIPTION:La Escuela de Filosofía del Ateneo en colaboración con AGEA Valencia han organizado un nuevo encuentro filosófico este próximo miércoles 17 de noviembre en el Salón Sorolla a las 19 horas. La conferencia "Génesis Histórica del Transhumanismo" la ofrecerá el doctor en Filosofía Transhumanista y profesor de la Universidad Católica Santa Teresa de Jesús de Ávila\, Rafael Monterve Ferrando.  \nLa conferencia versará sobre la introducción al pensamiento transhumanista y su historia\, a través de Dante Alighieri\, Julian Huxley\, Pierre Teilhard de Chardin\, F.M. Esfandiary y Raymond Kurzweil\, y  se realizará una exposición sintética de esta corriente de pensamiento. \nRafael Monterde Ferrando\, Valencia (1989). Doctor en Filosofía transhumanista por la Escuela de Doctorado de la Universidad Católica de Valencia. Realizó su investigación sobre la filosofía de la historia en el transhumanismo titulada "El ocaso de la humanidad: la singularidad tecnológica como fin de la historia". Ha estudiado el Grado en Filosofía en la Universidad de Valencia (2011-15) y realizó el Máster en Derechos Humanos\, Paz y Desarrollo Sostenible en la misma Universidad. Ha publicado diversos artículos. \n\nPertenece a la Cátedra John Henry Newman de la Universidad Católica Santa Teresa de Jesús de Ávila.\nCoordinador Adjunto del Grado en Filosofía de la Universidad Abat Oliba CEU y de la Universidad Católica Santa Teresa de Jesús de Ávila.\nProfesor del Departamento de Humanidades de la Universidad Católica Santa Teresa de Jesús de Ávila.\n\nCartel:
URL:https://historico.ateneovalencia.es/evento/escuela-de-filosofia-del-ateneo-genesis-historica-del-transhumanismo/
LOCATION:Salón Sorolla - Ateneo Mercantil de Valencia\, Plaza del Ayuntamiento 18\, Valencia\, Valencia\, 46002\, España
CATEGORIES:Escuela de Filosofía
ATTACH;FMTTYPE=image/jpeg:https://historico.ateneovalencia.es/wp-content/uploads/2021/11/20211117-Escuela-de-Filosofia-Transhumanismo.jpg
END:VEVENT
END:VCALENDAR