BEGIN:VCALENDAR
VERSION:2.0
PRODID:-//Ateneo Mercantil de Valencia - ECPv6.0.4//NONSGML v1.0//EN
CALSCALE:GREGORIAN
METHOD:PUBLISH
X-WR-CALNAME:Ateneo Mercantil de Valencia
X-ORIGINAL-URL:https://historico.ateneovalencia.es
X-WR-CALDESC:Eventos para Ateneo Mercantil de Valencia
REFRESH-INTERVAL;VALUE=DURATION:PT1H
X-Robots-Tag:noindex
X-PUBLISHED-TTL:PT1H
BEGIN:VTIMEZONE
TZID:Europe/Madrid
BEGIN:DAYLIGHT
TZOFFSETFROM:+0100
TZOFFSETTO:+0200
TZNAME:CEST
DTSTART:20210328T010000
END:DAYLIGHT
BEGIN:STANDARD
TZOFFSETFROM:+0200
TZOFFSETTO:+0100
TZNAME:CET
DTSTART:20211031T010000
END:STANDARD
END:VTIMEZONE
BEGIN:VEVENT
DTSTART;TZID=Europe/Madrid:20211013T190000
DTEND;TZID=Europe/Madrid:20211013T203000
DTSTAMP:20260425T223649
CREATED:20211006T160502Z
LAST-MODIFIED:20211007T123905Z
UID:65138-1634151600-1634157000@historico.ateneovalencia.es
SUMMARY:Escuela de Filosofía: "¿Puede definirse al amor? Un análisis filosófico"
DESCRIPTION:La Escuela de Filosofía del Ateneo regresa el próximo miércoles 13 de octubre a las 19 horas en el Salón Sorolla con la conferencia "¿Puede definirse al amor? Un análisis filosófico" que impartirá el Doctor en Filosofía y profesor de la Universidad Católica de Valencia y del Instituto de Investigación Edith Stein\, José Vicente Bonet Sánchez. El acto lo presenta D. José Alfredo Pellicer de AGEA. \nExiste una desproporción entre la importancia práctica que tiene el amor en nuestras vidas y el papel que algunas corrientes de la filosofía reciente (por no hablar de la moderna) le han atribuido. Solo en las últimas décadas ha corregido esta laguna la llamada filosofía analítica angloamericana\, corriente que reivindica\, más que ninguna otra hoy\, el rigor conceptual y argumentativo. Es en ese marco que nos preguntamos por la naturaleza del amor. Decía E. Fromm que el amor es un arte. Pero\, ¿es siempre el mismo arte? Es decir\, ¿existe algo que compartan la amistad\, el amor de pareja y las relaciones de parentesco? Hablamos\, en efecto\, del amor a las personas (no a los ideales\, la patria o la naturaleza\, que son cuestión posterior). Pero\, ¿qué es lo que amamos en las personas?\, ¿amamos su ser o sus cualidades? Nuestra modesta reflexión\, alejada por completo de la literatura (que acaso nunca\, en los tiempos modernos\, haya abandonado este tema)\, es de índole descriptiva y conceptual\, intelectual\, no precisamente afectiva ni práctica. \nCartel:
URL:https://historico.ateneovalencia.es/evento/escuela-de-filosofia-puede-definirse-al-amor-un-analisis-filosofico/
LOCATION:Salón Sorolla - Ateneo Mercantil de Valencia\, Plaza del Ayuntamiento 18\, Valencia\, Valencia\, 46002\, España
CATEGORIES:Escuela de Filosofía
ATTACH;FMTTYPE=image/jpeg:https://historico.ateneovalencia.es/wp-content/uploads/2021/10/20211013-Escuela-Filosofia-Amor.jpg
END:VEVENT
END:VCALENDAR