BEGIN:VCALENDAR
VERSION:2.0
PRODID:-//Ateneo Mercantil de Valencia - ECPv6.0.4//NONSGML v1.0//EN
CALSCALE:GREGORIAN
METHOD:PUBLISH
X-ORIGINAL-URL:https://historico.ateneovalencia.es
X-WR-CALDESC:Eventos para Ateneo Mercantil de Valencia
REFRESH-INTERVAL;VALUE=DURATION:PT1H
X-Robots-Tag:noindex
X-PUBLISHED-TTL:PT1H
BEGIN:VTIMEZONE
TZID:Europe/Madrid
BEGIN:DAYLIGHT
TZOFFSETFROM:+0100
TZOFFSETTO:+0200
TZNAME:CEST
DTSTART:20210328T010000
END:DAYLIGHT
BEGIN:STANDARD
TZOFFSETFROM:+0200
TZOFFSETTO:+0100
TZNAME:CET
DTSTART:20211031T010000
END:STANDARD
END:VTIMEZONE
BEGIN:VEVENT
DTSTART;TZID=Europe/Madrid:20210913T180000
DTEND;TZID=Europe/Madrid:20210913T190000
DTSTAMP:20260425T174335
CREATED:20210902T104702Z
LAST-MODIFIED:20210907T072751Z
UID:64730-1631556000-1631559600@historico.ateneovalencia.es
SUMMARY:Presentación de la octava edición del Aula Cultural del Ateneo Mercantil
DESCRIPTION:La octava edición del Aula Cultural del Ateneo Mercantil de Valencia se pone en marcha el próximo lunes 13 de septiembre con la presentación que se realizará en el Salón de Actos a las 18 horas. Una reunión en la que se contará con la presencia de la presidenta del Ateneo Mercantil\, Carmen de Rosa y la coordinadora del Aula\, Asun Hernández\, y posiblemente con el director académico\, Ricardo Belleveser\, además podrán conocer a varios de los profesores que imparatirán clases este curso. En el acto se presentarán las asignaturas\, los horarios y las dos modalidades de seguir el curso\, presencial y online. \nEste año cabe la posibilidad de poder ver telemáticamente la presentación del Aula Cultural mediante la plataforma Zoom. \nAsimismo\, les queremos recordar que sigue abierto el periodo de inscripción al Aula Cultural 2021-2022 en dos modalidades: Presencial y Online. Ya se puede realizar la matrícula del curso en Secretaría (de lunes a viernes de 10 a 14 h y de 16 a 19 horas). \nCartel:
URL:https://historico.ateneovalencia.es/evento/presentacion-de-la-octava-edicion-del-aula-cultural-del-ateneo-mercantil/
LOCATION:Teatro Ateneo
CATEGORIES:Fundación A.M. C.V.
ATTACH;FMTTYPE=image/jpeg:https://historico.ateneovalencia.es/wp-content/uploads/2021/09/20210913-Aula-Cultural-2021-2022.jpg
END:VEVENT
END:VCALENDAR