BEGIN:VCALENDAR
VERSION:2.0
PRODID:-//Ateneo Mercantil de Valencia - ECPv6.0.4//NONSGML v1.0//EN
CALSCALE:GREGORIAN
METHOD:PUBLISH
X-ORIGINAL-URL:https://historico.ateneovalencia.es
X-WR-CALDESC:Eventos para Ateneo Mercantil de Valencia
REFRESH-INTERVAL;VALUE=DURATION:PT1H
X-Robots-Tag:noindex
X-PUBLISHED-TTL:PT1H
BEGIN:VTIMEZONE
TZID:Europe/Madrid
BEGIN:DAYLIGHT
TZOFFSETFROM:+0100
TZOFFSETTO:+0200
TZNAME:CEST
DTSTART:20210328T010000
END:DAYLIGHT
BEGIN:STANDARD
TZOFFSETFROM:+0200
TZOFFSETTO:+0100
TZNAME:CET
DTSTART:20211031T010000
END:STANDARD
END:VTIMEZONE
BEGIN:VEVENT
DTSTART;TZID=Europe/Madrid:20210622T190000
DTEND;TZID=Europe/Madrid:20210622T210000
DTSTAMP:20260426T054607
CREATED:20210527T102343Z
LAST-MODIFIED:20210615T082600Z
UID:64088-1624388400-1624395600@historico.ateneovalencia.es
SUMMARY:Escuela de Filosofía: Ciencia y Cristianismo
DESCRIPTION:La Escuela de Filosofía del Ateneo Mercantil se despide antes del verano con una conferencia el próximo martes 22 de junio a las 19 horas en el Salón Stolz con la ponencia "Ciencia y Cristianismo" que ofrecerá el Prof. Dr. José María Benlloch Baviera\, que es profesor de Investigación del CSIC y director del Instituto de Instrumentación para Imagen Molecular. La conferencia será presentada por D. José Alfredo Pellicer de EGEA. \nEnlace para la conferencia online: https://zoom.us/j/96323657219\n\nEs muy popular la percepción de que el cristianismo ha ejercido a lo largo de la historia una influencia muy perjudicial para la ciencia\, prohibiendo numerosas investigaciones como\, por ejemplo\, la disección del cuerpo humano. Sin embargo\, la visión unánime de los historiadores es muy diferente: la insistencia en un Dios racional que transciende al mundo proporcionó un marco de pensamiento favorable para el desarrollo de la ciencia\, al desacralizar la naturaleza y concebir ésta como una obra autónoma e inteligible de su Creador. \nCurriculum de José María Benlloch Baviera\n \nProfesor de Investigación del CSIC y director del Instituto de Instrumentación para Imagen Molecular. Ha realizado su investigación en el campo de la Física experimental de Partículas en el CERN (Ginebra)\, donde realizó los experimentos para su tesis doctoral\, y en Fermilab (Chicago)\, trabajando para el MIT bajo la dirección del premio nobel de Física Jerome Friedman. Actualmente investiga en las aplicaciones de la Física a la Imagen Médica. \nCartel:
URL:https://historico.ateneovalencia.es/evento/escuela-de-filosofia-ciencia-y-cristianismo/
LOCATION:Salón Stolz - Ateneo Mercantil de Valencia\, Plaza del Ayuntamiento\, 18\, Valencia\, España\, Valencia\, Valencia\, 46002\, España
CATEGORIES:Escuela de Filosofía
ATTACH;FMTTYPE=image/jpeg:https://historico.ateneovalencia.es/wp-content/uploads/2021/05/20210622-Escuela-de-Filosofia-Cristianismo.jpg
END:VEVENT
END:VCALENDAR