BEGIN:VCALENDAR
VERSION:2.0
PRODID:-//Ateneo Mercantil de Valencia - ECPv6.0.4//NONSGML v1.0//EN
CALSCALE:GREGORIAN
METHOD:PUBLISH
X-ORIGINAL-URL:https://historico.ateneovalencia.es
X-WR-CALDESC:Eventos para Ateneo Mercantil de Valencia
REFRESH-INTERVAL;VALUE=DURATION:PT1H
X-Robots-Tag:noindex
X-PUBLISHED-TTL:PT1H
BEGIN:VTIMEZONE
TZID:Europe/Madrid
BEGIN:DAYLIGHT
TZOFFSETFROM:+0100
TZOFFSETTO:+0200
TZNAME:CEST
DTSTART:20240331T010000
END:DAYLIGHT
BEGIN:STANDARD
TZOFFSETFROM:+0200
TZOFFSETTO:+0100
TZNAME:CET
DTSTART:20241027T010000
END:STANDARD
END:VTIMEZONE
BEGIN:VEVENT
DTSTART;TZID=Europe/Madrid:20240416T190000
DTEND;TZID=Europe/Madrid:20240416T203000
DTSTAMP:20260423T215643
CREATED:20240329T194305Z
LAST-MODIFIED:20240329T195239Z
UID:77118-1713294000-1713299400@historico.ateneovalencia.es
SUMMARY:Ciclo Maestros Artesanos Valencianos: La esencia oculta de la Orfebrería Tradicional Valenciana
DESCRIPTION:El Ciclo Maestros Artesanos Valencianos organizado por la Fundación Ateneo Mercantil de la CV regresa con una nueva conferencia en la que se acercará el noble oficio de la orfebrería tradicional valenciana. Cuando hablamos de Fallas\, todo valenciano sabe que son mucho más que una fiesta Declarada Patrimonio de la Humanidad. Son una fiestas que aúnan tradición y cultura\, pero también arte\, belleza y mucho trabajo desde todos los sectores que envuelven esta festividad. \nLa orfebrería es un oficio tradicional muy vinculado a las fiestas josefinas y su elaboración es puro arte. Cada orfebre vuelca en sus diseños artesanos una firma muy personal que queda de manera perpetua en los complementos que lucen las falleras como los aderezos\, joyas\, peinetas\, collares\, broches y pendientes. \nPara hablarlos de la orfebrería contaremos con dos personalidades muy arraigadas a este trabajo artesanal de Fallas como son José Alabadí Cabrelles\, gerente de Art Antic y responsable del diseño y joyería en la empresa\, y David Alabadi Cabrelles\, también gerente de Art Antic\, y responsable de la joyería e informática. Coordina este evento y el ciclo Vicente de Castro. \nArt Antic es una empresa puntera del sector y aúna Tradición\, Calidad y Artesanía. En el proceso de elaboración y fabricación de una pieza de orfebrería hay seis fases: \n\nDiseño y la creación: A partir de una idea\, se crean los diferentes diseños y detalles que dispondrá una pieza. A partir del diseño se crea el patrón para el marcado de piezas.\nMarcado de Piezas: Haciendo uso de una técnica esencialmente artesana\, el proceso se inicia con el marcado de las piezas sobre una plancha de oro mediante un patrón\, para posteriormente calarlo con un arco de orfebrería.\nFase de soldadura: Seguidamente se pasa a la fase de soldadura\, que consiste en unir cada una de las piezas que compondrán la joya y que previamente han sido embutidas sobre plomo para conseguir la forma deseada para cada elemento.\nPulido y Grabado: Se procede a pulir las piezas para dar el brillo final y después se pasa a grabar con buriles para dar forma a todo tipo de ornamentaciones.\nMontaje de piedras y perlas: Después del grabado de las piezas\, que también se realiza manualmente\, se cosen las perlas. Cabe destacar que éstas han sido seleccionadas de manera exhaustiva hasta obtener las de mayor calidad.\nControl de calidad: Cuando esta pieza ya dispone de una estructura mas o menos definitiva\, se repasa para evitar cualquier rebaba o imperfección pasando por un exhaustivo control de calidad que garantiza haber cuidado hasta el más mínimo detalle.\n\nTítulo: La esencia oculta de la Orfebrería Tradicional Valenciana \nConferenciantes:  José Alabadí Cabrelles (gerente de Art Antic y responsable del diseño y joyería en la empresa\, y David Alabadi Cabrelles\, (gerente de Art Antic\, y responsable de la joyería e informática). \nDía: Martes\, 16 de abril de 2024 \nHora: 19 horas \nLugar: Salón Sorolla (5ª planta) \nEntrada libre y gratuita hasta completar aforo. \nCartel:
URL:https://historico.ateneovalencia.es/evento/ciclo-maestros-artesanos-valencianos-la-esencia-oculta-de-la-orfebreria-tradicional-valenciana/
LOCATION:Salón Sorolla - Ateneo Mercantil de Valencia\, Plaza del Ayuntamiento 18\, Valencia\, Valencia\, 46002\, España
CATEGORIES:Ciclo Maestro Artesanos Valencianos
ATTACH;FMTTYPE=image/jpeg:https://historico.ateneovalencia.es/wp-content/uploads/2024/03/20240416-Maestros-Artesanos-Orfebreria-1.jpg
END:VEVENT
END:VCALENDAR