BEGIN:VCALENDAR
VERSION:2.0
PRODID:-//Ateneo Mercantil de Valencia - ECPv6.0.4//NONSGML v1.0//EN
CALSCALE:GREGORIAN
METHOD:PUBLISH
X-ORIGINAL-URL:https://historico.ateneovalencia.es
X-WR-CALDESC:Eventos para Ateneo Mercantil de Valencia
REFRESH-INTERVAL;VALUE=DURATION:PT1H
X-Robots-Tag:noindex
X-PUBLISHED-TTL:PT1H
BEGIN:VTIMEZONE
TZID:Europe/Madrid
BEGIN:DAYLIGHT
TZOFFSETFROM:+0100
TZOFFSETTO:+0200
TZNAME:CEST
DTSTART:20250330T010000
END:DAYLIGHT
BEGIN:STANDARD
TZOFFSETFROM:+0200
TZOFFSETTO:+0100
TZNAME:CET
DTSTART:20251026T010000
END:STANDARD
END:VTIMEZONE
BEGIN:VEVENT
DTSTART;TZID=Europe/Madrid:20250521T180000
DTEND;TZID=Europe/Madrid:20250521T193000
DTSTAMP:20260423T033836
CREATED:20250427T114349Z
LAST-MODIFIED:20250427T114351Z
UID:83745-1747850400-1747855800@historico.ateneovalencia.es
SUMMARY:Escuela de Filosofía del Ateneo: "La apuesta por la moral del sentimiento en David Hume"
DESCRIPTION:La Escuela de Filosofía del Ateneo nos trae una nueva conferencia que organizan el Ateneo Mercantil de Valencia y la Asociación Grupo de Estudios de Actualidad de Valencia (AGEA Valencia) en la que se hablará sobre la filosofía moral de David Hume. Los sentimientos\, especialmente la simpatía\, juegan un papel central en la determinación de la moralidad. Hume argumenta que la moral no se basa en la razón\, sino en los sentimientos de aprobación y desaprobación\, que son la base de nuestros juicios morales. \n 📅 Fecha: Miércoles\, 21 de mayo de 2025🕕 Hora: 18:00 h📍 Lugar: Salón Sorolla\, Ateneo Mercantil de Valencia \nConferencia: "La apuesta por la moral del sentimiento en David Hume"Conferenciante: Prof. Dr. Ginés Marco Perles\, Doctor en Filosofía y Profesor de la Universidad Católica de ValenciaCoordinador: Pedro López \nContextualización:Si algo caracteriza la Modernidad de los siglos XVII y XVIII es la pretensión de pensar las cosas de modo claro y distinto. En eso consistirá el proyecto que Descartes quiere poner sobre la mesa: es preciso tirar los trajes viejos y coser uno nuevo\, partiendo de cero\, sin modelo establecido\, desde la pura razón y las ideas que se nos presenten como claras y distintas. Los trajes de Platón y Aristóteles\, ya gastados por la dialéctica escolástica\, hay que desembarazarse de ellos y buscar un diseño sencillo\, claro\, racional. Ahora bien\, a la hora de acometer un proyecto así\, resulta que no se encuentra un asidero firme en el que apoyarse. Todo lo que se conoce con los propios sentidos es cambiante\, mudable y no proporciona un conocimiento cierto. Por eso mismo\, Descartes dirigirá su atención a otro lugar y partirá de una intuición indudable\, un principio que tomará como base para construir un sistema perfectamente racional: “pienso\, luego existo”. De ahí deducirá un sujeto pensante frente a un mundo de sustancias extensas. \nEn la línea de esta duda cartesiana\, en Gran Bretaña la filosofía seguirá un derrotero algo distinto. El punto radical de la actitud moderna es saber de qué puedo estar seguro. La pregunta es: “¿cómo obtenemos certeza?”. La respuesta de Descartes es “mediante ideas claras y distintas” (por ejemplo\, el yo que piensa). Sin embargo\, al otro lado del Canal de la Mancha las cosas no se verán tan sencillas. \nPara los filósofos empiristas\, entre los que destaca sobremanera David Hume\, la única fuente de conocimiento son las experiencias sensibles\, y las ideas racionales no tienen validez en cuanto tales. Por eso\, a la pregunta “¿cómo obtenemos certeza?”\, la respuesta de los empiristas será “mediante la experiencia”. La única fuente de conocimiento serán mis experiencias sensibles\, particulares y concretas\, y sólo ellas. Todas las “ideas” que fabrica la inteligencia no son más que construcciones elaboradas a partir de experiencias y\, en cuanto tales\, no tienen validez más que como herramientas referidas a la experiencia. Precisamente Hume es conocido por elaborar una teoría empírica radical acerca del conocimiento humano\, que resultará clave para entender su ética. La ética –piensa Hume- no se puede fundamentar en ideas generales tales como “naturaleza humana”\, “ley moral”\, etc.\, sino sólo en experiencias particulares\, que a fuerza de repetición y de ser vistas en otros\, cristalizan en costumbres y tradiciones sociales. Sería\, por tanto\, un error considerar una idea de “Bien” al estilo platónico y deducir de ahí consecuencias para la vida. Tampoco sería lícito pensar qué le conviene al “ser humano” para ser feliz\, y de ahí esbozar una ética\, como había hecho Aristóteles. De las nociones generales no tengo certeza; de las sensaciones\, sí. Por eso\, Hume tratará de construir una ética basada en los sentimientos. \nCartel:
URL:https://historico.ateneovalencia.es/evento/escuela-de-filosofia-del-ateneo-la-apuesta-por-la-moral-del-sentimiento-en-david-hume/
LOCATION:Salón Sorolla - Ateneo Mercantil de Valencia\, Plaza del Ayuntamiento 18\, Valencia\, Valencia\, 46002\, España
CATEGORIES:Conferencias,Escuela de Filosofía
ATTACH;FMTTYPE=image/jpeg:https://historico.ateneovalencia.es/wp-content/uploads/2025/04/20250521-Escuela-de-Filosofia-Hume.jpg
END:VEVENT
BEGIN:VEVENT
DTSTART;TZID=Europe/Madrid:20250526T180000
DTEND;TZID=Europe/Madrid:20250526T193000
DTSTAMP:20260423T033836
CREATED:20250427T133439Z
LAST-MODIFIED:20250501T102315Z
UID:83749-1748282400-1748287800@historico.ateneovalencia.es
SUMMARY:Escuela de Salud del Ateneo: "Adicciones sociales: Psicopatologías del siglo XXI"
DESCRIPTION:La Fundación del Ateneo Mercantil de la CV organiza una nueva conferencia dentro de la Escuela de Salud del Ateneo\, el próximo lunes 26 de mayo para hablarnos sobre las adicciones sociales\, también conocidas como adicciones comportamentales o sin sustancia. \nEn las postrimerías del siglo XX e inicio del siglo XXI se ha ido extendiendo como una epidemia\, en las sociedades occidentales\, una civilización que podríamos considerar adicta. Así\, el sexo\, el juego\, las pantallas\, el trabajo\, internet\, las redes sociales\, son objetos de adicción social cada vez más importantes. Las situaciones de estrés\, la crisis de la familia\, la crisis de valores\, la soledad no elegida y la disponibilidad del objeto adictivo\, hace que\, como una plaga\, esta patología se extienda exponencialmente en la cultura de la opulencia en la que vivimos. \nEstas adicciones pueden tener un profundo impacto en la salud mental\, física y social de las personas afectadas. ¡Esperamos contar con su presencia! \n📅 Lunes 26 de mayo🕕 18:00 horas📍 Salón Sorolla🎟 Entrada libre y gratuita \nConferencia: "Adicciones sociales: Psicopatologías del siglo XXI" \nEl conferenciante será el Dr. D. José Millán Dumont\, Médico especialista en Medicina de Familia. Máster en prevención y tratamiento de conductas adictivas. Coordina y presenta el acto\, Pedro López García\, Biólogo. \nDirector Científico de la Escuela de Salud del Ateneo: Prof. Dr. Carlos Camps Herrero. \nCartel:
URL:https://historico.ateneovalencia.es/evento/escuela-de-salud-del-ateneo-adicciones-sociales-psicopatologias-del-siglo-xxi/
LOCATION:Salón Sorolla - Ateneo Mercantil de Valencia\, Plaza del Ayuntamiento 18\, Valencia\, Valencia\, 46002\, España
CATEGORIES:Escuela de Salud
ATTACH;FMTTYPE=image/jpeg:https://historico.ateneovalencia.es/wp-content/uploads/2025/04/20250526-Escuela-Salud-Adicciones-Sociales.jpg
END:VEVENT
END:VCALENDAR