BEGIN:VCALENDAR
VERSION:2.0
PRODID:-//Ateneo Mercantil de Valencia - ECPv6.0.4//NONSGML v1.0//EN
CALSCALE:GREGORIAN
METHOD:PUBLISH
X-ORIGINAL-URL:https://historico.ateneovalencia.es
X-WR-CALDESC:Eventos para Ateneo Mercantil de Valencia
REFRESH-INTERVAL;VALUE=DURATION:PT1H
X-Robots-Tag:noindex
X-PUBLISHED-TTL:PT1H
BEGIN:VTIMEZONE
TZID:Europe/Madrid
BEGIN:DAYLIGHT
TZOFFSETFROM:+0100
TZOFFSETTO:+0200
TZNAME:CEST
DTSTART:20240331T010000
END:DAYLIGHT
BEGIN:STANDARD
TZOFFSETFROM:+0200
TZOFFSETTO:+0100
TZNAME:CET
DTSTART:20241027T010000
END:STANDARD
END:VTIMEZONE
BEGIN:VEVENT
DTSTART;TZID=Europe/Madrid:20241016T180000
DTEND;TZID=Europe/Madrid:20241016T193000
DTSTAMP:20260421T051636
CREATED:20241014T080825Z
LAST-MODIFIED:20241014T080826Z
UID:81792-1729101600-1729107000@historico.ateneovalencia.es
SUMMARY:Ética de Aristóteles\, el comportamiento virtuoso y la integridad
DESCRIPTION:A lo largo de estos años\, transitando por la Escuela de Filosofía\, organizada conjuntamente por el Ateneo Mercantil de Valencia y el Grupo de Estudios de Actualidad (AGEA)\, hemos querido confrontar con los que\, a lo largo de la historia\, se han preguntado por lo que da sentido (o no) a nuestra existencia; y han apuntado\, aunque sea balbuceando\, algunas respuestas que pueden sernos útiles. No hay que olvidar la famosa frase que pronunciara el teólogo y filósofo Juan de Salisbury (1115-1180)\, y que retomara Newton: "somos enanos a hombros de gigantes". \nInauguramos ahora un nuevo ciclo en el que trataremos de exponer la pregunta más práctica y menos especulativa de la filosofía: ¿Qué tengo que hacer? y ¿Por qué lo tengo que hacer? Mientras que los griegos disfrutaban con la especulación\, el amor a la sabiduría\, los modernos andamos inquietos porque no hay que pensar sino hacer\, al menos desde Marx. Ya no nos importa la verdad\, sino el resultado; ya no es bueno el que delibera lo mejor\, sino el que fabrica más cosas. \nCon Aristóteles (discípulo de Platón)\, se inaugura la lucha que será perenne entre la ortodoxia vs la ortopraxis; pero mientras que al moderno le da igual que el gato sea blanco o negro\, pues lo importante es que cace ratones\, para el griego\, sin embargo\, no resulta anecdótico o que se pueda prescindir: porque dependiendo de lo que pienses así actuarás. \nTítulo: Ética de Aristóteles\, el comportamiento virtuoso y la integridad \nConferenciante: Prof. Dr. Ginés Marco Perles. \nDía: Miércoles 16 de octubre de 2024 \nHora: 18 horas \nLugar: Salón Sorolla \nEntrada libre y gratuita hasta completar aforo \nCartel:
URL:https://historico.ateneovalencia.es/evento/etica-de-aristoteles-el-comportamiento-virtuoso-y-la-integridad/
LOCATION:Salón Sorolla - Ateneo Mercantil de Valencia\, Plaza del Ayuntamiento 18\, Valencia\, Valencia\, 46002\, España
CATEGORIES:Escuela de Filosofía
ATTACH;FMTTYPE=image/jpeg:https://historico.ateneovalencia.es/wp-content/uploads/2024/10/20241016-Escuela-de-Filosofia-Aristoteles-11.jpg
END:VEVENT
BEGIN:VEVENT
DTSTART;TZID=Europe/Madrid:20241023T180000
DTEND;TZID=Europe/Madrid:20241023T193000
DTSTAMP:20260421T051636
CREATED:20241015T154808Z
LAST-MODIFIED:20241015T160634Z
UID:81851-1729706400-1729711800@historico.ateneovalencia.es
SUMMARY:Escuela de Salud | La Fibromialgia: qué es y cómo abordarla
DESCRIPTION:La Escuela de Salud del Ateneo Mercantil de Valencia que organiza la Fundación del Ateneo de la CV en colaboración con la Fundación Ribera Salud comienza su andadura este nuevo curso con una conferencia sobre la Fibromialgia. Y llega bajo el título: "Fibromialgia: qué es y cómo abordarla". La entrada es libre y gratuita hasta completar el aforo de la sala y sólo por asistir te invitaremos a una degustación de coca de llanda. \nLa fibromialgia es un síndrome complejo\, un trastorno crónico de larga duración que causa dolor y sensibilidad en todo el cuerpo\, fatiga y problemas para dormir. Puede tener origen en un punto concreto del cuerpo o no\, pero la hipersensibilidad central de estos pacientes hace que experimenten dolor en todo su organismo. Y es que\, en pacientes con fibromialgia\, una lesión menor puede producir una incapacidad muy grande y un dolor intenso. \nEl hospital Ribera IMSKE puso en marcha hace unos meses la nueva Unidad de Fibromialgia\, coordinada por los doctores Palop y Roth\, que tiene más de 25 años de experiencia en el tratamiento de este síndrome complejo que se calcula que afecta a 900.000 personas en España. El hospital posee un equipo multidisciplinar\, formado por fisioterapeutas\, nutricionistas\, reumatólogos\, especialistas en el tratamiento del dolor y personal de Enfermería. \nVicente Palop y Patricia Roth\nEl doctor Palop\, que cuenta con más de 25 años de experiencia en el tratamiento de pacientes con fibromialgia\, es el coordinador\, junto a la doctora Patricia Roth\, de esta unidad clínica que el hospital Ribera IMSKE ha puesto en marcha el pasado mes de mayo y que cuenta\, además\, con fisioterapeutas\, nutricionistas\, reumatólogos\, especialistas en el tratamiento del dolor y personal de Enfermería\, todos ellos especializados. Además\, este centro sanitario del grupo Ribera\, situado en un barrio residencial de Valencia\, muy cerca de la Marina Real\, cuenta con instalaciones únicas en la ciudad para el tratamiento clínico de todo tipo de lesiones y patologías que afectan al sistema musculoesquelético\, entre las que se incluye la fibromialgia\, como una piscina interior para hidroterapia o salas de rehabilitación y readaptación\, además de una completa Unidad de Radiología\, con tecnología puntera. \nTítulo: La Fibromialgia: qué es y cómo abordarla \nConferenciante: Vicente Palop y Patricia Roth. Coordinadores de la Unidad de Fibromialgia del Hospital Ribera IMSKE \nDía: Miércoles\, 23 de octubre de 2024 \nHora: 19 horas \nLugar: Salón Sorolla (5ª planta del Ateneo Mercantil) \nEntrada libre y gratuita hasta completar aforo. \nCartel:
URL:https://historico.ateneovalencia.es/evento/escuela-de-salud-la-fibromialgia-que-es-y-como-abordarla/
LOCATION:Salón Sorolla - Ateneo Mercantil de Valencia\, Plaza del Ayuntamiento 18\, Valencia\, Valencia\, 46002\, España
CATEGORIES:Escuela de Salud
ATTACH;FMTTYPE=image/jpeg:https://historico.ateneovalencia.es/wp-content/uploads/2024/10/20241023-Escuela-Salud-_-Fibromialgia.jpg
END:VEVENT
END:VCALENDAR