BEGIN:VCALENDAR
VERSION:2.0
PRODID:-//Ateneo Mercantil de Valencia - ECPv6.0.4//NONSGML v1.0//EN
CALSCALE:GREGORIAN
METHOD:PUBLISH
X-WR-CALNAME:Ateneo Mercantil de Valencia
X-ORIGINAL-URL:https://historico.ateneovalencia.es
X-WR-CALDESC:Eventos para Ateneo Mercantil de Valencia
REFRESH-INTERVAL;VALUE=DURATION:PT1H
X-Robots-Tag:noindex
X-PUBLISHED-TTL:PT1H
BEGIN:VTIMEZONE
TZID:Europe/Madrid
BEGIN:DAYLIGHT
TZOFFSETFROM:+0100
TZOFFSETTO:+0200
TZNAME:CEST
DTSTART:20240331T010000
END:DAYLIGHT
BEGIN:STANDARD
TZOFFSETFROM:+0200
TZOFFSETTO:+0100
TZNAME:CET
DTSTART:20241027T010000
END:STANDARD
END:VTIMEZONE
BEGIN:VEVENT
DTSTART;TZID=Europe/Madrid:20240917T180000
DTEND;TZID=Europe/Madrid:20240917T193000
DTSTAMP:20260421T034225
CREATED:20240911T084626Z
LAST-MODIFIED:20240912T105932Z
UID:81455-1726596000-1726601400@historico.ateneovalencia.es
SUMMARY:Presentación Aula Cultural 2024-2025
DESCRIPTION:La Fundación del Ateneo Mercantil de Valencia presenta este martes 17 de septiembre una nueva edición del Aula Cultural del Ateneo que este año llega con enormes novedades ya que por primera vez se presenta bajo el paraguas de Aula Cultural +. El Teatro Ateneo acogerá un evento en el que se conocerá de primera mano las nuevas asignaturas\, los profesores y todo un elenco de actividades como viajes y excursiones que forman parte de uno de los mejores cursos académicos para mayores de 50 años que se ofertan en Valencia. \nEl evento estará encabezado por la presidenta del Ateneo Mercantil\, Carmen de Rosa Torner\, quien dará la bienvenida a todos los integrantes que hacen posible el Aula Cultural\, así como al alumnado que ya se ha inscrito a los que futuros alumnos que vienen a informarse. Además\, contaremos con la coordinadora del aula que este año es Rosana Marín\, miembro de la Fundación Ateneo Mercantil de la CV. \nTítulo: Presentación del Aula Cultural del Ateneo 2024-2025 \nDía: Martes\, 17 de septiembre de 2024 \nHora: 18 horas \nLugar: Teatro Ateneo \nEntrada libre y gratuita. \nCartel:
URL:https://historico.ateneovalencia.es/evento/presentacion-aula-cultural-2024-2025/
LOCATION:Teatro Ateneo
CATEGORIES:Fundación A.M. C.V.
ATTACH;FMTTYPE=image/jpeg:https://historico.ateneovalencia.es/wp-content/uploads/2024/09/20240917-Aula-Cultural-2024-2025.jpg
END:VEVENT
END:VCALENDAR