BEGIN:VCALENDAR
VERSION:2.0
PRODID:-//Ateneo Mercantil de Valencia - ECPv6.0.4//NONSGML v1.0//EN
CALSCALE:GREGORIAN
METHOD:PUBLISH
X-ORIGINAL-URL:https://historico.ateneovalencia.es
X-WR-CALDESC:Eventos para Ateneo Mercantil de Valencia
REFRESH-INTERVAL;VALUE=DURATION:PT1H
X-Robots-Tag:noindex
X-PUBLISHED-TTL:PT1H
BEGIN:VTIMEZONE
TZID:Europe/Madrid
BEGIN:DAYLIGHT
TZOFFSETFROM:+0100
TZOFFSETTO:+0200
TZNAME:CEST
DTSTART:20240331T010000
END:DAYLIGHT
BEGIN:STANDARD
TZOFFSETFROM:+0200
TZOFFSETTO:+0100
TZNAME:CET
DTSTART:20241027T010000
END:STANDARD
END:VTIMEZONE
BEGIN:VEVENT
DTSTART;TZID=Europe/Madrid:20240613T180000
DTEND;TZID=Europe/Madrid:20240613T190000
DTSTAMP:20260422T223657
CREATED:20240531T100735Z
LAST-MODIFIED:20240611T082321Z
UID:78185-1718301600-1718305200@historico.ateneovalencia.es
SUMMARY:"Varices\, más allá de la estética" por el Dr. Bader Al-Raies Bolaños
DESCRIPTION:Las varices son una manifestación de la insuficiencia venosa crónica\, donde las venas superficiales no pueden devolver la sangre al corazón. La insuficiencia venosa varia desde pequeñas arañitas estéticas hasta varices tronculares. Evaluar y clasificar las varices según su tamaño es fundamental para determinar el tratamiento de varices más adecuado. \nEl Doctor Bader Al-Raies\, cirujano vascular en el Hospital Ribera IMSKE\, será el encargado de dar la conferencia el próximo jueves 13 de junio de 2024 a las 18 horas en el Salón Sorolla del Ateneo Mercantil de Valencia. Mientras que el moderador y presentador del acto será Alejandro Aznar\, responsable de Comunicación en el Hospital Ribera IMSKE. \nVen y disfruta de una merienda con nosotros\, ya que te invitaremos a merendar degustando: Horchata\, Fartons y Coca de llanda.\nLas varices se clasifican en función a su tamaño: telangiectasias (arañas vasculares)\, las varices reticulares y las varices tronculares. Desde el punto de vista puramente médico los síntomas que tiene el paciente son cambios en la coloración de la piel\, o si se presentan edemas\, lo que determinará a la hora de tomar la decisión de una intervención. \nTítulo: "Varices\, más allá de la estética" \nConferenciante: Dr. Bader Al-Raies Bolaños \nDía: Jueves 13 de junio de 2024 \nHora: 18 horas \nLugar: Salón Sorolla \nEntrada libre y gratuita hasta completar aforo. \nCartel:
URL:https://historico.ateneovalencia.es/evento/varices-mas-alla-de-la-estetica-por-el-dr-bader-al-raies-bolanos/
LOCATION:Salón Sorolla - Ateneo Mercantil de Valencia\, Plaza del Ayuntamiento 18\, Valencia\, Valencia\, 46002\, España
CATEGORIES:Escuela de Salud
ATTACH;FMTTYPE=image/jpeg:https://historico.ateneovalencia.es/wp-content/uploads/2024/05/20240613-Varices-Ribera-IMSKE.jpg
END:VEVENT
BEGIN:VEVENT
DTSTART;TZID=Europe/Madrid:20240618T190000
DTEND;TZID=Europe/Madrid:20240618T203000
DTSTAMP:20260422T223657
CREATED:20240523T083533Z
LAST-MODIFIED:20240523T083534Z
UID:78089-1718737200-1718742600@historico.ateneovalencia.es
SUMMARY:Escuela de Salud: El hombre neurótico de hoy. La ansiedad y sus trastornos
DESCRIPTION:La Fundación del Ateneo Mercantil de la CV\, en colaboración con Agea Valencia\, organizan una nueva sesión de la Escuela de Salud del Ateneo el próximo martes 18 de junio de 2024 a las 19 horas en el Salón Sorolla. \nLa conferencia llega bajo el título: "El hombre neurótico de hoy. La ansiedad y sus trastornos" y el ponente es el Dr. José Millán Dumont. Médico especialista en Medicina Familiar y Comunitaria. Mientras que el moderador será el director científico de la Escuela de Salud del Ateneo\, el también Dr. Carlos Camps Herrero\, Catedrático del Departamento de Medicina de la Universitat de València y\nJefe del Servicio Oncología Médica del CHGUV. Jefe del grupo de Investigación perteneciente al CIBERONC en tumores del Tracto respiratorio debido a la experiencia acumulada en el Cáncer de Pulmón. \nA lo largo del siglo XX y siglo XXI la tecnología ha avanzado de forma exponencial. Vivimos más años\, pero la salud mental\, en general\, no está en sus mejores momentos. La ansiedad patológica\, las fobias\, el pánico\, las depresiones\, suicidios\, adicciones químicas y sociales\, etc. impregnan nuestro mundo. Hay desorientación axiológica\, y éste es el punto de inflexión ¿Cómo reaccionamos cuando vemos en TV/ Internet el barrio de Kensington en Philadelfia (y en otras muchas ciudades) adictos al fentanilo u otras drogas? Algo está pasando. \nIntentaremos explicar el por qué del aumento exponencial\, desde el siglo XIX hasta nuestra época\, de los procesos neuróticos en amplias capas de la población\, que nunca antes había acontecido en cifras tan alarmantes. Se describirá también el diagnóstico y debatiremos las soluciones a nuestro alcance\, para intentar rectificar esta ‘locura colectiva’ en que vivimos. \nCurrículum abreviado del Dr. José Millán Dumont:\nRealizó su postgrado en Ginebra. Fue profesor durante años\, bajo la dirección del catedrático de Anatomía Dr. Víctor Smith. Ha sido docente de médicos\, enfermeros y auxiliares. Ha trabajado como médico asistencial hospitalario en el campo de las conductas adictivas\, siendo cofundador en los años 80 de la Asociación médica para el tratamiento de las dependencias. \nHa sido jefe del departamento de Rehabilitación cardiaca para los enfermos coronarios en mutua laboral; así como apoyo a empresas para el paciente fumador. Ha sido médico gestor en Incapacidad temporal por enfermedades comunes; y médico evaluador de incapacidades\, ayudando a pacientes como perito médico en la Jurisdicción Social. \nHa sido gerente adjunto con ámbitos de trabajo vinculados a la planificación estratégica\, dirección administrativa y dirección/coordinación de equipos de trabajo. \nEs Máster en Economía y Financiación de la Salud por la Escuela Internacional de Alta dirección hospitalaria\, miembro de American Hospital Association e Internacional Hospital Master. Es Máster en Neurociencias y Sexología y sexualidad humana por Hispanic American Society of applied. Es Máster en prevención y tratamiento en conductas adictivas por la Universidad de Valencia. Es diplomado en Valoración médica de Incapacidades por la Escuela nacional de Medicina del trabajo. \nEs socio colaborador de la Asociación Cvida (asociación para la calidad de vida donde puntualmente ha impartido algún taller sobre las neurociencias aplicadas al contexto empresarial). Además\, es Fundador del Centro de Estudios para la divulgación de la neuroeconomía; ha escrito artículos en prensa\, radio y ha sido divulgador en conferencias/ talleres. Y es autor del Libro: "Neuroeconomía y empresa. Toma de decisiones". \nCartel:
URL:https://historico.ateneovalencia.es/evento/escuela-de-salud-el-hombre-neurotico-de-hoy-la-ansiedad-y-sus-trastornos/
LOCATION:Salón Sorolla - Ateneo Mercantil de Valencia\, Plaza del Ayuntamiento 18\, Valencia\, Valencia\, 46002\, España
CATEGORIES:Escuela de Salud
ATTACH;FMTTYPE=image/jpeg:https://historico.ateneovalencia.es/wp-content/uploads/2024/05/20240618-Escuela-de-Salud-Ansiedad.jpg
END:VEVENT
BEGIN:VEVENT
DTSTART;TZID=Europe/Madrid:20240625T190000
DTEND;TZID=Europe/Madrid:20240625T203000
DTSTAMP:20260422T223657
CREATED:20240522T090318Z
LAST-MODIFIED:20240522T090319Z
UID:78080-1719342000-1719347400@historico.ateneovalencia.es
SUMMARY:Ciclo Aristóteles - Sesión 10: "El retorno de Aristóteles en la Postmodernidad"
DESCRIPTION:La Escuela de Filosofía del Ateneo trae la décima y útlima sesión del 'Seminario Aristóteles\, padre de la Filosofía Occidental' que organiza la Fundación del Ateneo Mercantil de la CV en colaboración con la Asociación Grupo de Estudios de Actualidad de Valencia\, Agea Valencia. La sesión llega bajo el título "El retorno de Aristóteles en la Postmodernidad" y el ponente es el Director del Master Universitario en Marketing Político y Comunicación Institucional  de la UCV\, el Prof. Dr. Ginés Marco Perles. \nTexto introductorio para el inicio de la sesión: \n"Consideremos […] el esquema moral que en una variedad de formas distintas y venciendo a numerosos rivales llegó a dominar durante largos períodos la Europa Medieval desde el siglo XII aproximadamente\, un esquema que incluyó tanto elementos clásicos como teístas. Su estructura básica es la que Aristóteles analizó en la Ética a Nicómaco. Dentro de ese esquema teleológico es fundamental el contraste entre ‘el-hombre-tal-como-es’ y ‘el-hombre-tal-como-podría-ser-si-realizara-su-naturaleza-esencial’. La ética es la ciencia que hace a los hombres capaces de entender cómo realizar la transición del primer estado al segundo […]. Cada uno de los tres elementos del esquema -la concepción de una naturaleza humana ineducada\, la concepción de una ética racional y la concepción de una naturaleza-humana-como-podría-ser-si-realizara-su telos- requiere la referencia a los otros dos para que su situación y su función sean inteligibles. \nEste esquema fue ampliado y enriquecido\, aunque no alterado esencialmente\, al colocarlo dentro de un marco de creencias teístas los cristianos como Aquino\, los judíos como Maimónides o los musulmanes como Averroes”. -- Alasdair MacIntyre (2013). Tras la virtud (2ª edición española). Traducción de Amelia Valcárcel. Barcelona: Crítica\, pp. 75-76. \nTítulo: "El retorno de Aristóteles en la Postmodernidad" \nConferenciante: Prof. Dr. Ginés Marco Perles \nDía: Martes\, 25 de junio de 2024 \nHora: 19 horas \nLugar: Salón Sorolla (5ª planta) \nEntrada libre y gratuita hasta completar aforo \nCartel:
URL:https://historico.ateneovalencia.es/evento/ciclo-aristoteles-sesion-10-el-retorno-de-aristoteles-en-la-postmodernidad/
LOCATION:Salón Sorolla - Ateneo Mercantil de Valencia\, Plaza del Ayuntamiento 18\, Valencia\, Valencia\, 46002\, España
CATEGORIES:Escuela de Filosofía
ATTACH;FMTTYPE=image/jpeg:https://historico.ateneovalencia.es/wp-content/uploads/2024/05/20240625-Escuela-Filosofia-Aristoteles-10.jpg
END:VEVENT
END:VCALENDAR