BEGIN:VCALENDAR
VERSION:2.0
PRODID:-//Ateneo Mercantil de Valencia - ECPv6.0.4//NONSGML v1.0//EN
CALSCALE:GREGORIAN
METHOD:PUBLISH
X-WR-CALNAME:Ateneo Mercantil de Valencia
X-ORIGINAL-URL:https://historico.ateneovalencia.es
X-WR-CALDESC:Eventos para Ateneo Mercantil de Valencia
REFRESH-INTERVAL;VALUE=DURATION:PT1H
X-Robots-Tag:noindex
X-PUBLISHED-TTL:PT1H
BEGIN:VTIMEZONE
TZID:Europe/Madrid
BEGIN:DAYLIGHT
TZOFFSETFROM:+0100
TZOFFSETTO:+0200
TZNAME:CEST
DTSTART:20240331T010000
END:DAYLIGHT
BEGIN:STANDARD
TZOFFSETFROM:+0200
TZOFFSETTO:+0100
TZNAME:CET
DTSTART:20241027T010000
END:STANDARD
END:VTIMEZONE
BEGIN:VEVENT
DTSTART;TZID=Europe/Madrid:20240116T190000
DTEND;TZID=Europe/Madrid:20240116T203000
DTSTAMP:20260423T122429
CREATED:20240110T100246Z
LAST-MODIFIED:20240110T100247Z
UID:76285-1705431600-1705437000@historico.ateneovalencia.es
SUMMARY:Ciclo Maestros Artesanos: El arte de la Pirotecnia. Ciencia\, tradición y sentimiento
DESCRIPTION:La historia de la pirotecnia es un viaje fascinante a través del tiempo\, donde la inventiva humana ha convertido la pólvora en arte. Una historia de tradición que recorrió el mundo\, cruzó continentes y que acompaña a la humanidad desde hace 12 siglos. \nLa historia de la pirotecnia es un mundo de luz y color\, de creatividad y de inteligencia del ser humano en donde hay mucho de química y física. La pirotecnia tiene sus raíces en los alquimistas chinos en el siglo IX que fueron pioneros en la creación de explosivos y fuegos artificiales. A través de las rutas comerciales y las expediciones\, los fuegos artificiales llegaron a Europa en la Edad Media. En el siglo XVIII\, los colonos llevaron la tradición pirotécnica a América. \nLos avances tecnológico del siglo XIX trajo mejoras en los fuegos artificiales con la implantación de formas y colores más complejos. Una innovación que ha logrado espectáculos pirotécnicos sincronizados con música\, en el que se combinan tradición y modernidad. \nTítulo: El arte de la Pirotecnia. Ciencia\, tradición y sentimiento  \nConferenciantes: Diego López de Lucía Lora y María José Lora Zamorano \nDía: Martes 16 de enero de 2024 \nHora: 19 horas \nLugar: Salón Sorolla - Ateneo Mercantil \nEntrada libre y gratuita hasta completar aforo. \nCartel:
URL:https://historico.ateneovalencia.es/evento/ciclo-maestros-artesanos-el-arte-de-la-pirotecnia-ciencia-tradicion-y-sentimiento/
LOCATION:Salón Sorolla - Ateneo Mercantil de Valencia\, Plaza del Ayuntamiento 18\, Valencia\, Valencia\, 46002\, España
CATEGORIES:Ciclo Maestro Artesanos Valencianos
ATTACH;FMTTYPE=image/jpeg:https://historico.ateneovalencia.es/wp-content/uploads/2024/01/20240116-Pirotecnia-Maestros-Artesanos.jpg
END:VEVENT
BEGIN:VEVENT
DTSTART;TZID=Europe/Madrid:20240123T190000
DTEND;TZID=Europe/Madrid:20240123T203000
DTSTAMP:20260423T122429
CREATED:20240111T105130Z
LAST-MODIFIED:20240111T132323Z
UID:76297-1706036400-1706041800@historico.ateneovalencia.es
SUMMARY:Escuela de Salud del Ateneo: Prevención de la Osteoporosis especialmente en la mujer
DESCRIPTION:La Escuela de Salud del Ateneo ha organizado junto a Agea Valencia una conferencia en la que se hablará de la osteoporosis y de su prevención especialmente en la mujer. La osteoporosis\, como toda enfermedad afecta tanto a hombres como a mujeres\, sin embargo las cifras reales indican que una de cada cuatro mujeres están siendo afectadas con esta enfermedad degenerativa\, siendo más alto los casos en las mujeres que en los hombres. \nPara prevenir la osteoporosis es preciso asegurar una buena ingesta de calcio y vitamina D\, modificar el estilo de vida y aumentar el ejercicio físico. La terapia farmacológica tiene su principal indicación en el tratamiento de la osteoporosis\, aunque puede usarse también preventivamente en pacientes seleccionados por factores de riesgo. \nTítulo: Prevención de la Osteoporosis especialmente en la mujer \nConferenciante: Dr. Enrique García García \nDía: Martes 23 de enero de 2024 \nHora: 19 horas \nLugar: Salón Sorolla - Ateneo Mercantil de Valencia \nEntrada libre y gratuita hasta completar aforo. \nBreve currículum del Dr. Enrique García: \nMédico desde 1972. Este año he cumplido 50 años de profesión. Jefe del Servicio de Ginecología del IVO desde 1980 hasta 2015\, socio de Honor de la Sociedad Española de Ginecología y Obstetricia en 2016\, coordinador para prevención cáncer cérvix de la Comunidad Valenciana\, desde la jubilación ha ejercido como Voluntario en varias ONGs\, en la actualidad es coordinador del Grupo de Desarrollo Local (GDL) del Ilustre Colegio Oficial de Médicos de Valencia (ICOMV). \nCartel:
URL:https://historico.ateneovalencia.es/evento/escuela-de-salud-del-ateneo-prevencion-de-la-osteoporosis-especialmente-en-la-mujer/
LOCATION:Salón Sorolla - Ateneo Mercantil de Valencia\, Plaza del Ayuntamiento 18\, Valencia\, Valencia\, 46002\, España
CATEGORIES:Escuela de Salud
ATTACH;FMTTYPE=image/jpeg:https://historico.ateneovalencia.es/wp-content/uploads/2024/01/20240123-Escuela-Salud-Esteoporosis.jpg
END:VEVENT
BEGIN:VEVENT
DTSTART;TZID=Europe/Madrid:20240130T190000
DTEND;TZID=Europe/Madrid:20240130T203000
DTSTAMP:20260423T122429
CREATED:20240117T174447Z
LAST-MODIFIED:20240123T120843Z
UID:76338-1706641200-1706646600@historico.ateneovalencia.es
SUMMARY:Ciclo Aristóteles - Sesión 7: "Fundamentos de una antropología política en Aristóteles"
DESCRIPTION:La Escuela de Filosofía del Ateneo trae la séptima sesión del 'Seminario Aristóteles\, padre de la Filosofía Occidental' que organiza la Fundación del Ateneo Mercantil de la CV en colaboración con la Asociación Grupo de Estudios de Actualidad de Valencia\, Agea Valencia. La sesión llega bajo el título "Fundamentos de una antropología política en Aristóteles" y el ponente es el Director del Master Universitario en Marketing Político y Comunicación Institucional  de la UCV\, el Prof. Dr. Ginés Marco Perles. \nEnlace para el Online: https://youtu.be/_sMO2eY51_o\nTexto introductorio para el inicio de la sesión: \n"[...] La razón por la cual el hombre es un ser social\, más que cualquier abeja y que cualquier animal gregario\, es evidente: la naturaleza [...] no hace nada en vano\, y el hombre es el único animal que tiene palabra. Pues la voz es signo de dolor y de placer; y por eso la poseen también los demás animales\, porque su naturaleza llega hasta tener sensación de dolor y de placer e indicárselo unos a otros. Pero la palabra es para manifestar lo conveniente y lo perjudicial\, así como lo justo y lo injusto. Y esto es lo propio del hombre frente a los demás animales: poseer\, él solo\, el sentido del bien y del mal\, de lo justo y de lo injusto\, y de los demás valores\, y la participación comunitaria de estas cosas constituye la casa y la ciudad. \nPor naturaleza\, pues\, la ciudad es anterior a la casa y a cada uno de nosotros\, porque el todo es necesariamente anterior a la parte. En efecto\, destruido el todo\, ya no habrá ni pie ni mano\, a no ser con nombre equívoco\, como se puede decir una mano de piedra: pues tal será una mano muerta [...]". \nAristóteles\, Política\, Libro I\, 2\, 1253a10-13. Trad. de Manuela García Valdés. Madrid: Gredos\, pp. 50-52. \nTítulo: "Fundamentos de una antropología política en Aristóteles" \nConferenciante: Prof. Dr. Ginés Marco Perles \nDía: Martes\, 30 de enero de 2024 \nHora: 19 horas \nLugar: Teatro Ateneo \nEntrada libre y gratuita hasta completar aforo. \nCartel:
URL:https://historico.ateneovalencia.es/evento/ciclo-aristoteles-sesion-7-fundamentos-de-una-antropologia-politica-en-aristoteles/
LOCATION:Teatro Ateneo
CATEGORIES:Conferencias
ATTACH;FMTTYPE=image/jpeg:https://historico.ateneovalencia.es/wp-content/uploads/2024/01/20240130-Aistoteles-Fundamentos-Politica-Gimes-Marco.jpg
END:VEVENT
END:VCALENDAR