BEGIN:VCALENDAR
VERSION:2.0
PRODID:-//Ateneo Mercantil de Valencia - ECPv6.0.4//NONSGML v1.0//EN
CALSCALE:GREGORIAN
METHOD:PUBLISH
X-ORIGINAL-URL:https://historico.ateneovalencia.es
X-WR-CALDESC:Eventos para Ateneo Mercantil de Valencia
REFRESH-INTERVAL;VALUE=DURATION:PT1H
X-Robots-Tag:noindex
X-PUBLISHED-TTL:PT1H
BEGIN:VTIMEZONE
TZID:Europe/Madrid
BEGIN:DAYLIGHT
TZOFFSETFROM:+0100
TZOFFSETTO:+0200
TZNAME:CEST
DTSTART:20230326T010000
END:DAYLIGHT
BEGIN:STANDARD
TZOFFSETFROM:+0200
TZOFFSETTO:+0100
TZNAME:CET
DTSTART:20231029T010000
END:STANDARD
END:VTIMEZONE
BEGIN:VEVENT
DTSTART;TZID=Europe/Madrid:20231212T190000
DTEND;TZID=Europe/Madrid:20231212T203000
DTSTAMP:20260421T152651
CREATED:20231006T082807Z
LAST-MODIFIED:20231107T103512Z
UID:75605-1702407600-1702413000@historico.ateneovalencia.es
SUMMARY:Ciclo Maestros Artesanos Valencianos: Evolución en la indumentaria tradicional valenciana
DESCRIPTION:La Fundación del Ateneo Mercantil de Valencia organiza la tercera conferencia del Ciclo Maestros Artesanos en la que se tratará la indumentaria valenciana. Bajo el título "Evolución en la indumentaria tradicional valenciana"\, la presidenta de la Asociación Valenciana de Indumentaria e investigadora de indumentaria histórica\, María Victoria Liceras Ferreres\, nos hablará sobre los trajes populares valencianos. \nDentro de la indumentaria tradicional valenciana\, se centrará en los llamados trajes populares\, por ser los más característicos de nuestra cultura\, y aquellos que mayor número de vestigios han dejado en la sociedad actual. Nos referimos a aquellos utilizados por la gente sencilla\, por el pueblo. Aludir a su "autenticidad" según los lugares\, de manera tajante es\, sin embargo\, prácticamente imposible\, puesto que la pureza extrema y la unidad de formas no se suele dar\, debido a las modificaciones que lentamente surgen y que no son aceptadas al mismo tiempo en todas las comarcas. \nMotivados por tantas dificultades y falsas interpretaciones\, el mejor modo de aproximarnos al tema es a través del estudio de fuentes incontestables\, que nos acerquen a su conocimiento. Existe\, como ya apunta Caro Baroja: "Una abundante documentación sobre indumentaria tanto o más cuantiosa que la referida a otros temas y ello a partir del siglo xvi\, con verdadera sistematización en el siglo XVIII y una abundancia enorme en el siglo XIX". María Victoria acude a fuentes directas\, entendidas como la ropa en sí e indirectas\, tales como documentos referentes a la cuestión. \nTítulo: Evolución en la indumentaria tradicional valenciana \n Conferenciante: María Victoria Liceras Ferreres \nDía: Martes 12 de diciembre de 2023 \nHora: 19 horas \nLugar: Salón Sorolla \nEntrada libre y gratuita hasta completar aforo \nCartel:
URL:https://historico.ateneovalencia.es/evento/ciclo-maestro-artesanos-valencianos-indumentaria-tradicional-valenciana/
LOCATION:Salón Sorolla - Ateneo Mercantil de Valencia\, Plaza del Ayuntamiento 18\, Valencia\, Valencia\, 46002\, España
CATEGORIES:Ciclo Maestro Artesanos Valencianos
ATTACH;FMTTYPE=image/jpeg:https://historico.ateneovalencia.es/wp-content/uploads/2023/10/20231212-Indumentaria-Valenciana-Maestros-Artesanos.jpg
END:VEVENT
END:VCALENDAR