BEGIN:VCALENDAR
VERSION:2.0
PRODID:-//Ateneo Mercantil de Valencia - ECPv6.0.4//NONSGML v1.0//EN
CALSCALE:GREGORIAN
METHOD:PUBLISH
X-ORIGINAL-URL:https://historico.ateneovalencia.es
X-WR-CALDESC:Eventos para Ateneo Mercantil de Valencia
REFRESH-INTERVAL;VALUE=DURATION:PT1H
X-Robots-Tag:noindex
X-PUBLISHED-TTL:PT1H
BEGIN:VTIMEZONE
TZID:Europe/Madrid
BEGIN:DAYLIGHT
TZOFFSETFROM:+0100
TZOFFSETTO:+0200
TZNAME:CEST
DTSTART:20230326T010000
END:DAYLIGHT
BEGIN:STANDARD
TZOFFSETFROM:+0200
TZOFFSETTO:+0100
TZNAME:CET
DTSTART:20231029T010000
END:STANDARD
END:VTIMEZONE
BEGIN:VEVENT
DTSTART;TZID=Europe/Madrid:20231017T190000
DTEND;TZID=Europe/Madrid:20231017T203000
DTSTAMP:20260421T151244
CREATED:20230913T103431Z
LAST-MODIFIED:20230918T075309Z
UID:75368-1697569200-1697574600@historico.ateneovalencia.es
SUMMARY:Ciclo Maestro Artesanos Valencianos: Creando el fuego. El oficio de hacer Fallas
DESCRIPTION:La Fundación del Ateneo Mercantil de Valencia\, inicia un nuevo ciclo dedicado a los Maestros Artesanos que fueron declarados representativos del Patrimonio Cultural Inmaterial de la Humanidad por la Unesco\, en la Fiesta de las Fallas: Artista Falleros\, Artesanos (orfebres\, sederos)\, Pirotecnia\, Literatos Festivos\, Músicos y Comisiones Falleras. El comité valoró las Fallas como una expresión de "creatividad colectiva" que "salvaguarda las artes y oficios tradicionales". \nFue declarada el 30 de noviembre de 2016 por la Organización de las Naciones Unidas para la Educación\, la Ciencia y la Cultura (Unesco)\, en su lista Representativa del Patrimonio Cultural Inmaterial de la Humanidad \nEn esta primera conferencia se hablará con un maestro fallero para tratar de explicar el oficio de hacer fallas. La conferencia se titula Creando el fuego. El oficio de hacer Fallas y el ponente será Juanjo García López\, representante de la segunda generación de artistas falleros iniciada por su padre Juan García\, de quien aprendió el oficio. \nTítulo: Creando el fuego. El oficio de hacer Fallas \n Conferenciante: Juanjo García López \nDía: Martes 17 de octubre de 2023 \nHora: 19 horas \nLugar: Salón Sorolla \nEntrada libre y gratuita hasta completar aforo \nCurrículum abreviado de Juanjo García:\nJuan José García López (Valencia\, 1957)\, más conocido como Juanjo García\, es un artista fallero valenciano. Durante su dilatada carrera artística ha plantado monumentos falleros principalmente en el Cap i Casal. Sus trabajos más destacados fueron en Sueca - Literato Azorín y Grabador Esteve - Ciril Amorós. Últimamente ha sido un habitual de cruces céntricos en el barrio de Carmen de València. Una de las relaciones más duraderas y que más notoriedad y repercusión le han otorgado ha sido la que ha mantenido durante más de de una decena de años con Dr. Sanchis Bergon - Turia. Su obra también ha podido ser visitada en Torrent y en las Hogueras de Alicante. \nEn el año 2001 cumple 25 años como miembro del Gremio Artesano de Artistas Falleros de València y recibe el Muñeco de Oro\, máximo reconocimiento de la entidad gremial. \nJuanjo tiene también un largo listado de trabajos estrictamente fuera de la semana fallera. Colabora con José Devís en la falla que se plantó en Florencia. Con la colaboración de la comisión Reino de València - Duque de Calabria lleva más de una década plantando la falla de las Fuerzas Armadas. También ha realizado monumentos por otros acontecimientos como "Una Fiesta para Todos"\, organizada por la Federación de Fallas de Sección Especial. Después de la declaración de las Fallas de València como Patrimonio Inmaterial de la Humanidad por la UNESCO se le encomienda llevar a volumen el cartel realizado por el diseñador Ibán Ramon. \nCartel:
URL:https://historico.ateneovalencia.es/evento/ciclo-maestro-artesanos-valencianos-creando-el-fuego-el-oficio-de-hacer-fallas/
LOCATION:Salón Sorolla - Ateneo Mercantil de Valencia\, Plaza del Ayuntamiento 18\, Valencia\, Valencia\, 46002\, España
CATEGORIES:Ciclo Maestro Artesanos Valencianos
ATTACH;FMTTYPE=image/jpeg:https://historico.ateneovalencia.es/wp-content/uploads/2023/09/20231017-Artesanos-Valencianos-Fallas-1.jpg
END:VEVENT
BEGIN:VEVENT
DTSTART;TZID=Europe/Madrid:20231024T190000
DTEND;TZID=Europe/Madrid:20231024T210000
DTSTAMP:20260421T151244
CREATED:20230914T085047Z
LAST-MODIFIED:20230928T084302Z
UID:75378-1698174000-1698181200@historico.ateneovalencia.es
SUMMARY:Escuela de Salud del Ateneo: Fibromialgia y fatiga crónica. Controversias
DESCRIPTION:Fibromialgia y fatiga crónica son dos entidades claramente relacionadas. La fatiga crónica hace referencia a cansancio crónico y/o agudo que puede llegar a ser invalidante. En la fibromialgia\, además de cansancio\, lo que el paciente refiere es sobre todo dolor: un dolor permanente que puede conllevar claras limitaciones en la persona que lo sufre\, ya que no es fácil que encuentre alivio. \nEn ambos casos\, es probable que tengan una fisiopatología común que afecta en unos casos de una manera y en otros de otra. Se ignora la etiología de estas enfermedades y\, en no pocas ocasiones\, se asocia a procesos ansioso-depresivos o a otras patologías como las de tipo digestivo. \nLas investigaciones más recientes refieren un probable origen genético y autoinmune. La fibromialgia afecta aproximadamente al 2\,4 por ciento de la población y se da fundamentalmente en mujeres. La fatiga crónica es más difusa\, pero se considera que afecta al menos al 1% de la población. En ambos casos son patologías infradiagnosticadas y de difícil control terapéutico. \nTítulo: Fibromialgia y fatiga crónica: controversias \nConferenciante: María Teófila Vicente Herrero. Doctora en Medicina. Especialista en Medicina del Trabajo \nModerador: Dr. Alberto Grima \nDía: Martes 24 de octubre de 2023 \nHora: 19 horas \nLugar: Salón Sorolla \nEntrada libre y gratuita hasta completar aforo. \nCurrículum abreviado de María Teófila Vicente:\nDoctora en Medicina (Valencia) y Especialista en Medicina del Trabajo. Su cargo actual es en Medicina asistencial privada. Integrante de Grupos Funcionales en la Asociación Española de Especialistas en Medicina del Trabajo (AEEMT). Miembro del Grupo ADEMA-SALUD del Instituto Universitario de Ciencias de la Salud-IUNICS. \nPublicaciones: Coordinadora y Directora de la Enciclopedia Práctica de Medicina del Trabajo\, coordinadora/autora de 33 libros y capítulos de libros relativos a medicina del trabajo y salud laboral\, 7 Documentos científicos y 185 artículos en revistas médicas. \nOtros méritos a destacar: \n\nDirectora de 10 tesis doctorales y docente de residentes en la EVES-Valencia.\nAcadémica correspondiente por elección. Real Academia de Medicina Illes Balears.\nCoordinadora de la Enciclopedia Práctica de Medicina del Trabajo (INSST-2019).\nOcho premios de la UIB relacionados con temas de Salud Laboral y Medicina del Trabajo.\nRevisora externa de manuscritos para la revista Archivos de Prevención de Riesgos Laborales (APRL) y miembro de su consejo editorial.\nVocal del Consejo Editorial de la revista de Medicina Balear.\nMiembro del consejo de redacción de la Revista Medicina del Trabajo-Revista de La Asociación Española de Especialistas en Medicina del Trabajo (AEEMT).\n\nCartel:
URL:https://historico.ateneovalencia.es/evento/escuela-de-salud-del-ateneo-fibromialgia-y-fatiga-cronica-controversias/
LOCATION:Salón Sorolla - Ateneo Mercantil de Valencia\, Plaza del Ayuntamiento 18\, Valencia\, Valencia\, 46002\, España
CATEGORIES:Escuela de Salud
ATTACH;FMTTYPE=image/jpeg:https://historico.ateneovalencia.es/wp-content/uploads/2023/09/20231024-Salud-Fibromialgia-1.jpg
END:VEVENT
END:VCALENDAR