BEGIN:VCALENDAR
VERSION:2.0
PRODID:-//Ateneo Mercantil de Valencia - ECPv6.0.4//NONSGML v1.0//EN
CALSCALE:GREGORIAN
METHOD:PUBLISH
X-ORIGINAL-URL:https://historico.ateneovalencia.es
X-WR-CALDESC:Eventos para Ateneo Mercantil de Valencia
REFRESH-INTERVAL;VALUE=DURATION:PT1H
X-Robots-Tag:noindex
X-PUBLISHED-TTL:PT1H
BEGIN:VTIMEZONE
TZID:Europe/Madrid
BEGIN:DAYLIGHT
TZOFFSETFROM:+0100
TZOFFSETTO:+0200
TZNAME:CEST
DTSTART:20230326T010000
END:DAYLIGHT
BEGIN:STANDARD
TZOFFSETFROM:+0200
TZOFFSETTO:+0100
TZNAME:CET
DTSTART:20231029T010000
END:STANDARD
END:VTIMEZONE
BEGIN:VEVENT
DTSTART;TZID=Europe/Madrid:20230919T190000
DTEND;TZID=Europe/Madrid:20230919T203000
DTSTAMP:20260423T005943
CREATED:20230913T084250Z
LAST-MODIFIED:20230913T093152Z
UID:75362-1695150000-1695155400@historico.ateneovalencia.es
SUMMARY:Escuela de Salud: Hipertensión Arterial. El asesino silencioso
DESCRIPTION:La hipertensión arterial afecta al menos a un tercio de la población y es el factor de riesgo cardiovascular más prevalente. El aumento sostenido de la presión sobre las paredes de las arterias induce el desarrollo de arterioesclerosis. La tensión alta está presente en la mayoría de los casos de infartos y accidentes cerebrovasculares\, que son la principal causa de muerte en España. \nEl Dr. Alberto Grima nos hablará de cómo tomar correctamente la presión arterial para su diagnóstico\, qué hacer para prevenirla y las posibilidades de tratamiento que existen. \nTítulo: Hipertensión Arterial: el asesino silencioso \nConferenciante: Dr. Alberto Grima Serrano. Cardiólogo\, experto en hipertensión arterial y escritor \nModerador: Prof. Dr. Carlos Camps Herrero \nDía: Martes 19 de septiembre de 2023 \nHora: 19 horas \nLugar: Salón Sorolla \nEntrada libre y gratuita hasta completar aforo \nCurrículum abreviado de Alberto Grima:\nALBERTO GRIMA SERRANO (Valencia\, 1954). Médico especialista en cardiología y experto en hipertensión arterial. Después de toda una vida dedicada a la medicina\, retoma en la madurez la afición de su juventud: la literatura y la pintura. Escribe tres novelas "El médico y la vidente"\, "El niño que jugaba solo" y "El Van Gogh oculto"\, que podrían enmarcarse en la narrativa contemporánea intimista y de intriga. Literatura cercana\, vibrante\, y por momentos sorprendente\, de un escritor novel que pretende llegar a todos los públicos. \nCartel:
URL:https://historico.ateneovalencia.es/evento/escuela-de-salud-hipertension-arterial-el-asesino-silencioso/
LOCATION:Salón Sorolla - Ateneo Mercantil de Valencia\, Plaza del Ayuntamiento 18\, Valencia\, Valencia\, 46002\, España
CATEGORIES:Escuela de Salud
ATTACH;FMTTYPE=image/jpeg:https://historico.ateneovalencia.es/wp-content/uploads/2023/09/20230919-Hipertension-Escuela-Salud.jpg
END:VEVENT
BEGIN:VEVENT
DTSTART;TZID=Europe/Madrid:20230921T193000
DTEND;TZID=Europe/Madrid:20230921T203000
DTSTAMP:20260423T005943
CREATED:20230914T101556Z
LAST-MODIFIED:20230914T112655Z
UID:75382-1695324600-1695328200@historico.ateneovalencia.es
SUMMARY:Escuela de Filosofía del Ateneo: El alcance y los límites de los conocimientos previos en Aristóteles
DESCRIPTION:"Toda enseñanza y todo aprendizaje por el pensamiento se producen a partir de un conocimiento preexistente. Y eso resulta evidente a los que observan cada una de esas enseñanzas. En efecto\, entre las ciencias\, las matemáticas proceden de ese modo\, así como cada una de las otras artes. De manera semejante en el caso de los argumentos\, tanto los que proceden mediante razonamientos como los que proceden mediante comprobación; pues ambos realizan la enseñanza a través de conocimientos previos: los unos\, tomando como algo entendido por mutuo acuerdo; los otros\, demostrando lo universal a través del hecho de ser evidente lo singular. De la misma manera convencen también los argumentos retóricos: pues\, o bien convencen a través de ejemplos\, lo cual es una forma de comprobación\, o bien a través de razonamientos probables\, lo cual es una forma de razonamiento". Aristóteles\, Analíticos segundos\, 71 a 1-12. \nEnlace para el Online: https://youtu.be/AyIswS70HSU\nSesión: 5ª sesión del Ciclo Aristóteles\, padre de la Filosofía Occidental \nTítulo: El alcance y los límites de los conocimientos previos en Aristóteles \nConferenciante: Prof. Dr. Ginés Marco Perles. Doctor en Filosofía \nDía: Jueves 21 de septiembre de 2023 \nHora: 19:30 horas \nLugar: Teatro Ateneo \nEntrada libre y gratuita hasta completar aforo. \nCartel:
URL:https://historico.ateneovalencia.es/evento/escuela-de-filosofia-del-ateneo-el-alcance-y-los-limites-de-los-conocimientos-previos-en-aristoteles/
LOCATION:Teatro Ateneo
CATEGORIES:Escuela de Filosofía
ATTACH;FMTTYPE=image/jpeg:https://historico.ateneovalencia.es/wp-content/uploads/2023/09/20230920-Escuela-Filosofia-Aristoteles-sesion-5.jpg
END:VEVENT
BEGIN:VEVENT
DTSTART;TZID=Europe/Madrid:20230925T173000
DTEND;TZID=Europe/Madrid:20230925T190000
DTSTAMP:20260423T005943
CREATED:20230918T103047Z
LAST-MODIFIED:20230918T103123Z
UID:75424-1695663000-1695668400@historico.ateneovalencia.es
SUMMARY:Presentación de la décima edición del Aula Cultural del Ateneo Mercantil | 2023 - 2024
DESCRIPTION:La décima edición del Aula Cultural del Ateneo Mercantil de Valencia se pone en marcha este lunes 25 de septiembre con la presentación que se realizará en el Teatro Ateneo a las 17.30 horas. Una reunión en la que se contará con la presencia de la presidenta del Ateneo Mercantil\, Carmen de Rosa y la coordinadora del Aula\, Asun Hernández\, y además podrán conocer a varios de los profesores que impartirán clases este curso. En el acto se presentarán las asignaturas\, los horarios y las dos modalidades de seguir el curso\, presencial y online. \nAsimismo\, les queremos recordar que sigue abierto el periodo de inscripción al Aula Cultural 2023-2024 en dos modalidades: Presencial y Online. Ya se puede realizar la matrícula del curso en Secretaría (de lunes a viernes de 10 a 14 h y de 16 a 19 horas). \nAquí podrán encontrar toda la información del curso 2023-2024: \n\nInformación general\nFolleto de información\nSolicitud Preinscripcion\nCalendario y Horarios\n\nCartel:\n 
URL:https://historico.ateneovalencia.es/evento/presentacion-de-la-decima-edicion-del-aula-cultural-del-ateneo-mercantil-2023-2024/
LOCATION:Teatro Ateneo
CATEGORIES:Fundación A.M. C.V.
ATTACH;FMTTYPE=image/jpeg:https://historico.ateneovalencia.es/wp-content/uploads/2023/09/20230925-Aula-Cultural-23-24-Presentacion.jpg
END:VEVENT
END:VCALENDAR