BEGIN:VCALENDAR
VERSION:2.0
PRODID:-//Ateneo Mercantil de Valencia - ECPv6.0.4//NONSGML v1.0//EN
CALSCALE:GREGORIAN
METHOD:PUBLISH
X-ORIGINAL-URL:https://historico.ateneovalencia.es
X-WR-CALDESC:Eventos para Ateneo Mercantil de Valencia
REFRESH-INTERVAL;VALUE=DURATION:PT1H
X-Robots-Tag:noindex
X-PUBLISHED-TTL:PT1H
BEGIN:VTIMEZONE
TZID:Europe/Madrid
BEGIN:DAYLIGHT
TZOFFSETFROM:+0100
TZOFFSETTO:+0200
TZNAME:CEST
DTSTART:20230326T010000
END:DAYLIGHT
BEGIN:STANDARD
TZOFFSETFROM:+0200
TZOFFSETTO:+0100
TZNAME:CET
DTSTART:20231029T010000
END:STANDARD
END:VTIMEZONE
BEGIN:VEVENT
DTSTART;TZID=Europe/Madrid:20230502T190000
DTEND;TZID=Europe/Madrid:20230502T203000
DTSTAMP:20260421T151315
CREATED:20230429T084025Z
LAST-MODIFIED:20230429T093857Z
UID:74109-1683054000-1683059400@historico.ateneovalencia.es
SUMMARY:Escuela de Filosofía: "Filosofía\, Sofística y Dialéctica en Aristóteles" - Sesión 3
DESCRIPTION:La Escuela de Filosofía del Ateneo regresa con una nueva sesión del ciclo sobre Aristóteles que organizan la Fundación del Ateneo Mercantil CV y AGEA Valencia. En concreto la tercera clase y llega bajo el título "Filosofía\, Sofística y Dialéctica en Aristóteles"\, de nuevo el encargado de impartirla será el Prof. Dr. Ginés Marco Perles\, Decano de la Facultad de Filosofía\, Letras y Humanidades de la UCV. \nEnlace para el Online: https://youtu.be/p6s7PRCH6yo\nUna sesión que arrancará desde el siguiente texto de Aristóteles: \n"La sofística\, desde luego\, es sabiduría solamente en apariencia\, y los dialécticos discuten acerca de todas las cosas – y 'lo que es' constituye lo común a todas las cosas- y discuten\, evidentemente\, acerca de tales cosas porque son el asunto propio de la Filosofía. En efecto\, la Sofística y la Dialéctica discuten acerca del mima género que la Filosofía\, pero ésta se distingue de la una por el alcance de su capacidad y de la otra por el tipo de vida elegido: y es que la Dialéctica es tentativa y refutadora sobre aquellas cosas que la Filosofía conoce realmente\, y la Sofística\, por su parte\, aparenta ser sabiduría\, pero no lo es". \nARISTÓTELES\, Metafísica\, Libro IV\, 1004 b18-27. Traducción de Tomás Calvo. Madrid: Gredos\, 1994 pp.168-169 \nTítulo: "Filosofía\, Sofística y Dialéctica en Aristóteles" \nConferenciante: Prof. Dr. Ginés Marco Perles \nDía: Martes 2 de mayo de 2023 \nHora: 19 horas  \nLugar: Salón de Actos \nPresencial y Online | Entrada Libre y gratuita hasta completar aforo \nCartel:
URL:https://historico.ateneovalencia.es/evento/escuela-de-filosofia-filosofia-sofistica-y-dialectica-en-aristoteles-sesion-3/
LOCATION:Teatro Ateneo
CATEGORIES:Escuela de Filosofía
ATTACH;FMTTYPE=image/jpeg:https://historico.ateneovalencia.es/wp-content/uploads/2023/04/20230502-Aristoteles-3-Dialectica.jpg
END:VEVENT
BEGIN:VEVENT
DTSTART;TZID=Europe/Madrid:20230511T190000
DTEND;TZID=Europe/Madrid:20230511T203000
DTSTAMP:20260421T151315
CREATED:20230508T090706Z
LAST-MODIFIED:20230508T090710Z
UID:74238-1683831600-1683837000@historico.ateneovalencia.es
SUMMARY:Escuela de Salud: Prevención de enfermedades cardiovasculares
DESCRIPTION:El Ateneo Mercantil y la Asociación Grupo de Estudios de Actualidad organizan un nuevo encuentro de la escuela de Salud del Ateneo Mercantil el próximo jueves 11 de mayo en el Ateneo Mercantil bajo el título "Prevención de enfermedades cardiovasculares". \nLa primera causa de muerte en el Occidente (y por tanto también en España) es debida al sistema circulatorio. Palabras como aterosclerosis\, hipertensión\, infarto de miocardio\, arritmias\, insuficiencia cardiaca\, ictus\, embolia pulmonar\, etc. son pare del acerbo común y hablamos de ellas con naturalidad. Pero\, ¿sabemos de verdad lo que significan y sobre todo cómo evitarlas? El doctor Alberto Grima\, cardiólogo\, jefe de la Unidad de Cardiología Laboral y Rehabilitación Cardíaca de la Mutua ASEPEYO de Valencia y responsable autonómico de enfermedades cardiovasculares\, con amplia experiencia nos explicará y nos ayudará a llevar un estilo de vida que haga más difícil o retrase la aparición de estas enfermedades. \nTítulo: "Prevención de enfermedades cardiovasculares" \nConferenciante: Dr. Alberto Grima \nDía: Jueves 11 de mayo de 2023 \nHora: 19 horas \nLugar: Salón Sorolla del Ateneo Mercantil de Valencia \nEntrada libre y gratuita hasta completar aforo \nBreve curricuclum de Alberto Grima: \nExpediente académico: Licenciado en Medicina y Cirugía por la Facultad de Medicina de Valencia (julio 1980). Alumno interno por oposición de la Cátedra de Patología Médica\, adscrito al Servicio de Cardiología del Hospital General de Valencia (1978-1980). Tesina de Licenciatura\, con calificación de Notable. Título: "Pronóstico del Infarto de miocardio\, según la evolución en la fase aguda: estudio de 276 casos". Director: Dr. Vicente Tormo Alfonso. \nCuatro cursos monográficos del doctorado\, todos ellos con la calificación de Sobresaliente. Profesor de Clases prácticas a propuesta del Decanato de la Facultad de Medicina de Valencia\, en el Servicio de Cardiología del Hospital general Universitario de Valencia (1983). Especialista de Cardiología. Hospital General Universitario de Valencia. (1980-1984). Jefe de Servicio Dr. Tormo Subjefe Dr. Velasco. Título de Medicina General homologado por la Comunidad Económica Europea (Noviembre 1994). Título de Cardiólogo Europeo\, convalidado por la Sociedad Europea de Cardiología (Setiembre 2001). \nCartel:
URL:https://historico.ateneovalencia.es/evento/escuela-de-salud-prevencion-de-enfermedades-cardiovasculares/
LOCATION:Salón Sorolla - Ateneo Mercantil de Valencia\, Plaza del Ayuntamiento 18\, Valencia\, Valencia\, 46002\, España
CATEGORIES:Escuela de Salud
ATTACH;FMTTYPE=image/jpeg:https://historico.ateneovalencia.es/wp-content/uploads/2023/05/20230511-Escuela-de-Salud-Corazon-Prevencion.jpg
END:VEVENT
BEGIN:VEVENT
DTSTART;TZID=Europe/Madrid:20230514T113000
DTEND;TZID=Europe/Madrid:20230514T130000
DTSTAMP:20260421T151315
CREATED:20230510T121540Z
LAST-MODIFIED:20230511T084556Z
UID:74285-1684063800-1684069200@historico.ateneovalencia.es
SUMMARY:Música en el Ateneo: THE ATOMIC MR. BASIE - Orquestra de Jazz del CSMV
DESCRIPTION:La Fundación del Ateneo Mercantil de la CV y el Conservatorio Superior de Música 'Joaquín Rodrigo' de Valencia organizan un nuevo concierto gratuito en el Teatro Ateneo el próximo domingo 14 de mayo a las 11.30 horas. En esta ocasión el concierto será de la ORQUESTRA DE JAZZ DEL CSMV 'THE ATOMIC MR. BASIE'. \nLa big band\, importante componente para las recientes incorporadas disciplinas sobre estudios jazzísticos\, juega un papel clave como formación pedagógica\, como instrumento para la adquisición de las competencias educativas del plan de estudios y evidencia resultados significativos a los departamentos de jazz de las instituciones musicales de enseñanza superior en España. Además\, el interés por este tipo de formación en la periferia del institucional se hace cada vez más patente. De hecho\, hay en este país alrededor de 140 orquestas de jazz\, sumando las aficionadas\, académicas y profesionales. \nLa Orquesta de Jazz del CSMV persigue la excelencia interpretativa de las grandes orquestas de los Estados Unidos. Para conseguir esta tarea\, durante todo el curso académico se trabaja de una manera rigurosa el detalle y el aspecto que conforma el resultado del sonido profesional. \nPara este concierto\, presentamos un repertorio poderoso escrito íntegramente por el maestro Neal Hefti (1922-2008) para el paradigmático disco de Count Basie grabado en 1958 "The Atomic Mr. Basie". Disfrutaremos de la escucha de la música del disco completo\, el repertorio que consta de 11 composiciones\, la escritura de las cuales las hace únicas en en cuanto a sonoridad y forma. Para este concierto\, tenemos la fortuna de contar con la colaboración de Jeff Jerolamon\, actual profesor de batería de jazz del CSMV\, quién tocó varios conciertos con la orquesta de Count Basie. También contamos con la valiosa participación de nuestro profesor de piano de jazz y jefe de departamento\, Jorge Sevilla. Con el fin de ofreceros un concierto lleno de autenticidad interpretativa\, esperamos que esta música os deje huella. \nPrograma:\n\nThe kid from Red Bank \n\n\nDuet \n\n\nFlight of the foo birds \n\n\nDouble 'O' \n\n\nTeddy the Toad\n\n\nLi'l Darlin' \n\n\nFantail \n\n\nAfter Supper \n\n\nSplanky \n\n\nMidnite Blue \n\n\nWhirlybird \n\nTodas las piezas\, excepto The Kid of Red Bank\, que está compuesta por Count Basie\, son composiciones originales de Neal Hefti. Los arreglos pertenecen en su totalidad a Neal Hefti. \nCartel:\n \n 
URL:https://historico.ateneovalencia.es/evento/musica-en-el-ateneo-the-atomic-mr-basie-orquestra-de-jazz-del-csmv/
LOCATION:Teatro Ateneo
CATEGORIES:Conciertos Domingos,Fundación A.M. C.V.
ATTACH;FMTTYPE=image/jpeg:https://historico.ateneovalencia.es/wp-content/uploads/2023/05/20230514-Musica-Ateneo-JAZZ-CSMV.jpg
END:VEVENT
BEGIN:VEVENT
DTSTART;TZID=Europe/Madrid:20230517T190000
DTEND;TZID=Europe/Madrid:20230517T203000
DTSTAMP:20260421T151315
CREATED:20230422T102020Z
LAST-MODIFIED:20230422T103051Z
UID:73924-1684350000-1684355400@historico.ateneovalencia.es
SUMMARY:Escuela de Filosofía: "Educación y Humanismo Digital"
DESCRIPTION:La Escuela de Filosofía del Ateneo Mercantil en colaboración con Agea Valencia y en colaboración con Agea Valencia y el Foro Empresa\, Humanismo y Tecnología de la Comunidad Valenciana traen una nueva conferencia sobre "Educación y Humanismo Digital". \nEl arte de educar\, entre otras muchas manifestaciones\, genera proyectos eficientes y gestión rigurosa de iniciativa tanto civil y social como publica con clara raíz humanista. Busca necesidades y soluciones. En este Panel-Coloquio se tratarán aspectos relacionados con la pedagogía y otras ciencias de la revolución digital. De manera especial se incidirá en la educación como actividad genuinamente humana y humanizadora\, tanto en sus manifestaciones tangibles\, presenciales y físicas como en entornos virtuales y digitales y sus posibles combinaciones. \nTítulo: "Educación y Humanismo Digital" \nDía: Miércoles 17 de mayo de 2023 \nHora: 19 horas \nSalón: Salón Sorolla del Ateneo Mercantil de Valencia \nEntrada libre y gratuita hasta completar aforo \nPrograma:\n- 18.45 h: Recepción y Apertura: \n GINES MARCO PERLES. Decano de la Facultad de Filosofía\, Letras y Humanidades de la Universidad Católica "San Vicente Mártir" de Valencia. \n- 19 h: Panel-Coloquio: \n\n ARTURO TORRES GARCIA: "Retorno a humanistas y filósofos clásicos"\n ADOLFO PLASENCIA DIAGO: "El reto y la maravilla de la polinización cruzada entre científicos y humanistas".\n\nModera: D. LUIS MARTÍNEZ OCHOA. Vicepresidente Foro EHT/CV. Doctor en Ciencias Económicas. \n- 20:45 h: Clausura: \n IÑIGO PARRA CAMPOS. Presidente del Foro EHT/CV. CEO Stadler Rail Valencia. \nCurrículum breve de Arturo Torres García:\nIngeniero Industrial. Doctor en Educación por la Universidad Nacional de Educación a Distancia (UNED). Especialista en Historia de la Educación y su aplicación a los sistemas educativos contemporáneos. Profesor Asociado en Escuela Técnica Superior de Ingeniería Industrial de la Universitat Politécnica de Valencia (UPV)\, Departamento de Organización de Empresas. \nEs Director del Colegio Mayor Universitario Albalat de la Universitat de Valencia (UV). Ha sido Ingeniero Consultor de BAROAS Consultoría y Proyectos y Director de Estudios en Xabec Centro de Formación Profesional. \nRecientemente ha publicado y presentado en Madrid una edición comentada\, crítica y bilingüe en latín-castellano del libro titulado "Cómo los niños deben ser educados en la virtud y en las buenas letras desde su mismo nacimiento" cuya autoría en 1529 es de Erasmo de Róterdam\, príncipe de humanistas\, renovando la educación europea hacia una síntesis de la sabiduría acumulada desde la época clásica. \nCurrículum breve de Adolfo Plasencia Diago:\nHa sido profesor de posgrado en la Universidad Politécnica de Valencia (UPV) y en la UNED\, y profesor invitado en el MIT y en la Univ. de Harvard. Co-fundador en el MIT\, con su colega Douglas Morgenstern\, de la Iniciativa MIT-UPV Exchange que se prologó a lo largo de 12 años. \nEditor y presentador del programa de TV 'Tecnópolis'. Es periodista científico\, escritor de ciencia y tecnología\, articulista y conferenciante. Escribe columnas semanales y artículos de fondo sobre temas de innovación\, ciencia y tecnología en el Suplemento de Innovación D+I/Invertia del diario El Español\, y en la sección de tecnología de Valencia City. Realiza en directo la sección de tecnología\, cada martes a las 11h.\, del Programa de Radio "Abierto a Mediodía" que conduce Ramón Palomar\, en la emisora 99.9 PlazaRadio. \nEs autor\, entre otros\, del Libro: "De Neuronas a Galaxias ¿Es el universo un holograma? que es la versión en español del libro "Is the Universe a Hologram? Scientists Answer the Most Provocative Questions"\, publicado por MIT Press\, y por la Universidad de Oxford; y después por la Universitat de València. \nHa colaborado con artículos sobre ciencia\, tecnología innovación y opinión en medios de comunicación como Innovadores; El País; El Mundo\, CLAVES de la Razón Práctica\, The MIT Press Reader\, IBL News New York\, Diario Levante-EMV\, o Valencia City. \nCartel:
URL:https://historico.ateneovalencia.es/evento/escuela-de-filosofia-educacion-y-humanismo-digital/
LOCATION:Salón Sorolla - Ateneo Mercantil de Valencia\, Plaza del Ayuntamiento 18\, Valencia\, Valencia\, 46002\, España
CATEGORIES:Escuela de Filosofía
ATTACH;FMTTYPE=image/jpeg:https://historico.ateneovalencia.es/wp-content/uploads/2023/04/20230517-Escuela-Filosofia-Humanismo-Digital.jpg
END:VEVENT
END:VCALENDAR