BEGIN:VCALENDAR
VERSION:2.0
PRODID:-//Ateneo Mercantil de Valencia - ECPv6.0.4//NONSGML v1.0//EN
CALSCALE:GREGORIAN
METHOD:PUBLISH
X-ORIGINAL-URL:https://historico.ateneovalencia.es
X-WR-CALDESC:Eventos para Ateneo Mercantil de Valencia
REFRESH-INTERVAL;VALUE=DURATION:PT1H
X-Robots-Tag:noindex
X-PUBLISHED-TTL:PT1H
BEGIN:VTIMEZONE
TZID:Europe/Madrid
BEGIN:DAYLIGHT
TZOFFSETFROM:+0100
TZOFFSETTO:+0200
TZNAME:CEST
DTSTART:20230326T010000
END:DAYLIGHT
BEGIN:STANDARD
TZOFFSETFROM:+0200
TZOFFSETTO:+0100
TZNAME:CET
DTSTART:20231029T010000
END:STANDARD
END:VTIMEZONE
BEGIN:VEVENT
DTSTART;TZID=Europe/Madrid:20230118T190000
DTEND;TZID=Europe/Madrid:20230118T203000
DTSTAMP:20260423T103539
CREATED:20221205T112456Z
LAST-MODIFIED:20230116T091351Z
UID:72308-1674068400-1674073800@historico.ateneovalencia.es
SUMMARY:Escuela de Salud: "Dieta Mediterránea Cardiosaludable"
DESCRIPTION:La Escuela de Salud del Ateneo Mercantil en coordinación con Agea Valencia regresa a nuestra entidad con una conferencia el próximo miércoles 18 de enero de 2023 a las 19 horas en el Salón de Actos con una temática de alimentación saludable\, como es la dieta mediterránea. Bajo el título: "Dieta Mediterránea Cardiosaludable"\, el Dr. Alberto Grima Serrano\, cardiólogo\, jefe de la Unidad de Cardiología Laboral y Rehabilitación Cardíaca de la Mutua ASEPEYO de Valencia y responsable autonómico de enfermedades cardiovasculares\, nos traerá una conferencia en la que nos enseñará a comer de manera saludable. \nEl moderador y presentador será el Dr. Adolfo Rincón de Arellano y de Castellví\, cardiólogo\, Jefe Servicio Cardiología Hospital Universitario Doctor Peset de Valencia de 2005 a 2013 y socio de la Sociedad Española y de la Sociedad Valenciana de Cardiología. Una Escuela de Salud del Ateneo Mercantil que tiene como director científico al Prof. Dr. Carlos Camps Herrero.\n \nUna conferencia en la que se comenzará abordando los antecedentes históricos que han llevado a la dieta mediterránea a ser considerada la mejor del mundo. Además\, se recordarán las necesidades nutricionales y posteriormente se adentrará en las enfermedades ligadas a una deficiente alimentación\, deteniéndose especialmente en la obesidad\, especialmente en la infantil. El acto finalizará recordando los alimentos funcionales\, así como los mitos y realidades de la dieta mediterránea. \nCartel:\n \n 
URL:https://historico.ateneovalencia.es/evento/escuela-de-salud-dieta-mediterranea-cardiosaludable/
LOCATION:Teatro Ateneo
CATEGORIES:Escuela de Salud
ATTACH;FMTTYPE=image/jpeg:https://historico.ateneovalencia.es/wp-content/uploads/2022/12/20230111-Escuela-de-Salud-Dieta-Mediterranea.jpg
END:VEVENT
END:VCALENDAR