BEGIN:VCALENDAR
VERSION:2.0
PRODID:-//Ateneo Mercantil de Valencia - ECPv6.0.4//NONSGML v1.0//EN
CALSCALE:GREGORIAN
METHOD:PUBLISH
X-WR-CALNAME:Ateneo Mercantil de Valencia
X-ORIGINAL-URL:https://historico.ateneovalencia.es
X-WR-CALDESC:Eventos para Ateneo Mercantil de Valencia
REFRESH-INTERVAL;VALUE=DURATION:PT1H
X-Robots-Tag:noindex
X-PUBLISHED-TTL:PT1H
BEGIN:VTIMEZONE
TZID:Europe/Madrid
BEGIN:DAYLIGHT
TZOFFSETFROM:+0100
TZOFFSETTO:+0200
TZNAME:CEST
DTSTART:20220327T010000
END:DAYLIGHT
BEGIN:STANDARD
TZOFFSETFROM:+0200
TZOFFSETTO:+0100
TZNAME:CET
DTSTART:20221030T010000
END:STANDARD
END:VTIMEZONE
BEGIN:VEVENT
DTSTART;TZID=Europe/Madrid:20220921T190000
DTEND;TZID=Europe/Madrid:20220921T203000
DTSTAMP:20260423T230956
CREATED:20220906T110149Z
LAST-MODIFIED:20220909T095415Z
UID:71008-1663786800-1663792200@historico.ateneovalencia.es
SUMMARY:Escuela de Salud: “El papel de las hormonas sexuales en la vida de la mujer: Un caos bastante frecuente pero muy organizado. Funciones\, equilibrios y desequilibrios"
DESCRIPTION:La Escuela de Salud del Ateneo Mercantil regresa a nuestra entidad con una conferencia el próximo miércoles 21 de septiembre a las 19 horas en el Salón Sorolla con un tema de enorme actualidad como es el de las hormonas a lo largo de la vida de la mujer. Bajo el título: "El papel de las hormonas sexuales en la vida de la mujer: Un caos bastante frecuente pero muy organizado. Funciones\, equilibrios y desequilibrios"\, el doctor en Ginecología\, D. Enrique García García\, nos explicará este complicado proceso en el cuerpo de las mujeres. \nEnlace para la conferencia Online: https://fb.me/e/62MfRcgQd\n\nLas hormonas son unas sustancias químicas producidas por diferentes glándulas repartidas por todo el cuerpo\, que contribuyen a lograr el equilibrio interno y el bienestar en la persona. \nSon muy conocidas a todos los niveles y entre ellas podemos citar\, tanto en hombres como en mujeres\, la oxitocina\, la adrenalina\, endorfinas\, melatonina\, hormonas tiroideas\, dopamina\, adrenalina\, y la insulina entre otras. \nLas hormonas sexuales son aquellas de las que depende el comportamiento genital y sexual\, tanto del hombre como de la mujer. En el hombre es la testosterona producida en los testículos\, y en la mujer los estrógenos\, progesterona y testosterona\, producidas principalmente en los ovarios. En ambos casos su secreción está gobernada por la FSH y la LH originadas en la hipófisis y que\, a su vez está gobernada por la GnRH de la corteza cerebral. \nLos estrógenos predisponen el aparato genital de la mujer para la ovulación y la fecundación; mientras que la progesterona facilita la anidación en los primeros compases de la gestación y la lactancia\, en épocas posteriores. Siguiendo todo ello un ritmo establecido que dura 28 días y acabará en gestación\, si hay fecundación. En caso contrario\, si no hay embarazo\, al cabo de esos 28 días\, se produce una caída brusca de los niveles hormonales en sangre\, que ocasionará la regla. Los cambios físicos y psicosomáticos que se producen en una mujer embarazada son conocidos por todo el mundo\, y conforman el estatus más natural de la persona humana (el otro es la muerte)\, pero son absolutamente descomunales. La regresión mensual hacia la regla\, en caso de no embarazo\, también produce una serie de cambios\, completamente evidentes\, reconocibles y reconocidos\, aunque de mucha menor enjundia que los inherentes al embarazo. \nAlrededor de los 50 años\, la mujer agota su dotación de células germinales que heredó de su madre\, los niveles de estrógenos y progesterona son casi nulos y la mujer entra en situación de menopausia\, lo cual será tratado en otra ocasión. \nTodo ese mecanismo hormonal que hemos dicho\, todo ese baile hormonal en las distintas etapas de la vida de la mujer\, comportan\, y permítaseme la expresión\, un mecanismo de precisión\, exactitud y complejidad infinitamente superior a cualquier mecanismo que la mente humana pueda imaginar. Y además\, con una consecuencia tan rotunda como es la vida de la mujer en cualquiera de sus facetas (intelectual\, afectiva\, social\, laboral\, familiar\, maternal) y la continuidad de la vida y de la especie humana. \nEsos mecanismos tan complejos\, son a la vez frágiles; y no es raro que se descompensen con alguna asiduidad. Todo ello intentaremos explicarlo en nuestra charla\, aunque ya anuncio que no será una cosa banal. Ser un proceso completamente natural\, no quiere decir que sea fácil. \nBreve Curriculum de Enrique García García: \n\nJefe del Servicio de Ginecología del IVO desde 1980 hasta 2015\nSocio de Honor de la Sociedad Española de Ginecología y Obstetricia en 2016\nDesde la jubilación en 2015 ha ejercido como Voluntario en varias ONGs\nEn la actualidad\, Coordinador del Grupo de Desarrollo Local (GDL) del Ilustre Colegio Oficial de Médicos de Valencia (ICOMV)\nMédico desde 1972. Este año ha cumplido 50 años de profesión\n\nCartel:\n \n  \n 
URL:https://historico.ateneovalencia.es/evento/escuela-de-salud-el-papel-de-las-hormonas-en-la-vida-de-la-mujer-un-caos-bastante-frecuente-pero-muy-organizado-funciones-equilibrios-y-desequilibrios/
LOCATION:Salón Sorolla - Ateneo Mercantil de Valencia\, Plaza del Ayuntamiento 18\, Valencia\, Valencia\, 46002\, España
CATEGORIES:Ciclos y Conferencias,Escuela de Salud
ATTACH;FMTTYPE=image/jpeg:https://historico.ateneovalencia.es/wp-content/uploads/2022/09/20220921-Escuela-de-Salud-Hormona-Mujer.jpg
END:VEVENT
BEGIN:VEVENT
DTSTART;TZID=Europe/Madrid:20220926T180000
DTEND;TZID=Europe/Madrid:20220926T190000
DTSTAMP:20260423T230956
CREATED:20220923T085048Z
LAST-MODIFIED:20220923T085050Z
UID:71205-1664215200-1664218800@historico.ateneovalencia.es
SUMMARY:Presentación del IX Aula Cultura Alteneo - Curso 2022-2023
DESCRIPTION:El Ateneo Mercantil de Valencia presentará la novena edición del Aula Cultural\, una escuela formativa para mayores de 50 años\, el próximo lunes 26 de septiembre a las 18 horas en el Salón de Actos del Ateneo. Continúan abiertas las inscripciones para el curso 2022-23\, que de nuevo contará con cerca de 100 alumnos y que echará a andar el próximo lunes 10 de octubre\, con 12 asignaturas\, 63 días de clase y 124 horas lectivas. Un programa de aprendizaje organizado por la Fundación del Ateneo Mercantil CV y cuyo curso finalizará el próximo mes de junio. \nDesde su puesta en marcha en 2013 han sido más de 1000 los alumnos que han desfilado por esta escuela que cuenta con excelentes profesores universitarios y profesionales del sector que\, desde su experiencia como docentes\, utilizan un sistema de enseñanza expositivo\, no memorístico\, con permanente apoyo audiovisual\, facilitando así la comprensión de los conocimientos impartidos. Este año\, más que nunca\, se busca favorecer la socialización de los alumnos y el intercambio cultural\, propósito que ha dado magníficos resultados en las ediciones anteriores. \nEl Aula Cultural\, coordinado por Asunción Hernández\, se divide en 3 trimestres en los que se imparten 12 asignaturas\, entre las que se encuentran\, Cultura y arte en el Antiguo Egipto\, Grandes Políticos del Mundo\, La Transición\, Música y Pintura Contemporánea\, Historia a través del Cine\, Economía Aplicada\, Cultura y técnica del Jardín\, Interpretación de la realidad\, Medicina y Salud\, Literatura\, Arquitectura y arte en España y Patrimonio Valenciano. \nLas clases\, que se retransmitirán en directo\, se celebrarán en el Salón de Actos los lunes y los miércoles de 10:00 a 12:30 horas y serán impartidas por profesores de la talla de Javier Mas\, Josep Mª Felip\, Federico Martínez Roda\, Rodrigo Madrid\, Vicente Gomar\, Jose Ramón Calabuig\, Silvia Soria\, Luisa Silla\, Mª. Jesús Puchalt\, Ballester Olmos\, Inma Traver y María Hernandez- Reinoso. \nAbierto el plazo de inscripciones \nTodas las personas interesadas en el IX Aula Cultural 2022-23 pueden inscribirse dirigiéndose de forma presencial a la Secretaría del Ateneo Mercantil de Valencia (5ª planta). El horario es de lunes a viernes de 9:00 h. a 14:00 h y por las tardes\, de lunes a jueves\, de 16:00 a 18:00 h. También puede hacerlo rellenando los formularios que puede encontrar en la web del Ateneo Mercantil y enviarlo por correo electrónico a fundacion@ateneovalencia.es. \nCartel:
URL:https://historico.ateneovalencia.es/evento/presentacion-del-ix-aula-cultura-alteneo-curso-2022-2023/
LOCATION:Teatro Ateneo
CATEGORIES:Fundación A.M. C.V.
ATTACH;FMTTYPE=image/jpeg:https://historico.ateneovalencia.es/wp-content/uploads/2022/09/20220622-IX-Aula-Cultural-Ateneo.jpg
END:VEVENT
BEGIN:VEVENT
DTSTART;TZID=Europe/Madrid:20220928T190000
DTEND;TZID=Europe/Madrid:20220928T203000
DTSTAMP:20260423T230956
CREATED:20220920T094514Z
LAST-MODIFIED:20220926T115340Z
UID:71162-1664391600-1664397000@historico.ateneovalencia.es
SUMMARY:"La reivindicación del Homo Gaudens. Reflexiones  sobre la cultura actual  a la luz de los principios  de la modernidad"
DESCRIPTION:La Escuela de Filosofía del Ateneo en colaboración con el Grupo de Estudios de Actualidad\, Agea Valencia\, regresa a nuestra casa con una conferencia el próximo miércoles 28 de septiembre a las 19 horas en el Salón Sorolla del Ateneo Mercantil de Valencia. La conferencia llega bajo el título "La reivindicación del Homo Gaudens. Reflexiones sobre la cultura actual a la luz de los principios de la modernidad" y la ponente será Mercedes Ten Doménech. \nEnlace para el Online: https://fb.me/e/pX9dV56V3\n\nLa Educación Personalizada no es un método de educación o de enseñanza\, sino un modo de entender la educación cuya idea fundamental es la condición personal del hombre. La Educación Personalizada en España ha sido construida sobre una imagen bien definida de hombre\, la propia filosofía cristiana y sigue un modelo antropológico que se define como el Homo Gaudens\, el hombre de la alegría. Esta imagen del hombre\, que constituye el fundamento y el fin de su Pedagogía\, define al ser humano como una criatura corporeoespiritual\, instalada en el mundo como persona para ser feliz. Las características básicas que distinguen al Homo Gaudens: universalidad\, vocación de realidad y optimismo. \nCurriculum de Mercedes Ten Doménech\nFormación académica: en la actualidad tiene depositada la tesis del Doctorado Europeo en Derecho con mención internacional. Programa de doctorado: "Sostenibilidad y paz en la era posglobal" ⎯Departamento de filosofía del derecho y política. Universitat de València⎯ y "Diritti Umani: Evoluzione\, tutela e limiti" ⎯Dipartamento di giurisprudenza. Università degli studi di Palermo⎯. \nTítulo de la tesis: "Mujeres en la España del siglo XIX: una mirada jurídica a través de la literatura: La Regenta". Defensa: septiembre 2022.En la 2021-2022 realizó el Máster en Ciencias del Matrimonio y la Familia. Universidad Católica de Valencia. En la 2017-2018 el Máster en Derechos Humanos\, Paz y Desarrollo Sostenible. Universidad de Valencia. Concesión del Premio Extraordinario de Máster. Universidad de Valencia. Mientras que entre los años 2013 y 2017 obtuvo el Grado en Derecho por la Universidad de Valencia. \nCartel:
URL:https://historico.ateneovalencia.es/evento/la-reivindicacion-del-homo-gaudens-reflexiones-sobre-la-cultura-actual-a-la-luz-de-los-principios-de-la-modernidad/
LOCATION:Salón Sorolla - Ateneo Mercantil de Valencia\, Plaza del Ayuntamiento 18\, Valencia\, Valencia\, 46002\, España
CATEGORIES:Escuela de Filosofía
ATTACH;FMTTYPE=image/jpeg:https://historico.ateneovalencia.es/wp-content/uploads/2022/09/20221028-Filosofia-Homo-Gaudens-1.jpg
END:VEVENT
END:VCALENDAR