BEGIN:VCALENDAR
VERSION:2.0
PRODID:-//Ateneo Mercantil de Valencia - ECPv6.0.4//NONSGML v1.0//EN
CALSCALE:GREGORIAN
METHOD:PUBLISH
X-ORIGINAL-URL:https://historico.ateneovalencia.es
X-WR-CALDESC:Eventos para Ateneo Mercantil de Valencia
REFRESH-INTERVAL;VALUE=DURATION:PT1H
X-Robots-Tag:noindex
X-PUBLISHED-TTL:PT1H
BEGIN:VTIMEZONE
TZID:Europe/Madrid
BEGIN:DAYLIGHT
TZOFFSETFROM:+0100
TZOFFSETTO:+0200
TZNAME:CEST
DTSTART:20220327T010000
END:DAYLIGHT
BEGIN:STANDARD
TZOFFSETFROM:+0200
TZOFFSETTO:+0100
TZNAME:CET
DTSTART:20221030T010000
END:STANDARD
END:VTIMEZONE
BEGIN:VEVENT
DTSTART;TZID=Europe/Madrid:20220406T190000
DTEND;TZID=Europe/Madrid:20220406T203000
DTSTAMP:20260424T105011
CREATED:20220323T092413Z
LAST-MODIFIED:20220404T122347Z
UID:69249-1649271600-1649277000@historico.ateneovalencia.es
SUMMARY:Escuela de Filosofía: "El arte de hablar bien para convencer"
DESCRIPTION:Es innegable la perdurable autoridad de la palabra\, ya que la oratoria nos permitirá aumentar nuestro prestigio y alcanzar tanto el éxito personal como el profesional. La habilidad de hablar bien se alcanza con trabajo\, disciplina y estudio de todas aquellas enseñanzas que nos dejó el legado grecolatino: Platón\, Aristóteles\, Cicerón y Quintiliano nos dieron consejos muy útiles para hablar con buen estilo y buen criterio\, mostrar seguridad en el uso de la palabra y desplegar los recursos adecuados para convencer a nuestra audiencia. Hoy en día\, la oratoria lo es todo en docentes\, políticos\, juristas\, estudiantes y profesionales cualificados. \nEnlace para seguir la conferencia Online: https://youtu.be/WFV_GipEWTw\n\nLa Escuela de Filosofía del Ateneo Mercantil organiza junto a AGEA-Valencia\, Asociación Grupo de Estudios de Actualidad de Valencia\, una conferencia que lleva por título "El arte de hablar bien para convencer" y cuyo ponente es el Prof. Dr. Gregorio Robles Morchón. El moderador del evento será el Prof. Dr. José Alfredo Pellicer. Recuerda que el próximo miércoles 6 de abril a las 19 horas tienes una cita con la filosofía en el Salón Sorolla del Ateneo Mercantil de Valencia. \nCurriculum:\nGregorio Robles Morchón. Doctor en Derecho (1975). Catedrático de Filosofía del Derecho (1983-2018) en la Universidad de las Islas Baleares. Académico de Número de la Real Academia de Ciencias Morales y Políticas (desde 2009). En la actualidad es Profesor Emérito del Doctorado “Economía y Derecho” en la Universidad Camilo José Cela (Madrid). \nCartel:
URL:https://historico.ateneovalencia.es/evento/escuela-de-filosofia-el-arte-de-hablar-bien-para-convencer/
LOCATION:Salón Sorolla - Ateneo Mercantil de Valencia\, Plaza del Ayuntamiento 18\, Valencia\, Valencia\, 46002\, España
CATEGORIES:Conferencias,Escuela de Filosofía
ATTACH;FMTTYPE=image/jpeg:https://historico.ateneovalencia.es/wp-content/uploads/2022/03/20220406-Escuela-de-Filosofia-Hablar-bien.jpg
END:VEVENT
END:VCALENDAR