BEGIN:VCALENDAR
VERSION:2.0
PRODID:-//Ateneo Mercantil de Valencia - ECPv6.0.4//NONSGML v1.0//EN
CALSCALE:GREGORIAN
METHOD:PUBLISH
X-WR-CALNAME:Ateneo Mercantil de Valencia
X-ORIGINAL-URL:https://historico.ateneovalencia.es
X-WR-CALDESC:Eventos para Ateneo Mercantil de Valencia
REFRESH-INTERVAL;VALUE=DURATION:PT1H
X-Robots-Tag:noindex
X-PUBLISHED-TTL:PT1H
BEGIN:VTIMEZONE
TZID:Europe/Madrid
BEGIN:DAYLIGHT
TZOFFSETFROM:+0100
TZOFFSETTO:+0200
TZNAME:CEST
DTSTART:20210328T010000
END:DAYLIGHT
BEGIN:STANDARD
TZOFFSETFROM:+0200
TZOFFSETTO:+0100
TZNAME:CET
DTSTART:20211031T010000
END:STANDARD
END:VTIMEZONE
BEGIN:VEVENT
DTSTART;TZID=Europe/Madrid:20211116T100000
DTEND;TZID=Europe/Madrid:20211116T193000
DTSTAMP:20260422T180153
CREATED:20211018T110445Z
LAST-MODIFIED:20211018T110445Z
UID:65379-1637056800-1637091000@historico.ateneovalencia.es
SUMMARY:Edición XVIII 'Ponte Guapa con el Ateneo': Talleres de Personal Shopper - "Día del vestido y eventos" - Sesión 3
DESCRIPTION:Décimo octava edición del Ciclo "Aula de Moda del Ateneo: Ponte Guapa con el Ateneo. Talleres de Personal Shopper". Talleres organizados por Asesoría de Imagen Personal. Hoy martes 16 de noviembre arranca la tercera de las clases del taller\, con el Día del vestido y eventos. En la Sala Multiusos (séptima planta).\n\n\n\n\nEstas son las próximas fechas de los Talleres: \n– Martes 23/11/2021. Falda o pantalón \n– Martes 30/11/2021. Complementos y eventos \nHorario a elegir: De 10:00 a 11:30 h. – De 18:00 a 19:30 h. \nPrecio: Ciclo completo: 55 € Socios – 65 € No socios. \nInformación\, Dudas e Inscripciones: Carmen Selva: Teléfono 686.002.933 | email: carmenselva.af@hotmail.com | web: www.cursopersonalshopper.net \nCartel:
URL:https://historico.ateneovalencia.es/evento/edicion-xviii-ponte-guapa-con-el-ateneo-talleres-de-personal-shopper-dia-del-vestido-y-eventos-sesion-3/
LOCATION:Sala Multiusos - Tertulia Taurina
CATEGORIES:Taller Ponte Guapa - Personal Shopper
ATTACH;FMTTYPE=image/jpeg:https://historico.ateneovalencia.es/wp-content/uploads/2021/10/20180507-Aula-Moda-Ateneo-Ponte-Guapa.jpg
ORGANIZER;CN="Asesor%C3%ADa%20de%20Imagen%20Personal%20-%20Carmen%20Selva":MAILTO:carmenselva.af@hotmail.com
END:VEVENT
END:VCALENDAR