BEGIN:VCALENDAR
VERSION:2.0
PRODID:-//Ateneo Mercantil de Valencia - ECPv6.0.4//NONSGML v1.0//EN
CALSCALE:GREGORIAN
METHOD:PUBLISH
X-WR-CALNAME:Ateneo Mercantil de Valencia
X-ORIGINAL-URL:https://historico.ateneovalencia.es
X-WR-CALDESC:Eventos para Ateneo Mercantil de Valencia
REFRESH-INTERVAL;VALUE=DURATION:PT1H
X-Robots-Tag:noindex
X-PUBLISHED-TTL:PT1H
BEGIN:VTIMEZONE
TZID:Europe/Madrid
BEGIN:DAYLIGHT
TZOFFSETFROM:+0100
TZOFFSETTO:+0200
TZNAME:CEST
DTSTART:20200329T010000
END:DAYLIGHT
BEGIN:STANDARD
TZOFFSETFROM:+0200
TZOFFSETTO:+0100
TZNAME:CET
DTSTART:20201025T010000
END:STANDARD
END:VTIMEZONE
BEGIN:VEVENT
DTSTART;TZID=Europe/Madrid:20201026T100000
DTEND;TZID=Europe/Madrid:20201026T193000
DTSTAMP:20260421T231057
CREATED:20201005T112137Z
LAST-MODIFIED:20201005T112326Z
UID:60253-1603706400-1603740600@historico.ateneovalencia.es
SUMMARY:Edición XVI 'Ponte Guapa con el Ateneo': Talleres de Personal Shopper - Sesión 1
DESCRIPTION:Décimo sexta edición del Ciclo "Aula de Moda del Ateneo: Ponte Guapa con el Ateneo. Talleres de Personal Shopper". Talleres organizados por Asesoría de Imagen Personal. Hoy lunes 26 de octubre arranca la primera de las clases del taller\, con el Estudio Morfológico. En la Sala Multiusos - Tertulia Taurina. \nEstas son las próximas fechas de los Talleres: \n– Lunes 02/11/2020. Estudio del Color \n– Lunes 09/11/2020. Día del vestido y eventos \n– Lunes 16/11/2020. Falda o pantalón \n– Lunes 23/11/2020. Complementos y eventos \nHorario a elegir: De 10:00 a 11:30 h. – De 18:00 a 19:30 h. \nPrecio: Ciclo completo: 55 € Socios – 65 € No socios. \nInformación\, Dudas e Inscripciones: Carmen Selva: Teléfono 686.002.933 | email: carmenselva.af@hotmail.com | web: www.cursopersonalshopper.net \nCartel:
URL:https://historico.ateneovalencia.es/evento/edicion-xvi-ponte-guapa-con-el-ateneo-talleres-de-personal-shopper-sesion-1/
LOCATION:Sala Multiusos - Tertulia Taurina
CATEGORIES:Taller Ponte Guapa - Personal Shopper
ATTACH;FMTTYPE=image/jpeg:https://historico.ateneovalencia.es/wp-content/uploads/2020/10/20180507-Aula-Moda-Ateneo-Ponte-Guapa.jpg
ORGANIZER;CN="Asesor%C3%ADa%20de%20Imagen%20Personal%20-%20Carmen%20Selva":MAILTO:carmenselva.af@hotmail.com
END:VEVENT
END:VCALENDAR