BEGIN:VCALENDAR
VERSION:2.0
PRODID:-//Ateneo Mercantil de Valencia - ECPv6.0.4//NONSGML v1.0//EN
CALSCALE:GREGORIAN
METHOD:PUBLISH
X-ORIGINAL-URL:https://historico.ateneovalencia.es
X-WR-CALDESC:Eventos para Ateneo Mercantil de Valencia
REFRESH-INTERVAL;VALUE=DURATION:PT1H
X-Robots-Tag:noindex
X-PUBLISHED-TTL:PT1H
BEGIN:VTIMEZONE
TZID:Europe/Madrid
BEGIN:DAYLIGHT
TZOFFSETFROM:+0100
TZOFFSETTO:+0200
TZNAME:CEST
DTSTART:20210328T010000
END:DAYLIGHT
BEGIN:STANDARD
TZOFFSETFROM:+0200
TZOFFSETTO:+0100
TZNAME:CET
DTSTART:20211031T010000
END:STANDARD
END:VTIMEZONE
BEGIN:VEVENT
DTSTART;TZID=Europe/Madrid:20210504T100000
DTEND;TZID=Europe/Madrid:20210504T193000
DTSTAMP:20260422T021429
CREATED:20210429T100000Z
LAST-MODIFIED:20210429T101209Z
UID:63759-1620122400-1620156600@historico.ateneovalencia.es
SUMMARY:Edición XVII 'Ponte Guapa con el Ateneo': Talleres de Personal Shopper - Sesión 1
DESCRIPTION:Décimo séptima edición del Ciclo "Aula de Moda del Ateneo: Ponte Guapa con el Ateneo. Talleres de Personal Shopper". Talleres organizados por Asesoría de Imagen Personal. Hoy martes 4 de mayo arranca la primera de las clases del taller\, con el Estudio Morfológico. En la Sala Multiusos (séptima planta). \nEstas son las próximas fechas de los Talleres: \n– Martes 11/05/2021. Estudio del Color \n– Martes 18/05/2021. Día del vestido y eventos \n– Martes 25/11/2021. Falda o pantalón \n– Martes 01/06/2021. Complementos y eventos \nHorario a elegir: De 10:00 a 11:30 h. – De 18:00 a 19:30 h. \nPrecio: Ciclo completo: 55 € Socios – 65 € No socios. \nInformación\, Dudas e Inscripciones: Carmen Selva: Teléfono 686.002.933 | email: carmenselva.af@hotmail.com | web: www.cursopersonalshopper.net \nCartel:
URL:https://historico.ateneovalencia.es/evento/edicion-xvii-ponte-guapa-con-el-ateneo-talleres-de-personal-shopper-sesion-1/
LOCATION:Sala Multiusos - Tertulia Taurina
CATEGORIES:Taller Ponte Guapa - Personal Shopper
ATTACH;FMTTYPE=image/jpeg:https://historico.ateneovalencia.es/wp-content/uploads/2021/04/20180507-Aula-Moda-Ateneo-Ponte-Guapa.jpg
ORGANIZER;CN="Asesor%C3%ADa%20de%20Imagen%20Personal%20-%20Carmen%20Selva":MAILTO:carmenselva.af@hotmail.com
END:VEVENT
BEGIN:VEVENT
DTSTART;TZID=Europe/Madrid:20210511T100000
DTEND;TZID=Europe/Madrid:20210511T193000
DTSTAMP:20260422T021429
CREATED:20210429T100409Z
LAST-MODIFIED:20210429T100409Z
UID:63763-1620727200-1620761400@historico.ateneovalencia.es
SUMMARY:Edición XVII 'Ponte Guapa con el Ateneo': Talleres de Personal Shopper - Sesión 2
DESCRIPTION:Décimo séptima edición del Ciclo "Aula de Moda del Ateneo: Ponte Guapa con el Ateneo. Talleres de Personal Shopper". Talleres organizados por Asesoría de Imagen Personal. Hoy martes 11 de mayo arranca la segunda de las clases del taller\, con el Estudio del Color. En la Sala Multiusos (séptima planta). \nEstas son las próximas fechas de los Talleres: \n– Martes 18/05/2021. Día del vestido y eventos \n– Martes 25/11/2021. Falda o pantalón \n– Martes 01/06/2021. Complementos y eventos \nHorario a elegir: De 10:00 a 11:30 h. – De 18:00 a 19:30 h. \nPrecio: Ciclo completo: 55 € Socios – 65 € No socios. \nInformación\, Dudas e Inscripciones: Carmen Selva: Teléfono 686.002.933 | email: carmenselva.af@hotmail.com | web: www.cursopersonalshopper.net \nCartel:
URL:https://historico.ateneovalencia.es/evento/edicion-xvii-ponte-guapa-con-el-ateneo-talleres-de-personal-shopper-sesion-2/
LOCATION:Sala Multiusos - Tertulia Taurina
CATEGORIES:Taller Ponte Guapa - Personal Shopper
ATTACH;FMTTYPE=image/jpeg:https://historico.ateneovalencia.es/wp-content/uploads/2021/04/20180507-Aula-Moda-Ateneo-Ponte-Guapa.jpg
ORGANIZER;CN="Asesor%C3%ADa%20de%20Imagen%20Personal%20-%20Carmen%20Selva":MAILTO:carmenselva.af@hotmail.com
END:VEVENT
BEGIN:VEVENT
DTSTART;TZID=Europe/Madrid:20210518T100000
DTEND;TZID=Europe/Madrid:20210518T193000
DTSTAMP:20260422T021429
CREATED:20210429T100633Z
LAST-MODIFIED:20210429T100701Z
UID:63767-1621332000-1621366200@historico.ateneovalencia.es
SUMMARY:Edición XVII 'Ponte Guapa con el Ateneo': Talleres de Personal Shopper - Sesión 3
DESCRIPTION:Décimo séptima edición del Ciclo "Aula de Moda del Ateneo: Ponte Guapa con el Ateneo. Talleres de Personal Shopper". Talleres organizados por Asesoría de Imagen Personal. Hoy martes 18 de mayo arranca la tercera de las clases del taller\, con el Día del vestido y eventos. En la Sala Multiusos (séptima planta). \nEstas son las próximas fechas de los Talleres: \n– Martes 25/11/2021. Falda o pantalón \n– Martes 01/06/2021. Complementos y eventos \nHorario a elegir: De 10:00 a 11:30 h. – De 18:00 a 19:30 h. \nPrecio: Ciclo completo: 55 € Socios – 65 € No socios. \nInformación\, Dudas e Inscripciones: Carmen Selva: Teléfono 686.002.933 | email: carmenselva.af@hotmail.com | web: www.cursopersonalshopper.net \nCartel:
URL:https://historico.ateneovalencia.es/evento/edicion-xvii-ponte-guapa-con-el-ateneo-talleres-de-personal-shopper-sesion-3/
LOCATION:Sala Multiusos - Tertulia Taurina
CATEGORIES:Taller Ponte Guapa - Personal Shopper
ATTACH;FMTTYPE=image/jpeg:https://historico.ateneovalencia.es/wp-content/uploads/2021/04/20180507-Aula-Moda-Ateneo-Ponte-Guapa.jpg
ORGANIZER;CN="Asesor%C3%ADa%20de%20Imagen%20Personal%20-%20Carmen%20Selva":MAILTO:carmenselva.af@hotmail.com
END:VEVENT
BEGIN:VEVENT
DTSTART;TZID=Europe/Madrid:20210525T100000
DTEND;TZID=Europe/Madrid:20210525T193000
DTSTAMP:20260422T021429
CREATED:20210429T100919Z
LAST-MODIFIED:20210429T100919Z
UID:63770-1621936800-1621971000@historico.ateneovalencia.es
SUMMARY:Edición XVII 'Ponte Guapa con el Ateneo': Talleres de Personal Shopper - Sesión 4
DESCRIPTION:Décimo séptima edición del Ciclo "Aula de Moda del Ateneo: Ponte Guapa con el Ateneo. Talleres de Personal Shopper". Talleres organizados por Asesoría de Imagen Personal. Hoy martes 25 de mayo arranca la cuarta de las clases del taller\, con Falda o pantalón. En la Sala Multiusos (séptima planta). \nEstas es la próxima fecha de los Talleres: \n– Martes 01/06/2021. Complementos y eventos \nHorario a elegir: De 10:00 a 11:30 h. – De 18:00 a 19:30 h. \nPrecio: Ciclo completo: 55 € Socios – 65 € No socios. \nInformación\, Dudas e Inscripciones: Carmen Selva: Teléfono 686.002.933 | email: carmenselva.af@hotmail.com | web: www.cursopersonalshopper.net \nCartel:
URL:https://historico.ateneovalencia.es/evento/edicion-xvii-ponte-guapa-con-el-ateneo-talleres-de-personal-shopper-sesion-4/
LOCATION:Sala Multiusos - Tertulia Taurina
CATEGORIES:Taller Ponte Guapa - Personal Shopper
ATTACH;FMTTYPE=image/jpeg:https://historico.ateneovalencia.es/wp-content/uploads/2021/04/20180507-Aula-Moda-Ateneo-Ponte-Guapa.jpg
ORGANIZER;CN="Asesor%C3%ADa%20de%20Imagen%20Personal%20-%20Carmen%20Selva":MAILTO:carmenselva.af@hotmail.com
END:VEVENT
END:VCALENDAR