BEGIN:VCALENDAR
VERSION:2.0
PRODID:-//Ateneo Mercantil de Valencia - ECPv6.0.4//NONSGML v1.0//EN
CALSCALE:GREGORIAN
METHOD:PUBLISH
X-ORIGINAL-URL:https://historico.ateneovalencia.es
X-WR-CALDESC:Eventos para Ateneo Mercantil de Valencia
REFRESH-INTERVAL;VALUE=DURATION:PT1H
X-Robots-Tag:noindex
X-PUBLISHED-TTL:PT1H
BEGIN:VTIMEZONE
TZID:Europe/Madrid
BEGIN:DAYLIGHT
TZOFFSETFROM:+0100
TZOFFSETTO:+0200
TZNAME:CEST
DTSTART:20200329T010000
END:DAYLIGHT
BEGIN:STANDARD
TZOFFSETFROM:+0200
TZOFFSETTO:+0100
TZNAME:CET
DTSTART:20201025T010000
END:STANDARD
END:VTIMEZONE
BEGIN:VEVENT
DTSTART;TZID=Europe/Madrid:20200203T100000
DTEND;TZID=Europe/Madrid:20200203T193000
DTSTAMP:20260422T175106
CREATED:20200108T140034Z
LAST-MODIFIED:20200116T093113Z
UID:55237-1580724000-1580758200@historico.ateneovalencia.es
SUMMARY:Edición XV 'Ponte Guapa con el Ateneo': Talleres de Personal Shopper - Sesión 2
DESCRIPTION:Décimo quinta edición del Ciclo "Aula de Moda del Ateneo: Ponte Guapa con el Ateneo. Talleres de Personal Shopper". Talleres organizados por Asesoría de Imagen Personal. Hoy lunes 3 de febrero arranca la segunda de las clases del taller\, con el Estudio del Color. En la Sala Multiusos - Tertulia Taurina. \nEstas son las próximas fechas de los Talleres: \n– Lunes 10/02/2020. Día del vestido y eventos \n– Lunes 17/02/2020. Falda o pantalón \n– Lunes 24/02/2020. Complementos y eventos \nHorario a elegir: De 10:00 a 11:30 h. – De 18:00 a 19:30 h. \nPrecio: Ciclo completo: 55 € Socios – 65 € No socios. \nInformación\, Dudas e Inscripciones: Carmen Selva: Teléfono 686.002.933 / email: carmenselva.af@hotmail.com / www.cursopersonalshopper.net \nCartel:
URL:https://historico.ateneovalencia.es/evento/edicion-xv-ponte-guapa-con-el-ateneo-talleres-de-personal-shopper-sesion-2/
LOCATION:Sala Multiusos - Tertulia Taurina
CATEGORIES:Taller Ponte Guapa - Personal Shopper
ATTACH;FMTTYPE=image/jpeg:https://historico.ateneovalencia.es/wp-content/uploads/2020/01/20180507-Aula-Moda-Ateneo-Ponte-Guapa.jpg
ORGANIZER;CN="Asesor%C3%ADa%20de%20Imagen%20Personal%20-%20Carmen%20Selva":MAILTO:carmenselva.af@hotmail.com
END:VEVENT
BEGIN:VEVENT
DTSTART;TZID=Europe/Madrid:20200210T100000
DTEND;TZID=Europe/Madrid:20200210T193000
DTSTAMP:20260422T175106
CREATED:20200108T140340Z
LAST-MODIFIED:20200116T100929Z
UID:55239-1581328800-1581363000@historico.ateneovalencia.es
SUMMARY:Edición XV 'Ponte Guapa con el Ateneo': Talleres de Personal Shopper - Sesión 3
DESCRIPTION:Décimo quinta edición del Ciclo "Aula de Moda del Ateneo: Ponte Guapa con el Ateneo. Talleres de Personal Shopper". Talleres organizados por Asesoría de Imagen Personal. Hoy lunes 10 de febrero arranca la tercera de las clases del taller\, con el Día del vestido y eventos. En la Sala Multiusos - Tertulia Taurina. \nEstas son las próximas fechas de los Talleres: \n– Lunes 17/02/2020. Falda o pantalón \n– Lunes 24/02/2020. Complementos y eventos \nHorario a elegir: De 10:00 a 11:30 h. – De 18:00 a 19:30 h. \nPrecio: Ciclo completo: 55 € Socios – 65 € No socios. \nInformación\, Dudas e Inscripciones: Carmen Selva: Teléfono 686.002.933 / email: carmenselva.af@hotmail.com / www.cursopersonalshopper.net \nCartel:
URL:https://historico.ateneovalencia.es/evento/edicion-xv-ponte-guapa-con-el-ateneo-talleres-de-personal-shopper-sesion-3/
LOCATION:Sala Multiusos - Tertulia Taurina
CATEGORIES:Taller Ponte Guapa - Personal Shopper
ATTACH;FMTTYPE=image/jpeg:https://historico.ateneovalencia.es/wp-content/uploads/2020/01/20180507-Aula-Moda-Ateneo-Ponte-Guapa.jpg
ORGANIZER;CN="Asesor%C3%ADa%20de%20Imagen%20Personal%20-%20Carmen%20Selva":MAILTO:carmenselva.af@hotmail.com
END:VEVENT
BEGIN:VEVENT
DTSTART;TZID=Europe/Madrid:20200217T100000
DTEND;TZID=Europe/Madrid:20200217T193000
DTSTAMP:20260422T175106
CREATED:20200108T140552Z
LAST-MODIFIED:20200116T101212Z
UID:55241-1581933600-1581967800@historico.ateneovalencia.es
SUMMARY:Edición XV 'Ponte Guapa con el Ateneo': Talleres de Personal Shopper - Sesión 4
DESCRIPTION:Décimo quinta edición del Ciclo "Aula de Moda del Ateneo: Ponte Guapa con el Ateneo. Talleres de Personal Shopper". Talleres organizados por Asesoría de Imagen Personal. Hoy lunes 17 de febrero arranca la cuarta de las clases del taller\, con la Falda o pantalón. En la Sala Multiusos - Tertulia Taurina. \nEsta es la próxima fecha de los Talleres: \n– Lunes 24/02/2020. Complementos y eventos \nHorario a elegir: De 10:00 a 11:30 h. – De 18:00 a 19:30 h. \nPrecio: Ciclo completo: 55 € Socios – 65 € No socios. \nInformación\, Dudas e Inscripciones: Carmen Selva: Teléfono 686.002.933 / email: carmenselva.af@hotmail.com / www.cursopersonalshopper.net \nCartel:
URL:https://historico.ateneovalencia.es/evento/edicion-xv-ponte-guapa-con-el-ateneo-talleres-de-personal-shopper-sesion-4/
LOCATION:Sala Multiusos - Tertulia Taurina
CATEGORIES:Taller Ponte Guapa - Personal Shopper
ATTACH;FMTTYPE=image/jpeg:https://historico.ateneovalencia.es/wp-content/uploads/2020/01/20180507-Aula-Moda-Ateneo-Ponte-Guapa.jpg
ORGANIZER;CN="Asesor%C3%ADa%20de%20Imagen%20Personal%20-%20Carmen%20Selva":MAILTO:carmenselva.af@hotmail.com
END:VEVENT
BEGIN:VEVENT
DTSTART;TZID=Europe/Madrid:20200224T100000
DTEND;TZID=Europe/Madrid:20200224T193000
DTSTAMP:20260422T175106
CREATED:20200108T140741Z
LAST-MODIFIED:20200116T101630Z
UID:55243-1582538400-1582572600@historico.ateneovalencia.es
SUMMARY:Edición XV 'Ponte Guapa con el Ateneo': Talleres de Personal Shopper - Sesión 5
DESCRIPTION:Décimo quinta edición del Ciclo "Aula de Moda del Ateneo: Ponte Guapa con el Ateneo. Talleres de Personal Shopper". Talleres organizados por Asesoría de Imagen Personal. Hoy lunes 24 de febrero arranca la última de las clases del taller\, con la Complementos y eventos. En la Sala Multiusos - Tertulia Taurina. \nHorario a elegir: De 10:00 a 11:30 h. – De 18:00 a 19:30 h. \nPrecio: Ciclo completo: 55 € Socios – 65 € No socios. \nInformación\, Dudas e Inscripciones: Carmen Selva: Teléfono 686.002.933 / email: carmenselva.af@hotmail.com / www.cursopersonalshopper.net \nCartel:
URL:https://historico.ateneovalencia.es/evento/edicion-xv-ponte-guapa-con-el-ateneo-talleres-de-personal-shopper-sesion-5/
LOCATION:Sala Multiusos - Tertulia Taurina
CATEGORIES:Taller Ponte Guapa - Personal Shopper
ATTACH;FMTTYPE=image/jpeg:https://historico.ateneovalencia.es/wp-content/uploads/2020/01/20180507-Aula-Moda-Ateneo-Ponte-Guapa.jpg
ORGANIZER;CN="Asesor%C3%ADa%20de%20Imagen%20Personal%20-%20Carmen%20Selva":MAILTO:carmenselva.af@hotmail.com
END:VEVENT
END:VCALENDAR