BEGIN:VCALENDAR
VERSION:2.0
PRODID:-//Ateneo Mercantil de Valencia - ECPv6.0.4//NONSGML v1.0//EN
CALSCALE:GREGORIAN
METHOD:PUBLISH
X-ORIGINAL-URL:https://historico.ateneovalencia.es
X-WR-CALDESC:Eventos para Ateneo Mercantil de Valencia
REFRESH-INTERVAL;VALUE=DURATION:PT1H
X-Robots-Tag:noindex
X-PUBLISHED-TTL:PT1H
BEGIN:VTIMEZONE
TZID:Europe/Madrid
BEGIN:DAYLIGHT
TZOFFSETFROM:+0100
TZOFFSETTO:+0200
TZNAME:CEST
DTSTART:20220327T010000
END:DAYLIGHT
BEGIN:STANDARD
TZOFFSETFROM:+0200
TZOFFSETTO:+0100
TZNAME:CET
DTSTART:20221030T010000
END:STANDARD
END:VTIMEZONE
BEGIN:VEVENT
DTSTART;TZID=Europe/Madrid:20221018T103000
DTEND;TZID=Europe/Madrid:20221018T133000
DTSTAMP:20260423T054509
CREATED:20220927T112135Z
LAST-MODIFIED:20221007T085728Z
UID:71247-1666089000-1666099800@historico.ateneovalencia.es
SUMMARY:III Taller de Escritura Creativa - Curso Elemental y Avanzado
DESCRIPTION:La Fundación del Ateneo Mercantil de la CV presenta el III Taller de Escritura Creativa que\, bajo el título: "Cuéntaselo a Cervantes" pretende adentrarse en el mundo de la creación literaria. Hay dos modalidades de curso\, uno que es el Elemental y otro el Avanzado. Asimismo\, el taller contará con 7 sesiones y arrancará el próximo martes 18 de octubre hasta el 13 de diciembre de 2022. Se realizará todos los martes de 10.30 a 11.45 horas (Elemental) y de 12 a 13.30 horas (Avanzado) en la Sala Multiusos (7ª planta del Ateneo Mercantil) y será ofrecido por la profesora y escritora\, Dª. María Jesús Puchalt. \nInscripciones en Secretaría del Ateneo Mercantil (5ª planta)\n\nEn el complicado escenario que nos ha tocado vivir hay que encontrar actividades que nos hagan crecer como seres humanos y que\, al mismo tiempo\, nos aporten algunos "momentos felices"\, momentos en los que nuestro corazón se sienta pleno y consiga desnudarse. Un respiro\, un paréntesis en el que podamos recargarnos de nuevo para hacer frente a nuestro día a día. En la actualidad\, como ha ocurrido a lo largo de la Historia de la Humanidad en los tiempos de crisis\, el ser humano se refugia en sí mismo\, se repliega por el miedo que le causa el dolor y\, sobre todo\, la incertidumbre. \nSon de sobra conocidas las etapas en las que el hombre consigue desprenderse de ese caparazón que le atenaza volviendo su mirada a cualquier manifestación del arte\, en definitiva\, a la belleza.\nPor ello\, este pequeño curso propone una nueva fórmula adaptada al momento en el que nos encontramos. Son muchos los talleres de escritura que ofrece el mercado literario\, todos ellos con muy buena acogida y una incuestionable entrega por parte de los profesionales que los imparten. Sin embargo\, nosotros queremos presentar algo diferente. \nAdemás de ofrecer un espacio en el que se oriente a los participantes sobre las cuestiones básicas de la creación literaria: estructura del texto\, la voz narrativa\, el espacio y el tiempo\, los temas\, la descripción\, la importancia de los personajes\, el complicado mundo de los diálogos y todo aquello que pueda surgir en unas clases dinámicas y participativas. En cada sesión ofreceremos un recorrido elemental por las diferentes etapas de la literatura con los movimientos que las caracterizan. \nEl Renacimiento\, El Barroco\, La Ilustración\, El Romanticismo\, El Realismo y Naturalismo\, El Modernismo\, La Generación del 98 y El Grupo del 27\, ofrecen una perspectiva fundamental para todos aquellos que quieran mejorar su capacidad creativa. No debemos olvidar que los clásicos también tienen sus "trucos" y hay que saber leer y entender para poder escribir. \nEn cada una de las sesiones\, leeremos pequeños fragmentos de todos ellos con la finalidad de "abrirnos" a otras épocas y otros mundos que\, en definitiva\, no son tan diferentes al nuestro y constituyen el embrión del devenir de la historia de la literatura actual. \nEn principio\, puede resultar extraño decir que también hablaremos de Platón y de Aristóteles\, pero les aseguro que será divertido… con esas pequeñas referencias los asistentes podrán entender muchas de las claves que utilizamos en la actualidad. \nDescubriremos la belleza con los sonetos de Garcilaso y nos adentraremos en el conceptismo de Quevedo\, la oscuridad de Góngora y el maravilloso vitalismo de Lope de Vega. Así llegaremos a Bécquer\, a Doña Emilia Pardo Bazán\, a Machado y a Lorca. \nTodo ello lo completaremos con las aportaciones prácticas que cada semana tendrán que realizar los asistentes\, según las indicaciones que se ofrezcan la semana anterior. \nPara cada sesión tendrán que preparar dos trabajos. Uno formal\, que consistirá en una redacción\, relacionada con distintos temas y propuestas y otro informal\, en el que redactarán unas ideas o pensamientos concatenados en el momento determinado que ellos elijan. \nLa escritura es un acto individual\, un acto personal que debe producir placer y sufrimiento al mismo tiempo. Esa es una de las claves que llegarán a entender\, pero también es un desbordamiento\, por ello\, otro de nuestros objetivos es ayudarles a que desaparezca el "pudor" que uno suele tener al hacer pública su creación. Confianza\, seguridad\, técnica y un poquito de inspiración es todo cuanto se necesita para enfrentarse a una hoja en blanco\, pero la inspiración no llega sola… ¡hay que buscarla! y eso es lo que haremos poco a poco. \nEn cada encuentro dedicaremos unos minutos a ampliar vocabulario\, a "buscar" el adjetivo perfecto\, a los nuevos términos introducidos por la RAE. Este apartado siempre es muy dinámico\, crea controversias\, discusiones y\, por tanto\, enriquece y resulta tremendamente divertido. \nComo podréis comprobar\, se trata de una propuesta amplia que no se limita a un aspecto\, sino que conecta distintos ámbitos: escritura\, lectura\, búsqueda\, conversación\, debate… y todo esto lo haremos sin que resulte tedioso ni difícil\, al contrario\, con esa "difícil facilidad" que ellos mismos encontrarán. Sin que olviden en ningún momento que: "Nunca mucho costó poco". (Cancionero de Baena) \nCurso 2022-2223\nTras haber realizado en el ejercicio anterior\, curso 2021-2022\, dos ediciones del Taller Elemental de escritura creativa y una edición del Taller Avanzado de escritura\, proponemos su continuidad\, convocándose así lo que sería la tercera edición del Taller de escritura elemental y la segunda del taller avanzado.  \nEn el Taller de Escritura Elemental analizaremos aspectos como: \n\nLos motivos que nos llevan a escribir.\nDiferencias entre trama\, tema\, estructura\, argumento.\nEl espacio y el tiempo.\nLos personajes.\nLos diálogos.\nLa puntuación.\nUn buen inicio y final...\n\nEn el Taller de Escritura Avanzada estudiaremos: \n\nLos errores más comunes a la hora de enfrentarse a un texto.\nAlgunos de los últimos cambios establecidos por la RAE.\nCómo aprender a corregir nuestros propios escritos.\nEjercicios continuos de redacción y corrección a lo largo de todas las sesiones.\nPreparación para concursos literarios.\n\nAmbos talleres se celebrarán los martes\, a partir del martes 11 de octubre y hasta el 29 de noviembre. En total siete sesiones de\, entre una hora y cuarto y una hora y media\, es decir 14 clases y un total de 17 horas entre ambos. \nLos horarios propuestos son los martes de 10.30 a 11\,45 para el Taller de Escritura Elemental y\, a continuación\, de 12.00 a 13.30\, sin que exista problema para alterar el horario de los grupos. \n\nTaller de Escritura Craetiva - Curso Elemental y Curso Avanzado\nSala Multiusos (7ª planta)\nProfesora: Mª Jesús Puchalt\, profesora y escritora\nPrecio: 60€ (Socios) - 80 € (No Socios)\nFechas: De 1 de octubre al 29 de noviembre\nTodos los Martes de 10.30 a 11.45 horas (Elemental) y de 12 a 13.30 horas (Avanzado)\n\nCartel:
URL:https://historico.ateneovalencia.es/evento/iii-taller-de-escritura-creativa-curso-elemental-y-avanzado/
LOCATION:Sala Multiusos - Tertulia Taurina
CATEGORIES:Taller literario
ATTACH;FMTTYPE=image/jpeg:https://historico.ateneovalencia.es/wp-content/uploads/2022/09/20211005-TALLER-LITERARIO.jpg
END:VEVENT
END:VCALENDAR